BEGIN:VCALENDAR
VERSION:2.0
PRODID:-//Hof Ohana - ECPv6.15.20//NONSGML v1.0//EN
CALSCALE:GREGORIAN
METHOD:PUBLISH
X-ORIGINAL-URL:https://hofohana.de
X-WR-CALDESC:Veranstaltungen für Hof Ohana
REFRESH-INTERVAL;VALUE=DURATION:PT1H
X-Robots-Tag:noindex
X-PUBLISHED-TTL:PT1H
BEGIN:VTIMEZONE
TZID:Europe/Berlin
BEGIN:DAYLIGHT
TZOFFSETFROM:+0100
TZOFFSETTO:+0200
TZNAME:CEST
DTSTART:20230326T010000
END:DAYLIGHT
BEGIN:STANDARD
TZOFFSETFROM:+0200
TZOFFSETTO:+0100
TZNAME:CET
DTSTART:20231029T010000
END:STANDARD
BEGIN:DAYLIGHT
TZOFFSETFROM:+0100
TZOFFSETTO:+0200
TZNAME:CEST
DTSTART:20240331T010000
END:DAYLIGHT
BEGIN:STANDARD
TZOFFSETFROM:+0200
TZOFFSETTO:+0100
TZNAME:CET
DTSTART:20241027T010000
END:STANDARD
BEGIN:DAYLIGHT
TZOFFSETFROM:+0100
TZOFFSETTO:+0200
TZNAME:CEST
DTSTART:20250330T010000
END:DAYLIGHT
BEGIN:STANDARD
TZOFFSETFROM:+0200
TZOFFSETTO:+0100
TZNAME:CET
DTSTART:20251026T010000
END:STANDARD
BEGIN:DAYLIGHT
TZOFFSETFROM:+0100
TZOFFSETTO:+0200
TZNAME:CEST
DTSTART:20260329T010000
END:DAYLIGHT
BEGIN:STANDARD
TZOFFSETFROM:+0200
TZOFFSETTO:+0100
TZNAME:CET
DTSTART:20261025T010000
END:STANDARD
END:VTIMEZONE
BEGIN:VEVENT
DTSTART;TZID=Europe/Berlin:20251113T180000
DTEND;TZID=Europe/Berlin:20251113T213000
DTSTAMP:20260420T053617
CREATED:20250218T154006Z
LAST-MODIFIED:20251015T100542Z
UID:10000890-1763056800-1763069400@hofohana.de
SUMMARY:Erkennen von Pferdepersönlichkeitstypen zur Optimierung der Ausbildung
DESCRIPTION:Neurowissenschaftliche Erkenntnisse zur besseren Kommunikation mit PferdenVerstehen statt Missverstehen – Wie Pferde wirklich denkenEin interaktiver Vortrag mit Heike von HeymannFür alle\, die Pferde lieben\, besitzen\, reiten oder ausbilden Die Geschichte der Pferde reicht 56 Millionen Jahre zurück – doch erst seit etwa 5500 Jahren leben Mensch und Pferd in enger Gemeinschaft. Eine Verbindung zwischen Fluchttier und Raubtier\, die naturgemäß voller Missverständnisse steckt. Auch wenn wir sie lieben – allzu oft verstehen wir Pferde falsch. Doch die moderne Gehirnforschung bringt endlich Licht ins Dunkel. Aktuelle Erkenntnisse der Neurowissenschaft liefern uns heute Erklärungen für das Verhalten unserer Pferde\, die es in dieser Tiefe bislang nicht gab. Bestseller wie „Horse Brain\, Human Brain“ von Janet Jones haben eindrucksvoll gezeigt\, wie anders Pferde denken – und warum genau das der Schlüssel zu einer besseren Kommunikation ist. Auch Heike von Heymann widmet sich diesem faszinierenden Thema: Mit Leidenschaft\, Sachverstand und einem großen Repertoire an Praxisbeispielen eröffnet sie einen völlig neuen Blick auf das Wesen Pferd. 🧠 Wie funktioniert ein Pferdegehirn – und worin unterscheidet es sich grundlegend vom menschlichen?👁️ Welche Rolle spielen Sinnesorgane\, Instinkte und Vererbung im täglichen Umgang?🐎 Wie lassen sich Verhaltensweisen erklären\, die wir vielleicht mal als „verarschen“\, „hysterisch“ oder „unlogisch“ abtun? Doch Achtung: Dies ist kein trockener Frontalvortrag!Heike fordert auch die Gehirne ihrer Gäste – mit interaktiven Fragen\, anschaulichen Bildern\, Filmsequenzen und vielen Beispielen aus der Praxis. Kein Fachchinesisch\, sondern fundiertes Wissen auf Augenhöhe – lebendig\, verständlich und immer mit einem Augenzwinkern. ➡️ Was du mitnimmst: Tiefes Verständnis für die Denk- und Verhaltensweise von Pferden Mehr Klarheit im täglichen Umgang Neue Perspektiven für pferdegerechte Ausbildung Einen unterhaltsamen\, lehrreichen Abend voller Aha-Momente Neurowissenschaft macht Spaß – besonders\, wenn sie Brücken schlägt zwischen Mensch und Pferd. 👩‍🏫 Über die Referentin: Heike von HeymannSeit 2010 ist Heike als Natural Horsemanship-Trainerin\, Reitlehrerin und Autorin aktiv. Aufgewachsen mit Pferden\, lebt sie heute mit ihrer Tochter Mona und sechs Pferden auf Hof Ohana im Norden Hamburgs.Sie vereint klassische Reitlehre\, Natural Horsemanship\, Horsenalities und aktuelle Erkenntnisse aus der Gehirnforschung – theoretisch fundiert und praktisch erprobt. 🤝 Wir freuen uns auf erkenntnisreiche Stunden!Heike von Heymann & das Hof Ohana Team 								\n				\n					\n		\n					\n		\n				\n						\n					\n			\n						\n				\n									  Hof Ohana – Bildung für Mensch & PferdAlte Landstraße 111\,  22941 Bargteheide  04532-2672767    Preise inkl. 19% MwSt.20\,- € Vorkasse 25\,- € Abendkasse   Hier geht’s zur online Anmeldung    E-Mail: heike@vonheymann.net  Mobil Heike: 0170-8990555   📌 Rechtlicher HinweisDieser Vortrag steht in keiner Verbindung zur Autorin oder zum Verlag des Buches „Horse Brain\, Human Brain“. Der Titel wird ausschließlich als inhaltlicher Bezugspunkt genannt. Es handelt sich um eine eigenständige Veranstaltung\, inspiriert von den neurowissenschaftlichen Themen\, die auch im Buch behandelt werden.
URL:https://hofohana.de/veranstaltung/erkennen-von-pferdepersoenlichkeitstypen-zur-optimierung-der-ausbildung-10
LOCATION:Hof Ohana
CATEGORIES:Horsemanship,Theorie
ATTACH;FMTTYPE=image/jpeg:https://hofohana.de/wp-content/uploads/2025/02/16513_image_480552450_1181665183939104_90599579717730341_n.jpg
END:VEVENT
BEGIN:VEVENT
DTSTART;TZID=Europe/Berlin:20250614T090000
DTEND;TZID=Europe/Berlin:20250615T160000
DTSTAMP:20260420T053617
CREATED:20250224T103456Z
LAST-MODIFIED:20250509T111532Z
UID:10000895-1749891600-1750003200@hofohana.de
SUMMARY:Von Horsemanship zur Hohen Schule - Kurs mit Silke Vallentin
DESCRIPTION:Neurowissenschaftliche Erkenntnisse zur besseren Kommunikation mit PferdenVerstehen statt Missverstehen – Wie Pferde wirklich denkenEin interaktiver Vortrag mit Heike von HeymannFür alle\, die Pferde lieben\, besitzen\, reiten oder ausbilden Die Geschichte der Pferde reicht 56 Millionen Jahre zurück – doch erst seit etwa 5500 Jahren leben Mensch und Pferd in enger Gemeinschaft. Eine Verbindung zwischen Fluchttier und Raubtier\, die naturgemäß voller Missverständnisse steckt. Auch wenn wir sie lieben – allzu oft verstehen wir Pferde falsch. Doch die moderne Gehirnforschung bringt endlich Licht ins Dunkel. Aktuelle Erkenntnisse der Neurowissenschaft liefern uns heute Erklärungen für das Verhalten unserer Pferde\, die es in dieser Tiefe bislang nicht gab. Bestseller wie „Horse Brain\, Human Brain“ von Janet Jones haben eindrucksvoll gezeigt\, wie anders Pferde denken – und warum genau das der Schlüssel zu einer besseren Kommunikation ist. Auch Heike von Heymann widmet sich diesem faszinierenden Thema: Mit Leidenschaft\, Sachverstand und einem großen Repertoire an Praxisbeispielen eröffnet sie einen völlig neuen Blick auf das Wesen Pferd. 🧠 Wie funktioniert ein Pferdegehirn – und worin unterscheidet es sich grundlegend vom menschlichen?👁️ Welche Rolle spielen Sinnesorgane\, Instinkte und Vererbung im täglichen Umgang?🐎 Wie lassen sich Verhaltensweisen erklären\, die wir vielleicht mal als „verarschen“\, „hysterisch“ oder „unlogisch“ abtun? Doch Achtung: Dies ist kein trockener Frontalvortrag!Heike fordert auch die Gehirne ihrer Gäste – mit interaktiven Fragen\, anschaulichen Bildern\, Filmsequenzen und vielen Beispielen aus der Praxis. Kein Fachchinesisch\, sondern fundiertes Wissen auf Augenhöhe – lebendig\, verständlich und immer mit einem Augenzwinkern. ➡️ Was du mitnimmst: Tiefes Verständnis für die Denk- und Verhaltensweise von Pferden Mehr Klarheit im täglichen Umgang Neue Perspektiven für pferdegerechte Ausbildung Einen unterhaltsamen\, lehrreichen Abend voller Aha-Momente Neurowissenschaft macht Spaß – besonders\, wenn sie Brücken schlägt zwischen Mensch und Pferd. 👩‍🏫 Über die Referentin: Heike von HeymannSeit 2010 ist Heike als Natural Horsemanship-Trainerin\, Reitlehrerin und Autorin aktiv. Aufgewachsen mit Pferden\, lebt sie heute mit ihrer Tochter Mona und sechs Pferden auf Hof Ohana im Norden Hamburgs.Sie vereint klassische Reitlehre\, Natural Horsemanship\, Horsenalities und aktuelle Erkenntnisse aus der Gehirnforschung – theoretisch fundiert und praktisch erprobt. 🤝 Wir freuen uns auf erkenntnisreiche Stunden!Heike von Heymann & das Hof Ohana Team 								\n				\n					\n		\n					\n		\n				\n						\n					\n			\n						\n				\n									  Hof Ohana – Bildung für Mensch & PferdAlte Landstraße 111\,  22941 Bargteheide  04532-2672767    Preise inkl. 19% MwSt.20\,- € Vorkasse 25\,- € Abendkasse   Hier geht’s zur online Anmeldung    E-Mail: heike@vonheymann.net  Mobil Heike: 0170-8990555   📌 Rechtlicher HinweisDieser Vortrag steht in keiner Verbindung zur Autorin oder zum Verlag des Buches „Horse Brain\, Human Brain“. Der Titel wird ausschließlich als inhaltlicher Bezugspunkt genannt. Es handelt sich um eine eigenständige Veranstaltung\, inspiriert von den neurowissenschaftlichen Themen\, die auch im Buch behandelt werden.
URL:https://hofohana.de/veranstaltung/von-horsemanship-zur-hohen-schule-kurs-mit-silke-vallentin
LOCATION:Hof Ohana
CATEGORIES:Bodenarbeit,Hohe Schule,Horsemanship,Klassische Barocke Reitweise,Theorie
ATTACH;FMTTYPE=image/jpeg:https://hofohana.de/wp-content/uploads/2025/02/16532_image_480757303_1186387490133540_4953857648100426676_n.jpg
END:VEVENT
BEGIN:VEVENT
DTSTART;TZID=Europe/Berlin:20250515T180000
DTEND;TZID=Europe/Berlin:20250515T180000
DTSTAMP:20260420T053617
CREATED:20250423T104411Z
LAST-MODIFIED:20250509T113547Z
UID:10000900-1747332000-1747332000@hofohana.de
SUMMARY:Neurowissenschaftliche Erkenntnisse zur besseren Kommunikation mit Pferden
DESCRIPTION:Neurowissenschaftliche Erkenntnisse zur besseren Kommunikation mit PferdenVerstehen statt Missverstehen – Wie Pferde wirklich denkenEin interaktiver Vortrag mit Heike von HeymannFür alle\, die Pferde lieben\, besitzen\, reiten oder ausbilden Die Geschichte der Pferde reicht 56 Millionen Jahre zurück – doch erst seit etwa 5500 Jahren leben Mensch und Pferd in enger Gemeinschaft. Eine Verbindung zwischen Fluchttier und Raubtier\, die naturgemäß voller Missverständnisse steckt. Auch wenn wir sie lieben – allzu oft verstehen wir Pferde falsch. Doch die moderne Gehirnforschung bringt endlich Licht ins Dunkel. Aktuelle Erkenntnisse der Neurowissenschaft liefern uns heute Erklärungen für das Verhalten unserer Pferde\, die es in dieser Tiefe bislang nicht gab. Bestseller wie „Horse Brain\, Human Brain“ von Janet Jones haben eindrucksvoll gezeigt\, wie anders Pferde denken – und warum genau das der Schlüssel zu einer besseren Kommunikation ist. Auch Heike von Heymann widmet sich diesem faszinierenden Thema: Mit Leidenschaft\, Sachverstand und einem großen Repertoire an Praxisbeispielen eröffnet sie einen völlig neuen Blick auf das Wesen Pferd. 🧠 Wie funktioniert ein Pferdegehirn – und worin unterscheidet es sich grundlegend vom menschlichen?👁️ Welche Rolle spielen Sinnesorgane\, Instinkte und Vererbung im täglichen Umgang?🐎 Wie lassen sich Verhaltensweisen erklären\, die wir vielleicht mal als „verarschen“\, „hysterisch“ oder „unlogisch“ abtun? Doch Achtung: Dies ist kein trockener Frontalvortrag!Heike fordert auch die Gehirne ihrer Gäste – mit interaktiven Fragen\, anschaulichen Bildern\, Filmsequenzen und vielen Beispielen aus der Praxis. Kein Fachchinesisch\, sondern fundiertes Wissen auf Augenhöhe – lebendig\, verständlich und immer mit einem Augenzwinkern. ➡️ Was du mitnimmst: Tiefes Verständnis für die Denk- und Verhaltensweise von Pferden Mehr Klarheit im täglichen Umgang Neue Perspektiven für pferdegerechte Ausbildung Einen unterhaltsamen\, lehrreichen Abend voller Aha-Momente Neurowissenschaft macht Spaß – besonders\, wenn sie Brücken schlägt zwischen Mensch und Pferd. 👩‍🏫 Über die Referentin: Heike von HeymannSeit 2010 ist Heike als Natural Horsemanship-Trainerin\, Reitlehrerin und Autorin aktiv. Aufgewachsen mit Pferden\, lebt sie heute mit ihrer Tochter Mona und sechs Pferden auf Hof Ohana im Norden Hamburgs.Sie vereint klassische Reitlehre\, Natural Horsemanship\, Horsenalities und aktuelle Erkenntnisse aus der Gehirnforschung – theoretisch fundiert und praktisch erprobt. 🤝 Wir freuen uns auf erkenntnisreiche Stunden!Heike von Heymann & das Hof Ohana Team 								\n				\n					\n		\n					\n		\n				\n						\n					\n			\n						\n				\n									  Hof Ohana – Bildung für Mensch & PferdAlte Landstraße 111\,  22941 Bargteheide  04532-2672767    Preise inkl. 19% MwSt.20\,- € Vorkasse 25\,- € Abendkasse   Hier geht’s zur online Anmeldung    E-Mail: heike@vonheymann.net  Mobil Heike: 0170-8990555   📌 Rechtlicher HinweisDieser Vortrag steht in keiner Verbindung zur Autorin oder zum Verlag des Buches „Horse Brain\, Human Brain“. Der Titel wird ausschließlich als inhaltlicher Bezugspunkt genannt. Es handelt sich um eine eigenständige Veranstaltung\, inspiriert von den neurowissenschaftlichen Themen\, die auch im Buch behandelt werden.
URL:https://hofohana.de/veranstaltung/neurowissenschaftliche-erkenntnisse-zur-besseren-kommunikation-mit-pferden
LOCATION:Hof Ohana
CATEGORIES:Theorie
ATTACH;FMTTYPE=image/jpeg:https://hofohana.de/wp-content/uploads/2025/04/16589_image_495495456_1251580793614209_1628452124630115501_n.jpg
ORGANIZER;CN="Hof Ohana - Bildung f%C3%BCr Mensch & Pferd":MAILTO:team@hofohana.de
END:VEVENT
BEGIN:VEVENT
DTSTART;TZID=Europe/Berlin:20250417T180000
DTEND;TZID=Europe/Berlin:20250417T210000
DTSTAMP:20260420T053617
CREATED:20250207T234725Z
LAST-MODIFIED:20250208T001710Z
UID:10000889-1744912800-1744923600@hofohana.de
SUMMARY:Arien Aguilar «Entstehung einer Sprache Demo Tour 2025»
DESCRIPTION:Neurowissenschaftliche Erkenntnisse zur besseren Kommunikation mit PferdenVerstehen statt Missverstehen – Wie Pferde wirklich denkenEin interaktiver Vortrag mit Heike von HeymannFür alle\, die Pferde lieben\, besitzen\, reiten oder ausbilden Die Geschichte der Pferde reicht 56 Millionen Jahre zurück – doch erst seit etwa 5500 Jahren leben Mensch und Pferd in enger Gemeinschaft. Eine Verbindung zwischen Fluchttier und Raubtier\, die naturgemäß voller Missverständnisse steckt. Auch wenn wir sie lieben – allzu oft verstehen wir Pferde falsch. Doch die moderne Gehirnforschung bringt endlich Licht ins Dunkel. Aktuelle Erkenntnisse der Neurowissenschaft liefern uns heute Erklärungen für das Verhalten unserer Pferde\, die es in dieser Tiefe bislang nicht gab. Bestseller wie „Horse Brain\, Human Brain“ von Janet Jones haben eindrucksvoll gezeigt\, wie anders Pferde denken – und warum genau das der Schlüssel zu einer besseren Kommunikation ist. Auch Heike von Heymann widmet sich diesem faszinierenden Thema: Mit Leidenschaft\, Sachverstand und einem großen Repertoire an Praxisbeispielen eröffnet sie einen völlig neuen Blick auf das Wesen Pferd. 🧠 Wie funktioniert ein Pferdegehirn – und worin unterscheidet es sich grundlegend vom menschlichen?👁️ Welche Rolle spielen Sinnesorgane\, Instinkte und Vererbung im täglichen Umgang?🐎 Wie lassen sich Verhaltensweisen erklären\, die wir vielleicht mal als „verarschen“\, „hysterisch“ oder „unlogisch“ abtun? Doch Achtung: Dies ist kein trockener Frontalvortrag!Heike fordert auch die Gehirne ihrer Gäste – mit interaktiven Fragen\, anschaulichen Bildern\, Filmsequenzen und vielen Beispielen aus der Praxis. Kein Fachchinesisch\, sondern fundiertes Wissen auf Augenhöhe – lebendig\, verständlich und immer mit einem Augenzwinkern. ➡️ Was du mitnimmst: Tiefes Verständnis für die Denk- und Verhaltensweise von Pferden Mehr Klarheit im täglichen Umgang Neue Perspektiven für pferdegerechte Ausbildung Einen unterhaltsamen\, lehrreichen Abend voller Aha-Momente Neurowissenschaft macht Spaß – besonders\, wenn sie Brücken schlägt zwischen Mensch und Pferd. 👩‍🏫 Über die Referentin: Heike von HeymannSeit 2010 ist Heike als Natural Horsemanship-Trainerin\, Reitlehrerin und Autorin aktiv. Aufgewachsen mit Pferden\, lebt sie heute mit ihrer Tochter Mona und sechs Pferden auf Hof Ohana im Norden Hamburgs.Sie vereint klassische Reitlehre\, Natural Horsemanship\, Horsenalities und aktuelle Erkenntnisse aus der Gehirnforschung – theoretisch fundiert und praktisch erprobt. 🤝 Wir freuen uns auf erkenntnisreiche Stunden!Heike von Heymann & das Hof Ohana Team 								\n				\n					\n		\n					\n		\n				\n						\n					\n			\n						\n				\n									  Hof Ohana – Bildung für Mensch & PferdAlte Landstraße 111\,  22941 Bargteheide  04532-2672767    Preise inkl. 19% MwSt.20\,- € Vorkasse 25\,- € Abendkasse   Hier geht’s zur online Anmeldung    E-Mail: heike@vonheymann.net  Mobil Heike: 0170-8990555   📌 Rechtlicher HinweisDieser Vortrag steht in keiner Verbindung zur Autorin oder zum Verlag des Buches „Horse Brain\, Human Brain“. Der Titel wird ausschließlich als inhaltlicher Bezugspunkt genannt. Es handelt sich um eine eigenständige Veranstaltung\, inspiriert von den neurowissenschaftlichen Themen\, die auch im Buch behandelt werden.
URL:https://hofohana.de/veranstaltung/arien-aguilar-entstehung-einer-sprache-demo-tour-2025
LOCATION:Hof Ohana
CATEGORIES:Theorie
ATTACH;FMTTYPE=image/jpeg:https://hofohana.de/wp-content/uploads/2025/02/16482_image_476510700_1172885908150365_5429503132842893408_n.jpg
END:VEVENT
BEGIN:VEVENT
DTSTART;TZID=Europe/Berlin:20241218T100000
DTEND;TZID=Europe/Berlin:20241218T130000
DTSTAMP:20260420T053617
CREATED:20241110T020155Z
LAST-MODIFIED:20241112T114012Z
UID:10000882-1734516000-1734526800@hofohana.de
SUMMARY:Pferdeflüstern als Weihnachtsfeier Team-Event
DESCRIPTION:Neurowissenschaftliche Erkenntnisse zur besseren Kommunikation mit PferdenVerstehen statt Missverstehen – Wie Pferde wirklich denkenEin interaktiver Vortrag mit Heike von HeymannFür alle\, die Pferde lieben\, besitzen\, reiten oder ausbilden Die Geschichte der Pferde reicht 56 Millionen Jahre zurück – doch erst seit etwa 5500 Jahren leben Mensch und Pferd in enger Gemeinschaft. Eine Verbindung zwischen Fluchttier und Raubtier\, die naturgemäß voller Missverständnisse steckt. Auch wenn wir sie lieben – allzu oft verstehen wir Pferde falsch. Doch die moderne Gehirnforschung bringt endlich Licht ins Dunkel. Aktuelle Erkenntnisse der Neurowissenschaft liefern uns heute Erklärungen für das Verhalten unserer Pferde\, die es in dieser Tiefe bislang nicht gab. Bestseller wie „Horse Brain\, Human Brain“ von Janet Jones haben eindrucksvoll gezeigt\, wie anders Pferde denken – und warum genau das der Schlüssel zu einer besseren Kommunikation ist. Auch Heike von Heymann widmet sich diesem faszinierenden Thema: Mit Leidenschaft\, Sachverstand und einem großen Repertoire an Praxisbeispielen eröffnet sie einen völlig neuen Blick auf das Wesen Pferd. 🧠 Wie funktioniert ein Pferdegehirn – und worin unterscheidet es sich grundlegend vom menschlichen?👁️ Welche Rolle spielen Sinnesorgane\, Instinkte und Vererbung im täglichen Umgang?🐎 Wie lassen sich Verhaltensweisen erklären\, die wir vielleicht mal als „verarschen“\, „hysterisch“ oder „unlogisch“ abtun? Doch Achtung: Dies ist kein trockener Frontalvortrag!Heike fordert auch die Gehirne ihrer Gäste – mit interaktiven Fragen\, anschaulichen Bildern\, Filmsequenzen und vielen Beispielen aus der Praxis. Kein Fachchinesisch\, sondern fundiertes Wissen auf Augenhöhe – lebendig\, verständlich und immer mit einem Augenzwinkern. ➡️ Was du mitnimmst: Tiefes Verständnis für die Denk- und Verhaltensweise von Pferden Mehr Klarheit im täglichen Umgang Neue Perspektiven für pferdegerechte Ausbildung Einen unterhaltsamen\, lehrreichen Abend voller Aha-Momente Neurowissenschaft macht Spaß – besonders\, wenn sie Brücken schlägt zwischen Mensch und Pferd. 👩‍🏫 Über die Referentin: Heike von HeymannSeit 2010 ist Heike als Natural Horsemanship-Trainerin\, Reitlehrerin und Autorin aktiv. Aufgewachsen mit Pferden\, lebt sie heute mit ihrer Tochter Mona und sechs Pferden auf Hof Ohana im Norden Hamburgs.Sie vereint klassische Reitlehre\, Natural Horsemanship\, Horsenalities und aktuelle Erkenntnisse aus der Gehirnforschung – theoretisch fundiert und praktisch erprobt. 🤝 Wir freuen uns auf erkenntnisreiche Stunden!Heike von Heymann & das Hof Ohana Team 								\n				\n					\n		\n					\n		\n				\n						\n					\n			\n						\n				\n									  Hof Ohana – Bildung für Mensch & PferdAlte Landstraße 111\,  22941 Bargteheide  04532-2672767    Preise inkl. 19% MwSt.20\,- € Vorkasse 25\,- € Abendkasse   Hier geht’s zur online Anmeldung    E-Mail: heike@vonheymann.net  Mobil Heike: 0170-8990555   📌 Rechtlicher HinweisDieser Vortrag steht in keiner Verbindung zur Autorin oder zum Verlag des Buches „Horse Brain\, Human Brain“. Der Titel wird ausschließlich als inhaltlicher Bezugspunkt genannt. Es handelt sich um eine eigenständige Veranstaltung\, inspiriert von den neurowissenschaftlichen Themen\, die auch im Buch behandelt werden.
URL:https://hofohana.de/veranstaltung/pferdefluestern-als-weihnachts-team-event
LOCATION:Hof Ohana
CATEGORIES:Bodenarbeit,Firmenevents,Horsemanship
ATTACH;FMTTYPE=image/jpeg:https://hofohana.de/wp-content/uploads/2024/11/16377_image_465900547_1104935114945445_6588941258264458672_n.jpg
ORGANIZER;CN="Hof Ohana - Bildung f%C3%BCr Mensch & Pferd":MAILTO:team@hofohana.de
END:VEVENT
BEGIN:VEVENT
DTSTART;TZID=Europe/Berlin:20240906T190000
DTEND;TZID=Europe/Berlin:20240906T210000
DTSTAMP:20260420T053617
CREATED:20240809T174419Z
LAST-MODIFIED:20240809T182110Z
UID:10000862-1725649200-1725656400@hofohana.de
SUMMARY:Meet & Greet - Ein Demo-Abendshow mit Pat Parelli live
DESCRIPTION:Neurowissenschaftliche Erkenntnisse zur besseren Kommunikation mit PferdenVerstehen statt Missverstehen – Wie Pferde wirklich denkenEin interaktiver Vortrag mit Heike von HeymannFür alle\, die Pferde lieben\, besitzen\, reiten oder ausbilden Die Geschichte der Pferde reicht 56 Millionen Jahre zurück – doch erst seit etwa 5500 Jahren leben Mensch und Pferd in enger Gemeinschaft. Eine Verbindung zwischen Fluchttier und Raubtier\, die naturgemäß voller Missverständnisse steckt. Auch wenn wir sie lieben – allzu oft verstehen wir Pferde falsch. Doch die moderne Gehirnforschung bringt endlich Licht ins Dunkel. Aktuelle Erkenntnisse der Neurowissenschaft liefern uns heute Erklärungen für das Verhalten unserer Pferde\, die es in dieser Tiefe bislang nicht gab. Bestseller wie „Horse Brain\, Human Brain“ von Janet Jones haben eindrucksvoll gezeigt\, wie anders Pferde denken – und warum genau das der Schlüssel zu einer besseren Kommunikation ist. Auch Heike von Heymann widmet sich diesem faszinierenden Thema: Mit Leidenschaft\, Sachverstand und einem großen Repertoire an Praxisbeispielen eröffnet sie einen völlig neuen Blick auf das Wesen Pferd. 🧠 Wie funktioniert ein Pferdegehirn – und worin unterscheidet es sich grundlegend vom menschlichen?👁️ Welche Rolle spielen Sinnesorgane\, Instinkte und Vererbung im täglichen Umgang?🐎 Wie lassen sich Verhaltensweisen erklären\, die wir vielleicht mal als „verarschen“\, „hysterisch“ oder „unlogisch“ abtun? Doch Achtung: Dies ist kein trockener Frontalvortrag!Heike fordert auch die Gehirne ihrer Gäste – mit interaktiven Fragen\, anschaulichen Bildern\, Filmsequenzen und vielen Beispielen aus der Praxis. Kein Fachchinesisch\, sondern fundiertes Wissen auf Augenhöhe – lebendig\, verständlich und immer mit einem Augenzwinkern. ➡️ Was du mitnimmst: Tiefes Verständnis für die Denk- und Verhaltensweise von Pferden Mehr Klarheit im täglichen Umgang Neue Perspektiven für pferdegerechte Ausbildung Einen unterhaltsamen\, lehrreichen Abend voller Aha-Momente Neurowissenschaft macht Spaß – besonders\, wenn sie Brücken schlägt zwischen Mensch und Pferd. 👩‍🏫 Über die Referentin: Heike von HeymannSeit 2010 ist Heike als Natural Horsemanship-Trainerin\, Reitlehrerin und Autorin aktiv. Aufgewachsen mit Pferden\, lebt sie heute mit ihrer Tochter Mona und sechs Pferden auf Hof Ohana im Norden Hamburgs.Sie vereint klassische Reitlehre\, Natural Horsemanship\, Horsenalities und aktuelle Erkenntnisse aus der Gehirnforschung – theoretisch fundiert und praktisch erprobt. 🤝 Wir freuen uns auf erkenntnisreiche Stunden!Heike von Heymann & das Hof Ohana Team 								\n				\n					\n		\n					\n		\n				\n						\n					\n			\n						\n				\n									  Hof Ohana – Bildung für Mensch & PferdAlte Landstraße 111\,  22941 Bargteheide  04532-2672767    Preise inkl. 19% MwSt.20\,- € Vorkasse 25\,- € Abendkasse   Hier geht’s zur online Anmeldung    E-Mail: heike@vonheymann.net  Mobil Heike: 0170-8990555   📌 Rechtlicher HinweisDieser Vortrag steht in keiner Verbindung zur Autorin oder zum Verlag des Buches „Horse Brain\, Human Brain“. Der Titel wird ausschließlich als inhaltlicher Bezugspunkt genannt. Es handelt sich um eine eigenständige Veranstaltung\, inspiriert von den neurowissenschaftlichen Themen\, die auch im Buch behandelt werden.
URL:https://hofohana.de/veranstaltung/meet-greet-ein-demo-abendshow-mit-pat-parelli-live
LOCATION:Alte Landstraße 111\, 22941 Bargteheide\, Germany
CATEGORIES:Bodenarbeit,Horsemanship,Theorie
ATTACH;FMTTYPE=image/jpeg:https://hofohana.de/wp-content/uploads/2024/08/16090_image_454507207_1030509469054677_6658299115892210317_n.jpg
ORGANIZER;CN="Hof Ohana - Bildung f%C3%BCr Mensch & Pferd":MAILTO:team@hofohana.de
END:VEVENT
BEGIN:VEVENT
DTSTART;TZID=Europe/Berlin:20240906T093000
DTEND;TZID=Europe/Berlin:20240907T170000
DTSTAMP:20260420T053617
CREATED:20240414T221932Z
LAST-MODIFIED:20240809T132106Z
UID:10000837-1725615000-1725728400@hofohana.de
SUMMARY:Erlebe Pat Parelli live auf Hof Ohana
DESCRIPTION:Neurowissenschaftliche Erkenntnisse zur besseren Kommunikation mit PferdenVerstehen statt Missverstehen – Wie Pferde wirklich denkenEin interaktiver Vortrag mit Heike von HeymannFür alle\, die Pferde lieben\, besitzen\, reiten oder ausbilden Die Geschichte der Pferde reicht 56 Millionen Jahre zurück – doch erst seit etwa 5500 Jahren leben Mensch und Pferd in enger Gemeinschaft. Eine Verbindung zwischen Fluchttier und Raubtier\, die naturgemäß voller Missverständnisse steckt. Auch wenn wir sie lieben – allzu oft verstehen wir Pferde falsch. Doch die moderne Gehirnforschung bringt endlich Licht ins Dunkel. Aktuelle Erkenntnisse der Neurowissenschaft liefern uns heute Erklärungen für das Verhalten unserer Pferde\, die es in dieser Tiefe bislang nicht gab. Bestseller wie „Horse Brain\, Human Brain“ von Janet Jones haben eindrucksvoll gezeigt\, wie anders Pferde denken – und warum genau das der Schlüssel zu einer besseren Kommunikation ist. Auch Heike von Heymann widmet sich diesem faszinierenden Thema: Mit Leidenschaft\, Sachverstand und einem großen Repertoire an Praxisbeispielen eröffnet sie einen völlig neuen Blick auf das Wesen Pferd. 🧠 Wie funktioniert ein Pferdegehirn – und worin unterscheidet es sich grundlegend vom menschlichen?👁️ Welche Rolle spielen Sinnesorgane\, Instinkte und Vererbung im täglichen Umgang?🐎 Wie lassen sich Verhaltensweisen erklären\, die wir vielleicht mal als „verarschen“\, „hysterisch“ oder „unlogisch“ abtun? Doch Achtung: Dies ist kein trockener Frontalvortrag!Heike fordert auch die Gehirne ihrer Gäste – mit interaktiven Fragen\, anschaulichen Bildern\, Filmsequenzen und vielen Beispielen aus der Praxis. Kein Fachchinesisch\, sondern fundiertes Wissen auf Augenhöhe – lebendig\, verständlich und immer mit einem Augenzwinkern. ➡️ Was du mitnimmst: Tiefes Verständnis für die Denk- und Verhaltensweise von Pferden Mehr Klarheit im täglichen Umgang Neue Perspektiven für pferdegerechte Ausbildung Einen unterhaltsamen\, lehrreichen Abend voller Aha-Momente Neurowissenschaft macht Spaß – besonders\, wenn sie Brücken schlägt zwischen Mensch und Pferd. 👩‍🏫 Über die Referentin: Heike von HeymannSeit 2010 ist Heike als Natural Horsemanship-Trainerin\, Reitlehrerin und Autorin aktiv. Aufgewachsen mit Pferden\, lebt sie heute mit ihrer Tochter Mona und sechs Pferden auf Hof Ohana im Norden Hamburgs.Sie vereint klassische Reitlehre\, Natural Horsemanship\, Horsenalities und aktuelle Erkenntnisse aus der Gehirnforschung – theoretisch fundiert und praktisch erprobt. 🤝 Wir freuen uns auf erkenntnisreiche Stunden!Heike von Heymann & das Hof Ohana Team 								\n				\n					\n		\n					\n		\n				\n						\n					\n			\n						\n				\n									  Hof Ohana – Bildung für Mensch & PferdAlte Landstraße 111\,  22941 Bargteheide  04532-2672767    Preise inkl. 19% MwSt.20\,- € Vorkasse 25\,- € Abendkasse   Hier geht’s zur online Anmeldung    E-Mail: heike@vonheymann.net  Mobil Heike: 0170-8990555   📌 Rechtlicher HinweisDieser Vortrag steht in keiner Verbindung zur Autorin oder zum Verlag des Buches „Horse Brain\, Human Brain“. Der Titel wird ausschließlich als inhaltlicher Bezugspunkt genannt. Es handelt sich um eine eigenständige Veranstaltung\, inspiriert von den neurowissenschaftlichen Themen\, die auch im Buch behandelt werden.
URL:https://hofohana.de/veranstaltung/erlebe-pat-parelli-live-auf-hof-ohana
LOCATION:Alte Landstraße 111\, 22941 Bargteheide\, Germany
CATEGORIES:Bodenarbeit,Horsemanship
ATTACH;FMTTYPE=image/jpeg:https://hofohana.de/wp-content/uploads/2024/04/15709_image_438059940_948492530589705_7876213828105866399_n.jpg
ORGANIZER;CN="Pat Parelli":MAILTO:team@hofohana.de
END:VEVENT
END:VCALENDAR