BEGIN:VCALENDAR
VERSION:2.0
PRODID:-//Hof Ohana - ECPv6.15.20//NONSGML v1.0//EN
CALSCALE:GREGORIAN
METHOD:PUBLISH
X-ORIGINAL-URL:https://hofohana.de
X-WR-CALDESC:Veranstaltungen für Hof Ohana
REFRESH-INTERVAL;VALUE=DURATION:PT1H
X-Robots-Tag:noindex
X-PUBLISHED-TTL:PT1H
BEGIN:VTIMEZONE
TZID:Europe/Berlin
BEGIN:DAYLIGHT
TZOFFSETFROM:+0100
TZOFFSETTO:+0200
TZNAME:CEST
DTSTART:20250330T010000
END:DAYLIGHT
BEGIN:STANDARD
TZOFFSETFROM:+0200
TZOFFSETTO:+0100
TZNAME:CET
DTSTART:20251026T010000
END:STANDARD
BEGIN:DAYLIGHT
TZOFFSETFROM:+0100
TZOFFSETTO:+0200
TZNAME:CEST
DTSTART:20260329T010000
END:DAYLIGHT
BEGIN:STANDARD
TZOFFSETFROM:+0200
TZOFFSETTO:+0100
TZNAME:CET
DTSTART:20261025T010000
END:STANDARD
BEGIN:DAYLIGHT
TZOFFSETFROM:+0100
TZOFFSETTO:+0200
TZNAME:CEST
DTSTART:20270328T010000
END:DAYLIGHT
BEGIN:STANDARD
TZOFFSETFROM:+0200
TZOFFSETTO:+0100
TZNAME:CET
DTSTART:20271031T010000
END:STANDARD
END:VTIMEZONE
BEGIN:VEVENT
DTSTART;TZID=Europe/Berlin:20260326T183000
DTEND;TZID=Europe/Berlin:20260326T210000
DTSTAMP:20260425T220951
CREATED:20260225T222046Z
LAST-MODIFIED:20260226T111948Z
UID:10000935-1774549800-1774558800@hofohana.de
SUMMARY:Equines Asthma ganzheitlich verstehen und wirksam handeln
DESCRIPTION:Equines Asthma ganzheitlich verstehen und wirksam handeln\nAtemwegsprobleme beim Pferd entstehen selten aus dem Nichts. In vielen Fällen sind sie Ausdruck von Haltungs- und Fütterungsfehlern\, die sich über Jahre aufgebaut haben. Equines Asthma ist deshalb oft kein isoliertes Lungenproblem – sondern Teil eines größeren Zusammenhangs. \nViele Pferde mit Stoffwechselstörungen wie EMS entwickeln Atemwegsprobleme. Gleichzeitig geraten Pferde mit chronischem Asthma nicht selten auch stoffwechselmäßig aus dem Gleichgewicht. Das ist kein Zufall. \nIn diesem Vortrag beleuchtet Dr.  Svenja Thiede die klaren Zusammenhänge zwischen Atemwegen und Stoffwechsel: \nWarum stoffwechselerkrankte Pferde häufig Asthma entwickeln \nWarum Asthma-Pferde oft zusätzlich Stoffwechselprobleme bekommen \nWelche Rolle Haltung und Fütterung tatsächlich spielen \nWoran frühe Anzeichen zu erkennen sind \nWelche Maßnahmen im Alltag wirklich helfen \nPraxisnah. Verständlich. Ohne Mythen.\nDafür mit klaren Fakten und konkreten Lösungsansätzen. \nTypische Fragen\, denen wir nachgehen \nHustet mein Pferd – oder hustet es nicht\, zeigt aber Schleim\, Kurzatmigkeit oder Leistungsschwäche? \nIst es leichtfuttrig oder bereits von EMS betroffen? \nWie erkenne ich frühzeitig\, dass etwas aus dem Gleichgewicht gerät? \nWas kann ich selbst sofort für mein Pferd verbessern? \nTermin\nDonnerstag\, 26.03.2026\n18:30 Uhr bis circa 21:00 Uhr \nOrt\nHof Ohana – Bildung für Mensch & Pferd\nAlte Landstraße 111\n22941 Bargteheide \nZur Referentin\nDr. med. vet. Svenja Thiede ist Tierärztin für Homöopathie und Fachtierärztin für Mikrobiologie. Bereits während ihrer Forschungstätigkeit zeigte sich deutlich\, dass viele Erkrankungen auf Haltungsbedingungen zurückzuführen sind. In der Praxis bestätigte sich dieses Bild. \nStoffwechselstörungen und sogenannte „Wohlstandserkrankungen“ sind beim Pferd heute weit verbreitet. Entscheidend ist\, sie frühzeitig zu erkennen und konsequent gegenzusteuern. \nNeben ihrer Tätigkeit als Amtstierärztin betreibt Dr. Thiede eine telefonische Beratungspraxis mit Schwerpunkt auf ganzheitlicher Therapie. Im Mittelpunkt stehen dabei Haltung\, Fütterung und Prävention – mit dem Ziel\, Krankheiten gar nicht erst entstehen zu lassen. \nAls ehemalige Besitzerin eines Islandpferdes kennt sie die praktischen Herausforderungen der Pferdehaltung aus eigener Erfahrung. Sie weiß\, dass Theorie und Alltag nicht immer deckungsgleich sind – und genau dort setzt ihre Arbeit an. \nPreise\n39\,- € Vorkasse\n44\,- € Abendkasse \nOnline-Anmeldung\nhttps://digistable.app/events/anmeldeformular.php?eid=90&start=26.03.2026&ende=26.03.2026 \nRückfragen\nteam@hofohana.apps-1and1.net\n0151 – 58507711
URL:https://hofohana.de/veranstaltung/equines-asthma-ganzheitlich-verstehen-und-wirksam-handeln
LOCATION:Hof Ohana
CATEGORIES:Theorie
ATTACH;FMTTYPE=image/jpeg:https://hofohana.de/wp-content/uploads/2026/02/16977_image_643491355_1507443181361301_4326956266469793136_n.jpg
END:VEVENT
BEGIN:VEVENT
DTSTART;TZID=Europe/Berlin:20260503T100000
DTEND;TZID=Europe/Berlin:20260503T150000
DTSTAMP:20260425T220951
CREATED:20260326T133827Z
LAST-MODIFIED:20260326T134141Z
UID:10000938-1777802400-1777820400@hofohana.de
SUMMARY:Cavaletti-Training mit Mona von Heymann
DESCRIPTION:Liebe Einsteller und Gastreiter\, \nan diesem Tag unterrichtet Mona von Heymann\n(Pferdewirtin und Betriebsleiterin vom Hof Ohana) Stangen- und Cavaletti-Training als Individualunterricht oder in passenden Zweiergruppen. \nFreut euch auf „Dressur mit ein paar Bodenstangen“. Alles geht ganz locker und ohne Druck zu. So eignet sich dieses Training auch für unerfahrene Reiter\, unerfahrene Pferde oder ganz einfach als Abwechslung zum Beispiel gegen den Winterblues. \nDer Unterricht findet in der gut isolierten 23×60 m Halle oder auf Wunsch auf dem herrlichen Außenplatz statt. Es gibt es Stangen\, Cavallettis oder wahlweise auch auf E bis A Niveau stehende Gymnastikreihen. Auch ein kleiner Parcours ist für Fortgeschrittene möglich . Die Stunden sind bei unseren Einstellern sehr beliebt\, aber auch Gastreiter sind herzlich willkommen. \nPreise inklusiv 19% MwSt. \n15\,- € pro Reiter in Zweier-Gruppen circa 45 Minuten\n25\,- € pro Reiter im Einzelunterricht circa 45 Minuten\nzzgl. 5\,- € Parcours-Nutzung\nzzgl. 5\,- € Anlagen-Nutzung \nIhr könnt 15 Minuten vor euer Einheit zum Warmreiten in die Halle oder auf den Platz kommen und mit entsprechender Rücksicht hinterher trocken reiten. Auf Wunsch könnt ihr gegen Gebühr auch das Solarium oder die Führanlage nutzen. \nFür Fragen ruft bitte Mona unter 015158507711 an (10:00-19:00 Uhr) oder schickt eine Nachricht z.B. per SMS. \nAnmeldung unter\nhttps://digistable.app/events/anmeldeformular.php?eid=95&start=03.05.2026&ende=03.05.2026 \nWir freuen uns auf auf Euch und eure Pferde.
URL:https://hofohana.de/veranstaltung/cavaletti-training-mit-mona-von-heymann-31
LOCATION:Hof Ohana
CATEGORIES:Springreiten
ATTACH;FMTTYPE=image/jpeg:https://hofohana.de/wp-content/uploads/2026/03/17009_image_659135148_1532548955517390_9213730192997396507_n.jpg
END:VEVENT
BEGIN:VEVENT
DTSTART;TZID=Europe/Berlin:20260515T180000
DTEND;TZID=Europe/Berlin:20260517T160000
DTSTAMP:20260425T220951
CREATED:20260407T102057Z
LAST-MODIFIED:20260407T102545Z
UID:10000939-1778868000-1779033600@hofohana.de
SUMMARY:Dr. Sandra Ruzicka | Tragkraft aufbauen – richtig trainieren
DESCRIPTION:Gesunderhaltung ist kein Trend – sondern Pflicht. \nIn diesem intensiven Dressurlehrgang mit Dr. Sandra Ruzicka geht es nicht um oberflächliche Reiterei\, sondern um das Fundament: funktionelle Anatomie\, echte Tragkraft und klare Bewegungsmuster. \n👉 Freitagabend (ca. 3 Stunden):\nEin fundierter Theorieabend über Körperhaltung\, Exterieur und die Zusammenhänge von Bewegung und Gesundheit. Offen auch für Zuschauer. \n👉 Samstag & Sonntag:\nMax. 9 Mensch-Pferd-Paare trainieren jeweils ca. 50 Minuten pro Tag. Ob geritten oder vom Boden aus.\nZwei klare Schwerpunkte stehen zur Auswahl – oder werden kombiniert: \n• Exterieur-Analyse\, Funktionstestungen und gezielte Gymnastik (Bodenarbeit)\n• Bewegung unter dem Sattel: gesunderhaltende Gangbilder\, Sitz\, Hilfengebung\, innere Bilder \nHier wird nicht „irgendwie geritten“.\nHier wird analysiert\, verstanden und sauber gearbeitet. \n❗ Trageerschöpfung ist kein Modewort.\nSie ist real – und oft schwer zu erkennen. Pferde kompensieren. Und genau das macht sie langfristig kaputt. \nWer nicht versteht\, wie Haltung und Bewegung zusammenhängen\, richtet Schaden an – auch mit den „richtigen“ Übungen. \nEin Schulterherein ist nur so gut wie seine Ausführung. \nZiel dieses Lehrgangs:\nKlar sehen lernen. Unterschiede erkennen. Qualität reiten. \n👤 Über Dr. Sandra Ruzicka\nTrainerin\, Therapeutin\, Verhaltenstrainerin und Hufbearbeiterin.\nAutorin der Bücher Trageerschöpfung beim Pferd und Bewegungsmuster beim Pferd.\nAusbilderin von Pferdeverhaltenstrainern und gefragte Dozentin. \n📅 Datum: 15.–17. Mai 2026\n📍 Ort: Hof Ohana\, Alte Landstraße 111\, 22941 Bargteheide \n💶 Preise inkl. 19 % MwSt.\n•Theorieabend: \n• Aktive Teilnehmer\n• \n295\,- € Praxisteil an Dr. Sandra Ruzicka\n• +\n55\,- € Theorie-Abend\n• +\n55\,- € für Anlagennutzung\, Organisation\, Snacks & Getränke\n•\n= 405\,- €\ngesamt für 3 Tage mit Pferd Praxis und Theorie \n• Zuschauer pro Tag (Praxis oder Theorieabend)\n• 55\,- € pro Tag für Organisation\, Snacks\, Getränke etc.\n• 120\,- € Kombi-Ticket Zuschauer für 3 Tage \n🔗 Anmeldung:\nhttps://digistable.app/events/anmeldeformular.php?eid=94&start=15.05.2026&ende=17.05.2026
URL:https://hofohana.de/veranstaltung/dr-sandra-ruzicka-tragkraft-aufbauen-richtig-trainieren
LOCATION:Hof Ohana
CATEGORIES:Dressurreiten,Theorie
ATTACH;FMTTYPE=image/jpeg:https://hofohana.de/wp-content/uploads/2026/04/17014_image_660430080_1532481638857455_4455971874865050185_n.jpg
END:VEVENT
END:VCALENDAR