BEGIN:VCALENDAR
VERSION:2.0
PRODID:-//Hof Ohana - ECPv6.15.20//NONSGML v1.0//EN
CALSCALE:GREGORIAN
METHOD:PUBLISH
X-WR-CALNAME:Hof Ohana
X-ORIGINAL-URL:https://hofohana.de
X-WR-CALDESC:Veranstaltungen für Hof Ohana
REFRESH-INTERVAL;VALUE=DURATION:PT1H
X-Robots-Tag:noindex
X-PUBLISHED-TTL:PT1H
BEGIN:VTIMEZONE
TZID:Europe/Berlin
BEGIN:DAYLIGHT
TZOFFSETFROM:+0100
TZOFFSETTO:+0200
TZNAME:CEST
DTSTART:20220327T010000
END:DAYLIGHT
BEGIN:STANDARD
TZOFFSETFROM:+0200
TZOFFSETTO:+0100
TZNAME:CET
DTSTART:20221030T010000
END:STANDARD
BEGIN:DAYLIGHT
TZOFFSETFROM:+0100
TZOFFSETTO:+0200
TZNAME:CEST
DTSTART:20230326T010000
END:DAYLIGHT
BEGIN:STANDARD
TZOFFSETFROM:+0200
TZOFFSETTO:+0100
TZNAME:CET
DTSTART:20231029T010000
END:STANDARD
BEGIN:DAYLIGHT
TZOFFSETFROM:+0100
TZOFFSETTO:+0200
TZNAME:CEST
DTSTART:20240331T010000
END:DAYLIGHT
BEGIN:STANDARD
TZOFFSETFROM:+0200
TZOFFSETTO:+0100
TZNAME:CET
DTSTART:20241027T010000
END:STANDARD
BEGIN:DAYLIGHT
TZOFFSETFROM:+0100
TZOFFSETTO:+0200
TZNAME:CEST
DTSTART:20250330T010000
END:DAYLIGHT
BEGIN:STANDARD
TZOFFSETFROM:+0200
TZOFFSETTO:+0100
TZNAME:CET
DTSTART:20251026T010000
END:STANDARD
END:VTIMEZONE
BEGIN:VEVENT
DTSTART;TZID=Europe/Berlin:20240529T090000
DTEND;TZID=Europe/Berlin:20240529T220000
DTSTAMP:20260421T182556
CREATED:20240509T225203Z
LAST-MODIFIED:20240509T225510Z
UID:10000846-1716973200-1717020000@hofohana.de
SUMMARY:Dressur mit Nuno Avelar
DESCRIPTION:„Das Ziel unserer Reiterei sollte sein\,\ndass unser Pferd die Zeit mit uns genauso genießt\, wie wir es tun.“ \nDressur ist die Grundlage von allem\, sei es klassisch oder sportiv! Mit dem richtigen Trainingskonzept kann jedes Pferd und jeder Reiter lernen\, selbst anspruchsvollste Dressurlektionen zu reiten. Ich unterstütze alle meine Schüler dabei\, wirklich zu verstehen\, warum bestimmte Übungsabfolgen sinnvoll sind\, um ein Problem zu lösen. Dressur ist die ideale Gymnastik\, die dafür sorgt\, dass das Pferd fit und gesund bleibt und sich mit mehr Eleganz und Kraft bewegen kann. In meinem Unterricht schule ich alle Niveaus – von der Grundausbildung für junge Pferde bis hin zum Grand Prix. Darüber hinaus kombiniere ich auch die Arbeit an der Hand\, um die Versammlungsfähigkeit zu fördern und die Basis für eine gelungene Piaffe und Passage zu schaffen. Es spielt keine Rolle\, ob Du an Turnieren teilnehmen oder zu Hause zu Deinem eigenen Vergnügen reiten möchtest. Ich helfe Dir dabei\, einen individuellen Trainingsplan zu erstellen\, damit Du mit Deinem Pferd den nächsten Schritt machen kannst. – Nuno Avelar. \nMehr Infos über Nuno gibt es auf seiner Homepage: https://nunoavelar.com/de/startseite-deutsch \nAlle Preise (inklusive 19% MwSt.) \n1) 30 Minuten pro Tag\n    55 \,- € für Nuno Avelar\n    zzgl. 15\,- € Anlagennutzung & Organisation Hof Ohana \n2)  45 Minuten pro Tag\n     85\,- € für Nuno Avelar\n     zzgl. 15\,- € Anlagennutzung & Organisation Hof Ohana \n3)  60 Minuten pro Tag\n     110\,- € für Nuno Avelar\n     zzgl. 15\,- € Anlagennutzung & Organisation Hof Ohana \n4)  Auf Wunsch als Gastbox eine 4x5m Fensterbox\n     a) zzgl. 30- € – pro Tag inkl. Heu/Stroh/Misten\n     b) zzgl. 20\,-€ – tagsüber inkl. Heu/Stroh/Misten\n     c) Spänebox oder Gastbox von Fr. bis So./Mo. auf Anfrage.\n     (Gastboxen sind begrenzt.) \n5)  Zuschauer 10\,-€ pro Tag \nAnmeldung/Fragen: \nteam@hofohana.de   oder  mobil  015158507711 \nAnmeldeformular \n \nGerne könnt ihr unser Formular online ausfüllen und wir melden uns schnellstmöglich. \nBis bald auf Hof Ohana  🙂
URL:https://hofohana.de/veranstaltung/dressur-mit-nuno-avelar-5
LOCATION:Hof Ohana
CATEGORIES:Dressurreiten
ATTACH;FMTTYPE=image/jpeg:https://hofohana.de/wp-content/uploads/2024/05/15885_image_422002218_966099048829053_3212875616068880324_n.jpg
END:VEVENT
BEGIN:VEVENT
DTSTART;TZID=Europe/Berlin:20231213T100000
DTEND;TZID=Europe/Berlin:20231213T210000
DTSTAMP:20260421T182556
CREATED:20231010T220829Z
LAST-MODIFIED:20231010T220829Z
UID:10000800-1702461600-1702501200@hofohana.de
SUMMARY:Dressur mit Nuno Avelar
DESCRIPTION:„Das Ziel unserer Reiterei sollte sein\,\ndass unser Pferd die Zeit mit uns genauso genießt\, wie wir es tun.“ \nDressur ist die Grundlage von allem\, sei es klassisch oder sportiv! Mit dem richtigen Trainingskonzept kann jedes Pferd und jeder Reiter lernen\, selbst anspruchsvollste Dressurlektionen zu reiten. Ich unterstütze alle meine Schüler dabei\, wirklich zu verstehen\, warum bestimmte Übungsabfolgen sinnvoll sind\, um ein Problem zu lösen. Dressur ist die ideale Gymnastik\, die dafür sorgt\, dass das Pferd fit und gesund bleibt und sich mit mehr Eleganz und Kraft bewegen kann. In meinem Unterricht schule ich alle Niveaus – von der Grundausbildung für junge Pferde bis hin zum Grand Prix. Darüber hinaus kombiniere ich auch die Arbeit an der Hand\, um die Versammlungsfähigkeit zu fördern und die Basis für eine gelungene Piaffe und Passage zu schaffen. Es spielt keine Rolle\, ob Du an Turnieren teilnehmen oder zu Hause zu Deinem eigenen Vergnügen reiten möchtest. Ich helfe Dir dabei\, einen individuellen Trainingsplan zu erstellen\, damit Du mit Deinem Pferd den nächsten Schritt machen kannst. – Nuno Avelar. \nMehr Infos über Nuno gibt es auf seiner Homepage: https://nunoavelar.com/de/startseite-deutsch \nAlle Preise (inklusive 19% MwSt.) \n1) 30 Minuten pro Tag\n    55 \,- € für Nuno Avelar\n    zzgl. 15\,- € Anlagennutzung & Organisation Hof Ohana \n2)  45 Minuten pro Tag\n     85\,- € für Nuno Avelar\n     zzgl. 15\,- € Anlagennutzung & Organisation Hof Ohana \n3)  60 Minuten pro Tag\n     110\,- € für Nuno Avelar\n     zzgl. 15\,- € Anlagennutzung & Organisation Hof Ohana \n4)  Auf Wunsch als Gastbox eine 4x5m Fensterbox\n     a) zzgl. 30- € – pro Tag inkl. Heu/Stroh/Misten\n     b) zzgl. 20\,-€ – tagsüber inkl. Heu/Stroh/Misten\n     c) Spänebox oder Gastbox von Fr. bis So./Mo. auf Anfrage.\n     (Gastboxen sind begrenzt.) \n5)  Zuschauer 10\,-€ pro Tag \nAnmeldung/Fragen: \nteam@hofohana.de   oder  mobil  015158507711 \nAnmeldeformular \n\nGerne könnt ihr auch unser Formular online ausfüllen und wir melden uns.  \nhttps://hofohana.de/download/2023AllgAnmeldgMitPferd.jpg \nBis bald auf Hof Ohana  🙂
URL:https://hofohana.de/veranstaltung/dressur-mit-nuno-avelar-3
LOCATION:Hof Ohana
CATEGORIES:Dressurreiten
ATTACH;FMTTYPE=image/jpeg:https://hofohana.de/wp-content/uploads/2023/10/15354_image_387758935_821032593335700_5496068324288396769_n.jpg
END:VEVENT
BEGIN:VEVENT
DTSTART;TZID=Europe/Berlin:20231208T120000
DTEND;TZID=Europe/Berlin:20231208T214500
DTSTAMP:20260421T182557
CREATED:20231010T220828Z
LAST-MODIFIED:20231010T220828Z
UID:10000799-1702036800-1702071900@hofohana.de
SUMMARY:Dressur mit Nuno Avelar
DESCRIPTION:„Das Ziel unserer Reiterei sollte sein\,\ndass unser Pferd die Zeit mit uns genauso genießt\, wie wir es tun.“ \nDressur ist die Grundlage von allem\, sei es klassisch oder sportiv! Mit dem richtigen Trainingskonzept kann jedes Pferd und jeder Reiter lernen\, selbst anspruchsvollste Dressurlektionen zu reiten. Ich unterstütze alle meine Schüler dabei\, wirklich zu verstehen\, warum bestimmte Übungsabfolgen sinnvoll sind\, um ein Problem zu lösen. Dressur ist die ideale Gymnastik\, die dafür sorgt\, dass das Pferd fit und gesund bleibt und sich mit mehr Eleganz und Kraft bewegen kann. In meinem Unterricht schule ich alle Niveaus – von der Grundausbildung für junge Pferde bis hin zum Grand Prix. Darüber hinaus kombiniere ich auch die Arbeit an der Hand\, um die Versammlungsfähigkeit zu fördern und die Basis für eine gelungene Piaffe und Passage zu schaffen. Es spielt keine Rolle\, ob Du an Turnieren teilnehmen oder zu Hause zu Deinem eigenen Vergnügen reiten möchtest. Ich helfe Dir dabei\, einen individuellen Trainingsplan zu erstellen\, damit Du mit Deinem Pferd den nächsten Schritt machen kannst. – Nuno Avelar. \nMehr Infos über Nuno gibt es auf seiner Homepage: https://nunoavelar.com/de/startseite-deutsch \nAlle Preise (inklusive 19% MwSt.) \n1) 30 Minuten pro Tag\n    55 \,- € für Nuno Avelar\n    zzgl. 15\,- € Anlagennutzung & Organisation Hof Ohana \n2)  45 Minuten pro Tag\n     85\,- € für Nuno Avelar\n     zzgl. 15\,- € Anlagennutzung & Organisation Hof Ohana \n3)  60 Minuten pro Tag\n     110\,- € für Nuno Avelar\n     zzgl. 15\,- € Anlagennutzung & Organisation Hof Ohana \n4)  Auf Wunsch als Gastbox eine 4x5m Fensterbox\n     a) zzgl. 30- € – pro Tag inkl. Heu/Stroh/Misten\n     b) zzgl. 20\,-€ – tagsüber inkl. Heu/Stroh/Misten\n     c) Spänebox oder Gastbox von Fr. bis So./Mo. auf Anfrage.\n     (Gastboxen sind begrenzt.) \n5)  Zuschauer 10\,-€ pro Tag \nAnmeldung/Fragen: \nteam@hofohana.de   oder  mobil  015158507711 \nAnmeldeformular \n\nGerne könnt ihr auch unser Formular online ausfüllen und wir melden uns.  \nhttps://hofohana.de/download/2023AllgAnmeldgMitPferd.jpg \nBis bald auf Hof Ohana  🙂
URL:https://hofohana.de/veranstaltung/dressur-mit-nuno-avelar-2
LOCATION:Hof Ohana
CATEGORIES:Dressurreiten
ATTACH;FMTTYPE=image/jpeg:https://hofohana.de/wp-content/uploads/2023/10/15352_image_387768775_821009106671382_6476527410337059080_n.jpg
END:VEVENT
BEGIN:VEVENT
DTSTART;TZID=Europe/Berlin:20231007T093000
DTEND;TZID=Europe/Berlin:20231008T180000
DTSTAMP:20260421T182557
CREATED:20230817T220824Z
LAST-MODIFIED:20230918T133005Z
UID:10000789-1696671000-1696788000@hofohana.de
SUMMARY:Dressurreiten mit Nuno Avelar
DESCRIPTION:„Das Ziel unserer Reiterei sollte sein\,\ndass unser Pferd die Zeit mit uns genauso genießt\, wie wir es tun.“\nDressur ist die Grundlage von allem\, sei es klassisch oder sportiv! Mit dem richtigen Trainingskonzept kann jedes Pferd und jeder Reiter lernen\, selbst anspruchsvollste Dressurlektionen zu reiten. Ich unterstütze alle meine Schüler dabei\, wirklich zu verstehen\, warum bestimmte Übungsabfolgen sinnvoll sind\, um ein Problem zu lösen. Dressur ist die ideale Gymnastik\, die dafür sorgt\, dass das Pferd fit und gesund bleibt und sich mit mehr Eleganz und Kraft bewegen kann. In meinem Unterricht schule ich alle Niveaus – von der Grundausbildung für junge Pferde bis hin zum Grand Prix. Darüber hinaus kombiniere ich auch die Arbeit an der Hand\, um die Versammlungsfähigkeit zu fördern und die Basis für eine gelungene Piaffe und Passage zu schaffen. Es spielt keine Rolle\, ob Du an Turnieren teilnehmen oder zu Hause zu Deinem eigenen Vergnügen reiten möchtest. Ich helfe Dir dabei\, einen individuellen Trainingsplan zu erstellen\, damit Du mit Deinem Pferd den nächsten Schritt machen kannst. – Nuno Avelar. \nMehr Infos über Nuno gibt es auf seiner Homepage: https://nunoavelar.com/de/startseite-deutsch \nAlle Preise (inklusive 19% MwSt.) \n1) 30 Minuten pro Tag\n55 \,- € für Nuno Avelar\nzzgl. 15\,- € Anlagennutzung & Organisation Hof Ohana \n2) 60 Minuten pro Tag\n110\,- € für Nuno Avelar\nzzgl. 15\,- € Anlagennutzung & Organisation Hof Ohana \n3) Auf Wunsch als Gastbox eine 4x5m Fensterbox\na) zzgl. 50- € – von Sa. auf So. inkl. Heu/Stroh/Misten\nb) zzgl. 20\,-€ – tagsüber inkl. Heu/Stroh/Misten\nc) Spänebox oder Gastbox von Fr. bis So./Mo. auf Anfrage.\n(Gastboxen sind begrenzt.) \n4) Zuschauer 10\,-€ pro Tag \nAnmeldung/Fragen\nteam@hofohana.de oder mobil 015158507711 \nhttps://hofohana.de/anmeldeformular\nGerne könnt ihr auch unser Formular online ausfüllen und wir melden uns. \nhttps://hofohana.de/download/2023AllgAnmeldgMitPferd.jpg \nBis bald auf Hof Ohana 🙂
URL:https://hofohana.de/veranstaltung/dressur-mit-nuno-avelar
LOCATION:Hof Ohana
CATEGORIES:Dressurreiten
ATTACH;FMTTYPE=image/jpeg:https://hofohana.de/wp-content/uploads/2023/08/15278_image_367088761_783075157131444_4444236742900570630_n.jpg
END:VEVENT
END:VCALENDAR