BEGIN:VCALENDAR
VERSION:2.0
PRODID:-//Hof Ohana - ECPv6.15.20//NONSGML v1.0//EN
CALSCALE:GREGORIAN
METHOD:PUBLISH
X-WR-CALNAME:Hof Ohana
X-ORIGINAL-URL:https://hofohana.de
X-WR-CALDESC:Veranstaltungen für Hof Ohana
REFRESH-INTERVAL;VALUE=DURATION:PT1H
X-Robots-Tag:noindex
X-PUBLISHED-TTL:PT1H
BEGIN:VTIMEZONE
TZID:Europe/Berlin
BEGIN:DAYLIGHT
TZOFFSETFROM:+0100
TZOFFSETTO:+0200
TZNAME:CEST
DTSTART:20230326T010000
END:DAYLIGHT
BEGIN:STANDARD
TZOFFSETFROM:+0200
TZOFFSETTO:+0100
TZNAME:CET
DTSTART:20231029T010000
END:STANDARD
BEGIN:DAYLIGHT
TZOFFSETFROM:+0100
TZOFFSETTO:+0200
TZNAME:CEST
DTSTART:20240331T010000
END:DAYLIGHT
BEGIN:STANDARD
TZOFFSETFROM:+0200
TZOFFSETTO:+0100
TZNAME:CET
DTSTART:20241027T010000
END:STANDARD
BEGIN:DAYLIGHT
TZOFFSETFROM:+0100
TZOFFSETTO:+0200
TZNAME:CEST
DTSTART:20250330T010000
END:DAYLIGHT
BEGIN:STANDARD
TZOFFSETFROM:+0200
TZOFFSETTO:+0100
TZNAME:CET
DTSTART:20251026T010000
END:STANDARD
BEGIN:DAYLIGHT
TZOFFSETFROM:+0100
TZOFFSETTO:+0200
TZNAME:CEST
DTSTART:20260329T010000
END:DAYLIGHT
BEGIN:STANDARD
TZOFFSETFROM:+0200
TZOFFSETTO:+0100
TZNAME:CET
DTSTART:20261025T010000
END:STANDARD
BEGIN:DAYLIGHT
TZOFFSETFROM:+0100
TZOFFSETTO:+0200
TZNAME:CEST
DTSTART:20270328T010000
END:DAYLIGHT
BEGIN:STANDARD
TZOFFSETFROM:+0200
TZOFFSETTO:+0100
TZNAME:CET
DTSTART:20271031T010000
END:STANDARD
END:VTIMEZONE
BEGIN:VEVENT
DTSTART;TZID=Europe/Berlin:20260418T090000
DTEND;TZID=Europe/Berlin:20260419T170000
DTSTAMP:20260420T021939
CREATED:20251210T175956Z
LAST-MODIFIED:20260306T200706Z
UID:10000927-1776502800-1776618000@hofohana.de
SUMMARY:Fehlbelastung erkennen. Ursachen verstehen. Gesundheit erhalten.
DESCRIPTION:Fehlbelastung erkennen. Ursachen verstehen. Gesundheit erhalten.\nMit Klaus Schöneich und Gabriele Rachen-Schöneich \nEin Lehrgang für jedes Pferd – unabhängig von Rasse\, Alter oder Ausbildungsstand. \n\nViele Reitpferde zeigen:\n• Rittigkeitsprobleme\n• Taktunreinheiten\n• wiederkehrende Lahmheiten\n• Trageerschöpfung\n• Kissing Spines\, Hufrollenbefunde\, Sehnen- oder Kniebandprobleme\n• Belastungsprobleme in Verbindung mit ECVM\, PSSM oder MIM \nDiese Probleme entstehen selten zufällig – sie sind häufig Folge dauerhafter Fehlbelastung. \nAn diesem ARR-Wochenende lernen Sie\, diese Zusammenhänge zu verstehen – und am Pferd klar zu erkennen. \n\n📅 Samstag\n09:00 Uhr\nVorstellungsrunde\, Vorstellung der Pferde\, Erwartungen an den Kurs \n09:30 Uhr – Einführungsvortrag\nBiomechanische Grundlagen\, natürliche Schiefe\, Ursachen von Fehlbelastung \n10:30 Uhr\nBeurteilung des Pferdes im Stand\, Equipments\, Stoffwechselbefunde\, Fütterungszustand\,\nBewegungsanalyse am Kappzaum im Roundpen\,\nAuswertung der Videoaufnahmen im Schulungsraum (Zeitlupe & Echtzeit) \n12:30 Uhr – Mittagspause \n14:00 Uhr – Praktische Arbeit am Pferd\nHerr Schöneich longiert\nErkennen von Belastungsmustern\nZusammenhang zwischen Bewegung und Befund\nErste funktionelle Veränderungen erkennen \n17:00 Uhr\nAbschlussrunde / offene Fragen \n\n📅 Sonntag\n09:00 Uhr\nVertiefung der Analyse\nHerr Schöneich oder Besitzer longiert \n12:00 Uhr – Mittagspause \n13:30 Uhr\nPraxisteil & Umsetzung \n15:30 Uhr – Große Fragerunde\nIndividuelle Fragen zu Teilnehmerpferden\nKonkrete Besprechung von Befunden und Trainingsansätzen \nca. 17:00 Uhr – Ende \n\nTeilnahme\nEine Teilnahme ist mit und ohne Pferd möglich. \nOhne Pferd\nSie erhalten fundiertes Fachwissen\, Einblick in die Analysen und umfassendes Verständnis für biomechanische Zusammenhänge. \nMit eigenem Pferd\nSie profitieren deutlich stärker:\nIndividuelle Bewegungsanalyse\, konkrete Einschätzung der Belastungssituation und direkte praktische Hinweise für Ihr Pferd.\nGerade weil das Wochenende kompakt ist\, ist die Arbeit am eigenen Pferd besonders wertvoll. \n\nFür wen ist dieses Seminar geeignet?\nFür Reiterinnen und Reiter\, die nicht nur Symptome behandeln möchten\, sondern die Ursachen verstehen und nachhaltig verändern wollen. \nEs geht nicht um Reitmethoden.\nEs geht um die Gesundheit unseres Partners Pferd. \n\nPreise\ninklusive Anlagennutzung\, Organisation\, Snacks & Getränke sowie 19 % MwSt. \nAktive Teilnehmer – 2 Tage mit Pferd\n• 302\,- € an die Ausbilder\n• + 55\,- € an den Hof Ohana\n= 357\,- € gesamt \nZuschauer\n• 55\,- € / Tag an den Hof Ohana \n\nAnmeldung\nHier geht es zur Anmeldung per Online-Formular:\n👉 https://digistable.app/events/anmeldeformular.php?eid=86&start=18.04.2026&ende=19.04.2026 \nSchreibt gerne in die Notiz\, was ihr Euch wünscht. \n\nWir freuen uns auf dich! \nEin lehrreicher\, pferdefreundlicher Kurs erwartet dich und dein Pferd – egal ob jung oder alt\, Freizeit- oder Sportpferd. \nDein Hof Ohana Team \n\nZusätzliche Informationen zu Kursleitung & Leistungen\nDie Kurstage werden von Klaus Schöneich und Gabriele Rachen-Schöneich geleitet – den Entwicklern des Konzepts Anatomisch Richtiges Reiten (ARR®) und der Schiefen-Therapie. Beide verfügen über jahrzehntelange Erfahrung im pferdegerechten\, biomechanisch fundierten Training. \nHinweis:\nDie angegebenen Preise enthalten bereits Anreise\, Übernachtung und Verpflegung (Essen & Getränke) für Herrn Schöneich und seine Frau. Für dich entstehen dafür keine zusätzlichen Kosten. \n\nBücher von Klaus & Gabriele Schöneich (Auswahl)\n• Die Kraft der Diagonalen – modernes Fachbuch zum funktionellen Training und zur Schiefen-Therapie\n• Die Schiefen-Therapie – Pferde geraderichten mit System\n• Die Grundlagen des Freizeitreitens auf Westernbasis – Anatomisch richtiges Reiten \nDiese Werke zählen zu den wichtigsten Grundlagenbüchern über Balance\, Anatomie und gesunderhaltendes Pferdetraining – geeignet für alle Pferderassen\, jedes Alter und jedes Ausbildungsniveau.
URL:https://hofohana.de/veranstaltung/praxis-we-funktionelles-training-fuer-das-pferd-unter-beruecksichtigung-div-bewegungsproblematiken
LOCATION:Hof Ohana
CATEGORIES:Bodenarbeit,Dressurreiten
ATTACH;FMTTYPE=image/jpeg:https://hofohana.de/wp-content/uploads/2025/12/16851_image_589253023_1429454579160162_7576720897865441935_n.jpg
END:VEVENT
BEGIN:VEVENT
DTSTART;TZID=Europe/Berlin:20260307T100000
DTEND;TZID=Europe/Berlin:20260307T170000
DTSTAMP:20260420T021939
CREATED:20251210T180437Z
LAST-MODIFIED:20260306T200817Z
UID:10000928-1772877600-1772902800@hofohana.de
SUMMARY:Fällt leider aus: Funktionelles Training unter Berücksichtigung div. Bewegungsproblematiken
DESCRIPTION:Der 7.3.2026 muss aus persönlichen Gründen leider ausfallen.\nBitte bucht stattdessen folgendes Event am 18. und 19.4.2026.\nAnatomisch Richtiges Reiten mit Klaus Schöneich\nund Gabriele Rachen-Schöneich \nDieser Theorietag muss aus persönlichen Gründen leider ausfallen. Die Theorie wird in das Praxiswochenende am 18. und 19.4.26 integriert. \nAlle bereits gebuchten Teilnehmer werden von uns informiert und erhalten ggf. ihr Geld zurück. \nHier geht es zum Praxiswochenende:\nhttps://www.facebook.com/events/4247465338876317 \nDein Hof Ohana Team
URL:https://hofohana.de/veranstaltung/theorietag-funktionelles-training-fuer-das-pferd-unter-beruecksichtigung-div-bewegungsproblematiken
LOCATION:Hof Ohana
CATEGORIES:Bodenarbeit
ATTACH;FMTTYPE=image/jpeg:https://hofohana.de/wp-content/uploads/2025/12/16854_image_589050199_1429451449160475_4463881236633926235_n.jpg
END:VEVENT
BEGIN:VEVENT
DTSTART;TZID=Europe/Berlin:20251108T090000
DTEND;TZID=Europe/Berlin:20251109T160000
DTSTAMP:20260420T021939
CREATED:20250218T173336Z
LAST-MODIFIED:20250218T173336Z
UID:10000893-1762592400-1762704000@hofohana.de
SUMMARY:Longenkurs mit Babette Teschen auf Hof Ohana
DESCRIPTION:Longenkurs mit Babette Teschen auf Hof Ohana \nBabette Teschen gibt seit Jahren Seminare und Kurse zum Thema Longieren nach den Grundsätzen der Biomechanik des Pferdes. Dabei fließen vor allem ihre Kenntnisse als Tierheilpraktikerin in die Trainingsmethoden mit ein. Als umfassende Lektüre zum Trainingskonzept brachte Sie 2008 den ersten „Longenkurs“ als PDF Selbst-Lern-Anleitung heraus.  \nSo beschreibt Babette\, was sie Ihnen bieten kann:\n————-\nBei meinen Trainingstagen setze ich vor allem zwei Schwerpunkte: \n • in einem effektiven und gesundheitsfördernden Training am Boden\, vor allem durch das Longieren \n • sowie einen gewaltfreien und wunderschönen Weg zu einem harmonischen Miteinander mit dem Pferd. \nUnabhängig davon\, ob Sie Anfänger in Sachen Bodenarbeit und Longieren sind oder ob Sie bereits länger mit dem Selbstlernkurs arbeiten\, kann ich Sie mit praktischen Trainingstagen in Ihrer Arbeit mit Ihrem Pferd unterstützen.  \nIn meiner Arbeit gehe ich individuell auf die jeweiligen Bedürfnisse und Herausforderungen Ihres Pferdes ein und schule Sie darin\, mit Ihrem Pferd noch effektiver und auch harmonischer zu arbeiten.\n———– \nDer Lehrgang ist auf maximal 6 Teilnehmer begrenzt.\nZuschauer sind herzlich willkommen. \nUnsere 23 x 60 m Halle ist gegen Kälte und Wärme isoliert. \nAm Samstag und Sonntag gehen Aktiven und Zuschauer zusammen Mittagessen. Lecker essen (auch Vegan) und sich austauschen. Wir freuen uns schon. \nDonnerstag\, \n Theorie 18:00 bis ca. 22:00 Uhr\n(Online vom Sofa aus über über Zoom)\nSamstag:Praxis:9:00 bis 13:30 und 14:30 – 18:00 Uhr\nSonntag: Praxis:9:00 bis 13:00 und 14:00 – 16:00 Uhr \nPreise für den Kurs al Teilnehmer mit Pferd:\n316\,- Euro für Babette Teschen\n40\,- Euro für Hof Ohana (Anlagennutzung\, Inkasso\, Organisation)\n——————–\n356\,- Euro gesamt \nAuf Wunsch könnt ihr eine Box oder ein Paddock dazu buchen.\nGgf. haben wir auch ein erfahrenes Lehrpferd für euch.\nAlle Preise sind inkl. 19% MwSt. \nZuschauer pro Tag und Person: \nFrühbucherrabatt:\n30\,- Euro bis 30 Tage vor dem Kurs \nNormaler Preis:\n38\,- Euro ab 29 Tage vor dem Kurs \nZur Anmeldung füllt bitte unser Online-Formular aus.\nWir melden uns dann schnellst möglich bei euch. \nhttps://digistable.app/events/anmeldeformular.php?eid=50&start=06.11.2025&ende=09.11.2025 \nWir freuen uns auf Euch \nEuer Team vom Hof Ohana \nPs.: Bei Fragen rund um unsere Kurse\, ruft uns gerne an:\n0151 58507711
URL:https://hofohana.de/veranstaltung/longenkurs-mit-babette-teschen-auf-hof-ohana-15
LOCATION:Hof Ohana
CATEGORIES:Bodenarbeit
ATTACH;FMTTYPE=image/jpeg:https://hofohana.de/wp-content/uploads/2025/02/16526_image_480262592_1181718980600391_3798984526716021743_n.jpg
END:VEVENT
BEGIN:VEVENT
DTSTART;TZID=Europe/Berlin:20250628T090000
DTEND;TZID=Europe/Berlin:20250629T160000
DTSTAMP:20260420T021939
CREATED:20240902T222811Z
LAST-MODIFIED:20250218T165116Z
UID:10000872-1751101200-1751212800@hofohana.de
SUMMARY:Longenkurs mit Babette Teschen auf Hof Ohana
DESCRIPTION:Longenkurs mit Babette Teschen auf Hof Ohana \nBabette Teschen gibt seit Jahren Seminare und Kurse zum Thema Longieren nach den Grundsätzen der Biomechanik des Pferdes. Dabei fließen vor allem ihre Kenntnisse als Tierheilpraktikerin in die Trainingsmethoden mit ein. Als umfassende Lektüre zum Trainingskonzept brachte Sie 2008 den ersten „Longenkurs“ als PDF Selbst-Lern-Anleitung heraus. \nSo beschreibt Babette\, was sie Ihnen bieten kann:\n————-\nBei meinen Trainingstagen setze ich vor allem zwei Schwerpunkte: \n• in einem effektiven und gesundheitsfördernden Training am Boden\, vor allem durch das Longieren \n• sowie einen gewaltfreien und wunderschönen Weg zu einem harmonischen Miteinander mit dem Pferd. \nUnabhängig davon\, ob Sie Anfänger in Sachen Bodenarbeit und Longieren sind oder ob Sie bereits länger mit dem Selbstlernkurs arbeiten\, kann ich Sie mit praktischen Trainingstagen in Ihrer Arbeit mit Ihrem Pferd unterstützen. \nIn meiner Arbeit gehe ich individuell auf die jeweiligen Bedürfnisse und Herausforderungen Ihres Pferdes ein und schule Sie darin\, mit Ihrem Pferd noch effektiver und auch harmonischer zu arbeiten.\n———– \nDer Lehrgang ist auf maximal 6 Teilnehmer begrenzt.\nZuschauer sind herzlich willkommen. \nUnsere 23 x 60 m Halle ist gegen Kälte und Wärme isoliert. \nAm Samstag und Sonntag gehen Aktiven und Zuschauer zusammen Mittagessen. Lecker essen (auch Vegan) und sich austauschen. Wir freuen uns schon. \nDonnerstag\, Theorie 18:00 bis ca. 22:00 Uhr\n(Online vom Sofa aus über über Zoom)\nSamstag: Praxis: 9:00 bis 13:30 und 14:30 – 18:00 Uhr\nSonntag: Praxis: 9:00 bis 13:00 und 14:00 – 16:00 Uhr \nPreise für den Kurs al Teilnehmer mit Pferd:\n316\,- Euro für Babette Teschen\n40\,- Euro für Hof Ohana (Anlagennutzung\, Inkasso\, Organisation)\n——————–\n356\,- Euro gesamt \nAuf Wunsch könnt ihr eine Box oder ein Paddock dazu buchen.\nGgf. haben wir auch ein erfahrenes Lehrpferd für euch.\nAlle Preise sind inkl. 19% MwSt. \nZuschauer pro Tag und Person: \nFrühbucherrabatt:\n30\,- Euro bis 30 Tage vor dem Kurs \nNormaler Preis:\n38\,- Euro ab 29 Tage vor dem Kurs \nZur Anmeldung füllt bitte unser Online-Formular aus.\nWir melden uns dann schnellst möglich bei euch. \nAnmeldeformular \n \nWir freuen uns auf Euch \nEuer Team vom Hof Ohana \nPs.: Bei Fragen rund um unsere Kurse\, ruft uns gerne an:\n0151 58507711
URL:https://hofohana.de/veranstaltung/longenkurs-mit-babette-teschen-auf-hof-ohana-14
LOCATION:Hof Ohana
CATEGORIES:Bodenarbeit,Theorie
ATTACH;FMTTYPE=image/jpeg:https://hofohana.de/wp-content/uploads/2024/09/16181_image_458293667_1048934180545539_5232559079218552651_n.jpg
END:VEVENT
BEGIN:VEVENT
DTSTART;TZID=Europe/Berlin:20250626T180000
DTEND;TZID=Europe/Berlin:20250626T213000
DTSTAMP:20260420T021939
CREATED:20240902T222548Z
LAST-MODIFIED:20250218T165519Z
UID:10000871-1750960800-1750973400@hofohana.de
SUMMARY:Theorie zum Longenkurs mit Babette Teschen
DESCRIPTION:Longenkurs mit Babette Teschen auf Hof Ohana \nBabette Teschen gibt seit Jahren Seminare und Kurse zum Thema Longieren nach den Grundsätzen der Biomechanik des Pferdes. Dabei fließen vor allem ihre Kenntnisse als Tierheilpraktikerin in die Trainingsmethoden mit ein. Als umfassende Lektüre zum Trainingskonzept brachte Sie 2008 den ersten „Longenkurs“ als PDF Selbst-Lern-Anleitung heraus. \nSo beschreibt Babette\, was sie Ihnen bieten kann:\n————-\nBei meinen Trainingstagen setze ich vor allem zwei Schwerpunkte: \n• in einem effektiven und gesundheitsfördernden Training am Boden\, vor allem durch das Longieren \n• sowie einen gewaltfreien und wunderschönen Weg zu einem harmonischen Miteinander mit dem Pferd. \nUnabhängig davon\, ob Sie Anfänger in Sachen Bodenarbeit und Longieren sind oder ob Sie bereits länger mit dem Selbstlernkurs arbeiten\, kann ich Sie mit praktischen Trainingstagen in Ihrer Arbeit mit Ihrem Pferd unterstützen. \nIn meiner Arbeit gehe ich individuell auf die jeweiligen Bedürfnisse und Herausforderungen Ihres Pferdes ein und schule Sie darin\, mit Ihrem Pferd noch effektiver und auch harmonischer zu arbeiten.\n———– \nAm Donnerstag vor der realen Veranstaltung auf Hof Ohana findet eine theoretische Vorbereitung statt.\nUhrzeit: 18:00 bis ca. 22:00 Uhr\nOnline: Bequem vom Sofa aus über Zoom \nFür Aktive Kursteilnehmer ist diese Einführung im Preis enthalten. \nZuschauer und jeder\, den das Thema interessiert\, können diesen Abend extra buchen. \nFrühbucherrabatt:\n30\,- Euro bis 30 Tage vor dem Kurs \nNormaler Preis:\n38\,- Euro ab 29 Tage vor dem Kurs \nAlle Preise sind inkl. 19% MwSt. \nZur Anmeldung füllt bitte unser Online-Formular aus.\nWir melden uns dann schnellst möglich bei euch. \nAnmeldeformular \n \nWir freuen uns auf Euch \nEuer Team vom Hof Ohana \nPs.: Bei Fragen rund um unsere Kurse\, ruft uns gerne an:\n0151 58507711
URL:https://hofohana.de/veranstaltung/theorie-zum-longenkurs-mit-babette-teschen-2
LOCATION:Online Event
CATEGORIES:Bodenarbeit,Theorie
ATTACH;FMTTYPE=image/jpeg:https://hofohana.de/wp-content/uploads/2024/09/16178_image_458248410_1048930267212597_4996444856293536432_n.jpg
END:VEVENT
BEGIN:VEVENT
DTSTART;TZID=Europe/Berlin:20241107T180000
DTEND;TZID=Europe/Berlin:20241107T200000
DTSTAMP:20260420T021939
CREATED:20240712T221936Z
LAST-MODIFIED:20240731T215349Z
UID:10000859-1731002400-1731009600@hofohana.de
SUMMARY:Theorie zum Longenkurs mit Babette Teschen
DESCRIPTION:Longenkurs mit Babette Teschen auf Hof Ohana \nBabette Teschen gibt seit Jahren Seminare und Kurse zum Thema Longieren nach den Grundsätzen der Biomechanik des Pferdes. Dabei fließen vor allem ihre Kenntnisse als Tierheilpraktikerin in die Trainingsmethoden mit ein. Als umfassende Lektüre zum Trainingskonzept brachte Sie 2008 den ersten „Longenkurs“ als PDF Selbst-Lern-Anleitung heraus.  \nSo beschreibt Babette\, was sie Ihnen bieten kann:\n————-\nBei meinen Trainingstagen setze ich vor allem zwei Schwerpunkte: \n • in einem effektiven und gesundheitsfördernden Training am Boden\, vor allem durch das Longieren \n • sowie einen gewaltfreien und wunderschönen Weg zu einem harmonischen Miteinander mit dem Pferd. \nUnabhängig davon\, ob Sie Anfänger in Sachen Bodenarbeit und Longieren sind oder ob Sie bereits länger mit dem Selbstlernkurs arbeiten\, kann ich Sie mit praktischen Trainingstagen in Ihrer Arbeit mit Ihrem Pferd unterstützen.  \nIn meiner Arbeit gehe ich individuell auf die jeweiligen Bedürfnisse und Herausforderungen Ihres Pferdes ein und schule Sie darin\, mit Ihrem Pferd noch effektiver und auch harmonischer zu arbeiten.\n———– \nAm Donnerstag vor der realen Veranstaltung auf Hof Ohana findet eine theoretische Vorbereitung statt.\nUhrzeit: 18:00 bis ca. 22:00 Uhr\nOnline:  Bequem vom Sofa aus über Zoom \nFür Aktive Kursteilnehmer ist diese Einführung im Preis enthalten. \nZuschauer und jeder\, den das Thema interessiert\, können diesen Abend extra buchen. \nFrühbucherrabatt:\n30\,- Euro bis 30 Tage vor dem Kurs \nNormaler Preis:\n38\,- Euro ab 29 Tage vor dem Kurs \nAlle Preise sind inkl. 19% MwSt. \nZur Anmeldung füllt bitte unser Online-Formular aus.\nWir melden uns dann schnellst möglich bei euch. \nAnmeldeformular \n \nWir freuen uns auf Euch \nEuer Team vom Hof Ohana \nPs.: Bei Fragen rund um unsere Kurse\, ruft uns gerne an:\n0151 58507711
URL:https://hofohana.de/veranstaltung/theorie-zum-longenkurs-mit-babette-teschen
LOCATION:Online Event
CATEGORIES:Theorie
ATTACH;FMTTYPE=image/jpeg:https://hofohana.de/wp-content/uploads/2024/07/16028_image_450552783_1011382220967402_2850888522868471753_n.jpg
END:VEVENT
BEGIN:VEVENT
DTSTART;TZID=Europe/Berlin:20240706T090000
DTEND;TZID=Europe/Berlin:20240707T160000
DTSTAMP:20260420T021939
CREATED:20231108T221832Z
LAST-MODIFIED:20240511T171729Z
UID:10000803-1720256400-1720368000@hofohana.de
SUMMARY:Longenkurs mit Babette Teschen auf Hof Ohana
DESCRIPTION:Longenkurs mit Babette Teschen auf Hof Ohana\nBabette Teschen gibt seit Jahren Seminare und Kurse zum Thema Longieren nach den Grundsätzen der Biomechanik des Pferdes. Dabei fließen vor allem ihre Kenntnisse als Tierheilpraktikerin in die Trainingsmethoden mit ein. Als umfassende Lektüre zum Trainingskonzept brachte Sie 2008 den ersten „Longenkurs“ als PDF Selbst-Lern-Anleitung heraus. \nSo beschreibt Babette\, was sie dir kann: \nBei meinen Trainingstagen setze ich vor allem zwei Schwerpunkte: \n• in einem effektiven und gesundheitsfördernden Training am Boden\, vor allem durch das Longieren \n• sowie einen gewaltfreien und wunderschönen Weg zu einem harmonischen Miteinander mit dem Pferd. \nUnabhängig davon\, ob Sie Anfänger in Sachen Bodenarbeit und Longieren sind oder ob Sie bereits länger mit dem Selbstlernkurs arbeiten\, kann ich Sie mit praktischen Trainingstagen in Ihrer Arbeit mit Ihrem Pferd unterstützen. \nIn meiner Arbeit gehe ich individuell auf die jeweiligen Bedürfnisse und Herausforderungen Ihres Pferdes ein und schule Sie darin\, mit Ihrem Pferd noch effektiver und auch harmonischer zu arbeiten.\n———– \nDer Lehrgang ist auf maximal 6 Teilnehmer begrenzt.\nZuschauer sind herzlich willkommen. \nUnsere 23 x 60 m Halle ist gegen Kälte und Wärme isoliert. \nAm Samstag und Sonntag gehen Aktiven und Zuschauer zusammen Mittagessen. Lecker essen (auch Vegan) und sich austauschen. Wir freuen uns schon. \nDonnerstag\, Theorie 18:00 bis ca. 22:00 Uhr\n(Online vom Sofa aus über über Zoom)\nSamstag: Praxis: 9:00 bis 13:30 und 14:30 – 18:00 Uhr\nSonntag: Praxis: 9:00 bis 13:00 und 14:00 – 16:00 Uhr \nPreise als Teilnehmer mit Pferd\n2-Kurs und 1 Abend Vortrag \n316\,- Euro für Babette Teschen\n40\,- Euro für Hof Ohana (Anlagennutzung\, Inkasso\, Organisation)\n——————–\n356\,- Euro gesamt \nAuf Wunsch könnt ihr eine Box oder ein Paddock dazu buchen.\nGgf. haben wir auch ein erfahrenes Lehrpferd für euch.\nAlle Preise sind inkl. 19% MwSt. \nZuschauer pro Tag und Person\nFrühbucherrabatt\n30\,- Euro bis 30 Tage vor dem Kurs \nNormaler Preis\n38\,- Euro ab 29 Tage vor dem Kurs \nZur Anmeldung füllt bitte unser Online-Formular aus.\nWir melden uns dann schnellst möglich bei euch. \nHier geht es zur Online-Anmeldung\nWir freuen uns auf Euch \nnene \nPs.: Bei Fragen rund um unsere Kurse\, ruft uns gerne an:\n0151 58507711
URL:https://hofohana.de/veranstaltung/longenkurs-mit-babette-teschen-auf-hof-ohana-12
LOCATION:Hof Ohana
CATEGORIES:Bodenarbeit
ATTACH;FMTTYPE=image/jpeg:https://hofohana.de/wp-content/uploads/2023/11/15433_image_382116695_814745527297740_158422652337335158_n.jpg
END:VEVENT
END:VCALENDAR