BEGIN:VCALENDAR
VERSION:2.0
PRODID:-//Hof Ohana - ECPv6.15.20//NONSGML v1.0//EN
CALSCALE:GREGORIAN
METHOD:PUBLISH
X-WR-CALNAME:Hof Ohana
X-ORIGINAL-URL:https://hofohana.de
X-WR-CALDESC:Veranstaltungen für Hof Ohana
REFRESH-INTERVAL;VALUE=DURATION:PT1H
X-Robots-Tag:noindex
X-PUBLISHED-TTL:PT1H
BEGIN:VTIMEZONE
TZID:Europe/Berlin
BEGIN:DAYLIGHT
TZOFFSETFROM:+0100
TZOFFSETTO:+0200
TZNAME:CEST
DTSTART:20220327T010000
END:DAYLIGHT
BEGIN:STANDARD
TZOFFSETFROM:+0200
TZOFFSETTO:+0100
TZNAME:CET
DTSTART:20221030T010000
END:STANDARD
BEGIN:DAYLIGHT
TZOFFSETFROM:+0100
TZOFFSETTO:+0200
TZNAME:CEST
DTSTART:20230326T010000
END:DAYLIGHT
BEGIN:STANDARD
TZOFFSETFROM:+0200
TZOFFSETTO:+0100
TZNAME:CET
DTSTART:20231029T010000
END:STANDARD
BEGIN:DAYLIGHT
TZOFFSETFROM:+0100
TZOFFSETTO:+0200
TZNAME:CEST
DTSTART:20240331T010000
END:DAYLIGHT
BEGIN:STANDARD
TZOFFSETFROM:+0200
TZOFFSETTO:+0100
TZNAME:CET
DTSTART:20241027T010000
END:STANDARD
END:VTIMEZONE
BEGIN:VEVENT
DTSTART;TZID=Europe/Berlin:20231002T090000
DTEND;TZID=Europe/Berlin:20231002T170000
DTSTAMP:20260422T181818
CREATED:20230827T200944Z
LAST-MODIFIED:20230827T202310Z
UID:10000793-1696237200-1696266000@hofohana.de
SUMMARY:Einzelunterricht mit Janet Jones: Horse Brain - Human Brain
DESCRIPTION:Horse Brain\, Human Brain – der aktuelle Bestseller der Pferdefachliteratur in den USA – ist ein Buch und eine Trainingsphilosophie\, die von Janet L. Jones entwickelt wurde. Mit ihrem Hintergrund als Hirnforscherin\, Pferdetrainerin und Autorin ist Janet Jones in der einzigartigen Lage\, die Gehirnfunktion auf das Training von Pferden und Reitern anzuwenden. \nAm Montag nach dem Wochenend-Lehrgang bietet Janet Jones auf Hof Ohana die Möglichkeit für einen ganz besonderen Einzelunterricht. \nVielleicht hast du ein ganz besonderes Anliegen? Schreib uns gerne eine Email. Wir werden Janet fragen\, ob sie glaubt\, euch helfen zu können und dir ihre Antwort weiterleiten. \nDen Inhalt der Einheit bestimmst du.\n\nWer beim Kurs dabei war\, möchte vielleicht noch ein paar persönliche Fragen klären oder Gelerntes vertiefen.\nDu möchtest bei dieser großartigen Trainerin mit deinem Pferd eine Einheit Reitunterricht nehmen. Dabei ist es egal\, in welchem Sattel zu reitest.\nDu möchtest mit deinem Pferd oder einem (Bodenarbeits)-Lehrpferd von uns ganz individuell von Janet Jones lernen\, obwohl du nicht beim Kurs dabei warst.\n\nEgal\, was du wählst\, es geht immer m die gegenseitige Interaktion zwischen dem Gehirn von Pferd und Mensch. Wenn wir verstehen\, wie die Gehirne unserer Pferde funktionieren und wie sich ihre Gehirne von unseren unterscheiden\, werden wir \n\nPferde sicherer reiten und handhaben\neffektiver trainieren\ndie Leistung in allen Pferdesportarten verbessern\ndas Wohlbefinden und die Gesundheit unserer Tiere schützen\ndas gegenseitige Vertrauen zwischen Beute- und Raubtier fördern\ndie Kommunikation von Gehirn zu Gehirn zwischen den Arten entwickeln\n stärkere Teams aus Pferd und Mensch bilden\n\nAlle Pferde und Menschen haben ein Gehirn und müssen es unabhängig von ihrer Disziplin einsetzen. Aus diesem Grund ist Horsemanship auf der Grundlage des Gehirns für Menschen\, die Dressur reiten ebenso relevant wie für Springreiter\, Westernreiter\, Freizeitreiter oder Kutschfahrer. Und für Pferde wie Buschponies ebenso wichtig wie für Dressurchampions\, Rennpferde\, Grand-Prix-Springpferde und Hinterhofweiden-Schmuck ;-). Jeder\, der mit Pferden arbeitet\, sollte lernen\, wie die Gehirne von Pferden und Menschen zusammenarbeiten. \n \nJanet Jones spricht in einem langsamen\, deutlichen Englisch.\nAuf Anfrage gibt es Hilfe beim Übersetzen. \nUnser Hof verfügt über 4×5 m Gastboxen mit Fenster\, die du ggf. dazu buchen kannst. \nPreise\n\nAlle Preise sind inklusiv 19% Mehrwertsteuer.\nDu bezahlst vorab 10\,- Euro Anlagennutzung an den Hof Ohana.\nAuch das Lehrpferd wird mit 15\,- Euro pro Einheit vorab gebucht und bezahlt.\nDen Rest zahlst du mit 50\,- Euro für 30 Minuten VOR deinem Unterricht BAR direkt an die Veranstalterin Janes Jones.\n\nBitte reserviere dir einen Platz durch eine online Voranmeldung mit/ohne Pferd. Schreibe ggf. in das Mitteilungsfeld Name\, Geschlecht\, Alter deines Pferdes. Dein Pferd muss gegen Influenza geimpft sein und eine Haftpflichtversicherung haben.\n-> https://hofohana.de/anmeldeformular \nWir empfeheln dir auf jeden Fall das Buch „Horse brain – Human brain“ zu lesen. Es ist fantastisch und wurde in 7 Sprachen übersetzt. „Horse Brain\, Human Brain“ wurde von der Frankfurter Allgemeinen Zeitung (10. Dezember 2022) zum zweitbesten Sportbuch in Deutschland für 2022 gekürt. Janet ist eine sehr sympathische Ausbilderin\, die nicht nur auf der ganzen Welt Kurse gibt\, sondern jetzt auch auf Hof Ohana.\n-> https://www.janet-jones.com \nBis bald auf Hof Ohana! 🥳🥳 \nHeike\, Mona & das Hof Ohana-Team \nHier findest du unser Anmeldeformular als PDF.
URL:https://hofohana.de/veranstaltung/einzelunterricht-mit-janet-jones-horse-brain-human-brain
LOCATION:Hof Ohana
CATEGORIES:Bodenarbeit,Dressurreiten,Horsemanship
ATTACH;FMTTYPE=image/jpeg:https://hofohana.de/wp-content/uploads/2023/08/15300_image_370320627_789719636466996_8395655222327276832_n.jpg
END:VEVENT
BEGIN:VEVENT
DTSTART;TZID=Europe/Berlin:20230930T090000
DTEND;TZID=Europe/Berlin:20231001T170000
DTSTAMP:20260422T181818
CREATED:20230806T115220Z
LAST-MODIFIED:20230918T134147Z
UID:10000786-1696064400-1696179600@hofohana.de
SUMMARY:AUSGEBUCHT | Seminar mit Janet Jones | Horse Brain - Human Brain
DESCRIPTION:Das Seminar zum Fachbuch: Horse Brain\, Human Brain \nDurch eure wahnsinnige positive Resonanz und die zahlreichen Zusagen haben wir diesen Lehrgang der ganz besonderen Art mit der Autorin Janet Jones persönlich organisiert. Seit dem 16.8. ist er ausgebucht. Wir freuen uns riesig!\nFür alle\, die keinen Platz mehr bekommen haben\, besteht am Freitag\, den 29.9BRAINBHkennen zu lernen. Und/oder am Montag\, den 2.10. eine Einzelstunde (30\, 45 oder 60 Minuten) am Boden oder auf dem Pferd Einzelunterricht bei ihr zu nehmen. Auch diese Events findet ihr bei Facebook https://www.facebook.com/hofohana/ oder auf dieser Homepage. Wir freuen uns auf Euch!\n\nHorse Brain\, Human Brain – der aktuelle Bestseller der Pferde-Fachliteratur in den USA – ist ein Buch und eine Trainingsphilosophie\, die von Janet L. Jones entwickelt wurde. Mit ihrem Hintergrund als Hirnforscherin\, Pferdetrainerin und Autorin ist Janet Jones in der einzigartigen Lage\, die Gehirnfunktion auf das Training von Pferden und Reitern anzuwenden. \n \nDas gesamte Horsemanship beruht auf der gegenseitigen Interaktion zwischen dem Gehirn von Pferd und Mensch. Wenn wir verstehen\, wie die Gehirne unserer Pferde funktionieren und wie sich ihre Gehirne von unseren unterscheiden\, können wir: \n\n-Pferde sicherer reiten und handhaben\n effektiver trainieren\n die Leistung in allen Pferdesportarten verbessern\n das Wohlbefinden und die Gesundheit unserer Tiere schützen\n das gegenseitige Vertrauen zwischen Beute- und Raubtier fördern\n die Kommunikation von Gehirn zu Gehirn zwischen den Arten entwickeln und\n stärkere Teams aus Pferd und Mensch bilden\n\nAlle Pferde und Menschen haben ein Gehirn und müssen es unabhängig von ihrer Disziplin einsetzen. Aus diesem Grund ist Horsemanship auf der Grundlage des Gehirns für Menschen\, die Dressur reiten ebenso relevant wie für Springreiter\, Westernreiter\, Freizeitreiter oder Kutschfahrer. Und für Pferde wie Buschponies ebenso wichtig wie für Dressurchampions\, Rennpferde\, Grand-Prix-Springpferde und Hinterhofweiden-Schmuck ;-). Jeder\, der mit Pferden arbeitet\, sollte lernen\, wie die Gehirne von Pferden und Menschen zusammenarbeiten. \n \nWir freuen uns\, dich zu einem 2-tägigen Lehrgang mit Janet Jones persönlich einladen zu können. Er umfasst 3 Module und einen 30-minütigen Einzelunterricht für alle\, die ein Pferd mitgebracht oder ggf. von uns „ausgeliehen“ haben. Natürlich gibt es auch viele Diskussionen und gemeinsames Lernen. Das genaue Programm wird noch veröffentlicht. \nVeranstalter & Sprache \nDie Veranstalterin Janet Jones spricht in einem langsamen\, deutlichen Englisch. Auf Anfrage gibt es Hilfe beim Übersetzen. \n \nJanet kommt extra aus Amerika zu uns geflogen und dies ist der erste Kurs mit ihr in Deutschland. 😁 WICHTIG: Damit wir Janet eine endgültige Zusage geben und sie ihre „USA and back“- Flüge buchen kann\, brauchen wir möglichst schnell eure verbindlichen Anmeldungen. \nPlätze\nEs werden maximal 8 Plätze für Teilnehmer mit Pferd und 12 Plätze ohne Pferd verfügbar sein. Die Plätze werden nach Zahlungseingang vergeben. \nGastboxen\nUnser Hof verfügt über 6 riesige Gastboxen mit Fenster\, die du ggf. dazu buchen kannst. In der Nähe gibt es tolle Unterkünfte. Mehr dazu auf unser Homepage. \nTermin\nSamstag\, den 30.9.23 bis Sonntag\, den 1.10.23\nJeweils 9:00 bis circa 17:00 Uhr \nPreise inkl. Mehrwertsteuer \n\n440\,-€ als aktiver Teilnehmer MIT Pferd\nGgf. zzgl. 4×5 m Fensterbox inkl. Heu\, Stoh und Misten\n330\,-€ als aktiver Teilnehmer OHNE Pferd\n(Aktiv heißt du bist mit in der Reithalle und genauso im intensiven Kontakt mit Janet Jones wie Teilnehmer mit Pferd. Dies unterscheidet sich deutlich von einem reinen Zuschauerplatz.\nGgf. zzgl. als Schulpferd versichertes Leihpferd auf Anfrage.\n\nDas Buch „Horse brain – Human brain“ ist fantastisch und wurde in 7 Sprachen übersetzt. „Horse Brain\, Human Brain“ wurde von der Frankfurter Allgemeinen Zeitung (10. Dezember 2022) zum zweitbesten Sportbuch in Deutschland für 2022 gekürt. Janet ist eine sehr sympathische Ausbilderin\, die nicht nur auf der ganzen Welt Kurse gibt\, sondern jetzt auch auf Hof Ohana.\nhttps://www.janet-jones.com\nSeminar buchen \n\nPlatz reservieren durch online Voranmeldung mit/ohne Pferd\n(Bitte schreibt ggf. in das Mitteilungsfeld Name\, Geschlecht\, Alter eures Pferdes. Eure Pferde müssen gegen Influenza geimpft sein und eine Haftpflichtversicherung haben.)\nhttps://hofohana.de/anmeldeformular\nPlatz schriftlich buchen mit Anmeldeformular mit/ohne Pferd\nhttps://hofohana.de/download/2023JanetJonesAnmeldeformular.pdf\n\nBis bald auf Hof Ohana 🥳🥳 \nHeike\, Mona & das Hof Ohana-Team \nPS Wir freuen uns sehr\, wenn du diese Veranstaltung likst\, teilst und/oder deine Freunde einlädst.\nfacebook.com/events/675803924397745 \nHinterlasse auch gerne ein „Gefällt mir“ oder eine Nachricht auf der Facebookseite von Janet Jones. 🙂\nfacebook.com/janet Jones – horse brains
URL:https://hofohana.de/veranstaltung/seminar-mit-janet-jones-horse-brain-human-brain
LOCATION:Hof Ohana
CATEGORIES:Bodenarbeit,Horsemanship,Theorie
ATTACH;FMTTYPE=image/jpeg:https://hofohana.de/wp-content/uploads/2023/08/15233_image_365388794_772918088147151_1601825837445340879_n.jpg
END:VEVENT
BEGIN:VEVENT
DTSTART;TZID=Europe/Berlin:20230929T180000
DTEND;TZID=Europe/Berlin:20230929T210000
DTSTAMP:20260422T181818
CREATED:20230905T223039Z
LAST-MODIFIED:20230918T145254Z
UID:10000794-1696010400-1696021200@hofohana.de
SUMMARY:Ein Vortrag von Janet Jones: BRAIN TO BRAIN
DESCRIPTION:Wir würden uns sehr freuen\, dich zu einem 3-stündigen Info-Abend mit Prof. Janet L. Jones persönlich einladen zu können.  \nJanet\, Pferdetrainerin\, Neurowissenschaftlerin und Autorin von Horse Brain\, Human Brain\, wird über die Kommunikation von Gehirn zu Gehirn zwischen Pferden und Reitern mithilfe der Körpersprache sprechen. Zu den Themen gehören \n\ndie Sensibilität von Pferden für menschliche Berührungen\ndie neuronale Interaktion zwischen Beute und Raubtier\ndie Möglichkeiten zur Verbesserung der Produktion und Wahrnehmung von Hinweisen zwischen Pferden und Menschen\n\nJanet spricht in einem deutlichen Englisch.\nWenn wir verstehen\, wie die Gehirne unserer Pferde funktionieren und wie sich ihre Gehirne von unseren unterscheiden\, können wir: \n\nPferde sicherer reiten und handhaben\neffektiver trainieren\ndie Leistung in allen Pferdesportarten verbessern\ndas Wohlbefinden und die Gesundheit unserer Tiere schützen\ndas gegenseitige Vertrauen zwischen Beute- und Raubtier fördern\ndie Kommunikation von Gehirn zu Gehirn zwischen den Arten entwickeln und\nstärkere Teams aus Pferd und Mensch bilden\n\nDie Plätze sind begrenzt und werden nach Zahlungseingang vergeben. Wer eine Übernachtung braucht\, dem empfehlen wir das Hotel in Hammoor (nahe der Autobahnausfahrt A1/Bargteheide).\nJanet kommt extra aus Amerika zu uns geflogen und dies ist der erste Vortrag mit ihr in Deutschland.\nDie Preise setzten sich aus einer Vereinnahmung für die Veranstalterin Prof. Janet L. Jones und Dienstleistungen vom Hof Ohana zusammen. Die Leistungen sind inkl. 19% Mehrwertsteuer.\n\nEs haben über 350 Leute Interesse an dem Wochenend-Lehrgang mit Janet gezeigt oder sogar zugesagt. Es gibt aber nur 20 Plätze und der Wochenend-Lehrgang ist bereits ausgebucht. Deshalb haben wir für alle anderen diesen Info-Abend organisiert. Der Powerpoint-Vortrag findet je nach Teilnehmerzahl im geheizten Seminarraum oder in der isolierten\, aber ungeheizten Reithalle statt. Die Plätze sind begrenzt.\nPreise\nFrühbucher (Zahlungseingang bis zum 15.9.2023) = 33\,- Euro\nVorkasse (Zahlungseingang bis zum 27.9.2023) = 35\,- Euro\nAbendkasse (Solange noch Plätze frei sind) = 40\,- Euro\nGruppenrabatt auf Anfrage \nTickets kaufen\nPlatz reservieren durch online Voranmeldung\n-> https://hofohana.de/anmeldeformular \nPlatz schriftlich buchen mit Anmeldeformular\n-> https://hofohana.de/download/2023AnmeldenOhnePferd.pdf \nDas Buch „Horse brain – Human brain“ ist fantastisch und wurde in 7 Sprachen übersetzt. „Horse Brain\, Human Brain“ wurde von der Frankfurter Allgemeinen Zeitung (10. Dezember 2022) zum zweitbesten Sportbuch in Deutschland für 2022 gekürt. Janet ist eine sehr sympathische Ausbilderin\, die nicht nur auf der ganzen Welt Kurse gibt\, sondern jetzt auch auf Hof Ohana.\n-> https://www.janet-jones.com \nBis bald auf Hof Ohana! 🥳🥳 \nHeike\, Mona & das Hof Ohana-Team \nPS Wir freuen uns sehr\, wenn du diese Veranstaltung likst\, teilst und/oder deine Freunde einlädst.\nhttps://www.facebook.com/events/1475983752941540
URL:https://hofohana.de/veranstaltung/info-abend-mit-janet-jones-horse-brain-human-brain
LOCATION:Hof Ohana
CATEGORIES:Bodenarbeit,Dressurreiten,Horsemanship,Springreiten,Theorie
ATTACH;FMTTYPE=image/jpeg:https://hofohana.de/wp-content/uploads/2023/09/15310_image_375132718_795834825855477_4953858019259942704_n-scaled.jpg
END:VEVENT
END:VCALENDAR