BEGIN:VCALENDAR
VERSION:2.0
PRODID:-//Hof Ohana - ECPv6.15.20//NONSGML v1.0//EN
CALSCALE:GREGORIAN
METHOD:PUBLISH
X-WR-CALNAME:Hof Ohana
X-ORIGINAL-URL:https://hofohana.de
X-WR-CALDESC:Veranstaltungen für Hof Ohana
REFRESH-INTERVAL;VALUE=DURATION:PT1H
X-Robots-Tag:noindex
X-PUBLISHED-TTL:PT1H
BEGIN:VTIMEZONE
TZID:Europe/Berlin
BEGIN:DAYLIGHT
TZOFFSETFROM:+0100
TZOFFSETTO:+0200
TZNAME:CEST
DTSTART:20160327T010000
END:DAYLIGHT
BEGIN:STANDARD
TZOFFSETFROM:+0200
TZOFFSETTO:+0100
TZNAME:CET
DTSTART:20161030T010000
END:STANDARD
BEGIN:DAYLIGHT
TZOFFSETFROM:+0100
TZOFFSETTO:+0200
TZNAME:CEST
DTSTART:20170326T010000
END:DAYLIGHT
BEGIN:STANDARD
TZOFFSETFROM:+0200
TZOFFSETTO:+0100
TZNAME:CET
DTSTART:20171029T010000
END:STANDARD
BEGIN:DAYLIGHT
TZOFFSETFROM:+0100
TZOFFSETTO:+0200
TZNAME:CEST
DTSTART:20180325T010000
END:DAYLIGHT
BEGIN:STANDARD
TZOFFSETFROM:+0200
TZOFFSETTO:+0100
TZNAME:CET
DTSTART:20181028T010000
END:STANDARD
BEGIN:DAYLIGHT
TZOFFSETFROM:+0100
TZOFFSETTO:+0200
TZNAME:CEST
DTSTART:20190331T010000
END:DAYLIGHT
BEGIN:STANDARD
TZOFFSETFROM:+0200
TZOFFSETTO:+0100
TZNAME:CET
DTSTART:20191027T010000
END:STANDARD
BEGIN:DAYLIGHT
TZOFFSETFROM:+0100
TZOFFSETTO:+0200
TZNAME:CEST
DTSTART:20200329T010000
END:DAYLIGHT
BEGIN:STANDARD
TZOFFSETFROM:+0200
TZOFFSETTO:+0100
TZNAME:CET
DTSTART:20201025T010000
END:STANDARD
BEGIN:DAYLIGHT
TZOFFSETFROM:+0100
TZOFFSETTO:+0200
TZNAME:CEST
DTSTART:20210328T010000
END:DAYLIGHT
BEGIN:STANDARD
TZOFFSETFROM:+0200
TZOFFSETTO:+0100
TZNAME:CET
DTSTART:20211031T010000
END:STANDARD
BEGIN:DAYLIGHT
TZOFFSETFROM:+0100
TZOFFSETTO:+0200
TZNAME:CEST
DTSTART:20220327T010000
END:DAYLIGHT
BEGIN:STANDARD
TZOFFSETFROM:+0200
TZOFFSETTO:+0100
TZNAME:CET
DTSTART:20221030T010000
END:STANDARD
BEGIN:DAYLIGHT
TZOFFSETFROM:+0100
TZOFFSETTO:+0200
TZNAME:CEST
DTSTART:20230326T010000
END:DAYLIGHT
BEGIN:STANDARD
TZOFFSETFROM:+0200
TZOFFSETTO:+0100
TZNAME:CET
DTSTART:20231029T010000
END:STANDARD
BEGIN:DAYLIGHT
TZOFFSETFROM:+0100
TZOFFSETTO:+0200
TZNAME:CEST
DTSTART:20240331T010000
END:DAYLIGHT
BEGIN:STANDARD
TZOFFSETFROM:+0200
TZOFFSETTO:+0100
TZNAME:CET
DTSTART:20241027T010000
END:STANDARD
BEGIN:DAYLIGHT
TZOFFSETFROM:+0100
TZOFFSETTO:+0200
TZNAME:CEST
DTSTART:20250330T010000
END:DAYLIGHT
BEGIN:STANDARD
TZOFFSETFROM:+0200
TZOFFSETTO:+0100
TZNAME:CET
DTSTART:20251026T010000
END:STANDARD
BEGIN:DAYLIGHT
TZOFFSETFROM:+0100
TZOFFSETTO:+0200
TZNAME:CEST
DTSTART:20260329T010000
END:DAYLIGHT
BEGIN:STANDARD
TZOFFSETFROM:+0200
TZOFFSETTO:+0100
TZNAME:CET
DTSTART:20261025T010000
END:STANDARD
END:VTIMEZONE
BEGIN:VEVENT
DTSTART;TZID=Europe/Berlin:20251113T180000
DTEND;TZID=Europe/Berlin:20251113T213000
DTSTAMP:20260421T211036
CREATED:20250218T154006Z
LAST-MODIFIED:20251015T100542Z
UID:10000890-1763056800-1763069400@hofohana.de
SUMMARY:Erkennen von Pferdepersönlichkeitstypen zur Optimierung der Ausbildung
DESCRIPTION:Erkennen von Persönlichkeitstypen zur Optimierung der Ausbildung \nLehrinhalt sind vier verschiedene Pferdepersönlichkeitstypen\, wie und woran man sie erkennt und wie man dieses Wissen nutzt\, um die Ausbildung von Pferden zu optimieren. \nDas klingt zugegebenermaßen recht trocken\, aber keine Sorge\, es ist genau das Gegenteil. Denn genau wie im Alltag werden wir auch an diesem Abend viel über die kleinen Un- und Eigenheiten unserer Lieblinge lachen.\nJedes Pferd ist einmalig und braucht eine der aktuellen Situation angepasste\, individuelle Umgangsweise.\nAber welcher Typ ist mein Pferd gerade?\nWoran erkenne ich das?\nWie kann ich mein Verhalten dem Typ anpassen\, um meinem Pferd zu helfen? \nNach diesem Tag wisst ihr mehr. Die Veranstaltung ist auf 15 Teilnehmer begrenzt\, denn ihr habt die Gelegenheit das gelernte Wissen gleich anzuwenden\, um den Charaktertyp Eures Pferdes zu bestimmen. Besonders wertvoll ist dieses Wissen auch\, wenn man sich ein Pferd kaufen möchte\, denn nicht jeder Pferdetyp passt zu jedem Menschentyp. \nAblauf:\nIm ersten Teil stellt Euch Heike mit einem PowerPoint-Vortrag vier verschiedene Basis-Charaktertypen und ihre Mischformen vor. \nWas bedeutet was?\nAnhand von Fotos und kleinen Videos lernt ihr euer Auge für körperliche Merkmale wie Spiel der Ohren\, Stellung der Beine\, Reaktion der Nüstern\, Blinzeln/Starren\, Gähnen\, Anspannung/Entspannung\, Halshaltung u.v.m. zu schulen. \nWill es nicht oder kann es nicht?\nDas ist zum Beispiel die entscheidende Frage beim Verladen in einen Pferdeanhänger. Ein Pferd lesen zu können\, macht gerade Verladen wesentlich stressfreier für Mensch und Pferd. \nJedes Pferd ist einmalig und hat seine typische\, charakteristische Grundeigenschaften. Trotzdem kann es – wie bestimmt jeder schon erlebt hat – durch äußere Umstände in Sekunden in einen komplett anderen Typ wechseln. Wir betrachten beim Lernen stets einen aktuellen Moment. \nNach einer kleinen Pause wird Heike Euch helfen\, den Grund-Charaktertyp Eurer Pferde zu bestimmen. Dabei erklärt sie auch den Zusammenhang zwischen einem bestimmten Verhalten und der entsprechenden Charaktereigenschaft. \nIhr erhaltet Tipps zum Thema „To do and not to do“ für die verschiedenen Persönlichkeitstypen. Damit könnt ihr eurem Pferd helfen\, gelassener und mental ausgeglichener zu werden. Ziel ist eine harmonische oder noch harmonischere Beziehung zu Eurem Pferd zu entwickeln. \nZur Person:\nHeike von Heymann hat mit Ihrer Tochter Mona vier Pferde mit drei verschiedenen Charakter-Typen. Sie beschäftigt sich seit Jahren intensiv mit diesem Thema „Parelli Horsenalities“\, studiert Parelli Natural Horsemanship im Level 3-4 und ist begeisterte Dressur- und Buschreiterin. Seit vielen Jahren ist sie freiberuflich seit 15 Jahren als Trainerin für Natural Horsemanship tätig. Eine Bestimmung der Pferdepersönlichkeit ist stets die Grundlage ihrer Arbeit und es macht ihr große Freunde\, wenn Pferd und Mensch durch dieses Wissen gelassener und selbstbewusster werden. \nWir freuen uns auf interessante Stunden mit vielen spannenden Persönlichkeiten. \nLiebe Grüße \nHeike von Heymann und das Hof Ohana Team\n———————-\nAnfahrt:\nHof Ohana – Bildung für Mensch & Pferd\nAlte Landstraße 111\n22941 Bargteheide \nPreise:\n25\,- € Vorkasse\n33\,- € Abendkasse \nOnline Anmeldung:\nhttps://digistable.app/events/anmeldeformular.php?eid=71&start=13.11.2025&ende=13.11.2025 \nRückfragen an heike@vonheymann.net oder 0170-8990555
URL:https://hofohana.de/veranstaltung/erkennen-von-pferdepersoenlichkeitstypen-zur-optimierung-der-ausbildung-10
LOCATION:Hof Ohana
CATEGORIES:Horsemanship,Theorie
ATTACH;FMTTYPE=image/jpeg:https://hofohana.de/wp-content/uploads/2025/02/16513_image_480552450_1181665183939104_90599579717730341_n.jpg
END:VEVENT
BEGIN:VEVENT
DTSTART;TZID=Europe/Berlin:20230610T130000
DTEND;TZID=Europe/Berlin:20230610T160000
DTSTAMP:20260421T211036
CREATED:20230525T221715Z
LAST-MODIFIED:20230528T103020Z
UID:10000777-1686402000-1686412800@hofohana.de
SUMMARY:Erkennen von Pferdepersönlichkeitstypen zur Optimierung der Ausbildung
DESCRIPTION:Erkennen von Persönlichkeitstypen zur Optimierung der Ausbildung \nLehrinhalt sind vier verschiedene Pferdepersönlichkeitstypen\, wie und woran man sie erkennt und wie man dieses Wissen nutzt\, um die Ausbildung von Pferden zu optimieren. \nDas klingt zugegebenermaßen recht trocken\, aber keine Sorge\, es ist genau das Gegenteil. Denn genau wie im Alltag werden wir auch an diesem Abend viel über die kleinen Un- und Eigenheiten unserer Lieblinge lachen. Jedes Pferd ist einmalig und braucht eine der aktuellen Situation angepasste\, individuelle Umgangsweise. \nohanaAber welcher Typ ist mein Pferd gerade?\nWoran erkenne ich das?\nWie kann ich mein Verhalten dem Typ anpassen\, um meinem Pferd zu helfen? \nNach diesem Tag wisst ihr mehr. Die Veranstaltung ist auf 15 Teilnehmer begrenzt\, denn ihr habt die Gelegenheit das gelernte Wissen gleich anzuwenden\, um den Charaktertyp Eures Pferdes zu bestimmen. Besonders wertvoll ist dieses Wissen auch\, wenn man sich ein Pferd kaufen möchte\, denn nicht jeder Pferdetyp passt zu jedem Menschentyp. \nAblauf:\nIm ersten Teil stellt Euch Heike mit einem Powerpoint-Vortrag vier verschiedene Basis-Charaktertypen und ihre Mischformen vor. \nWas bedeutet was?\nAnhand von Fotos und kleinen Videos lernt ihr euer Auge für körperliche Merkmale wie Spiel der Ohren\, Stellung der Beine\, Reaktion der Nüstern\, Blinzeln/Starren\, Gähnen\, Anspannung/Entspannung\, Halshaltung u.v.m. zu schulen. \nWill es nicht oder kann es nicht?\nDas ist zum Beispiel die entscheidene Frage beim Verladen in einen Pferdeanhänger. Ein Pferd lesen zu können\, macht gerade Verladen wesentlich stressfreier für Mensch und Pferd. \nJedes Pferd ist einmalig und hat seine typische\, charakteristische Grundeigenschaften. Trotzdem kann es – wie bestimmt jeder schon erlebt hat – durch äußere Umstände in Sekunden in einen komplett anderen Typ wechseln. Wir betrachten beim Lernen stets einen aktuellen Moment. \nNach einer kleinen Pause wird Heike Euch helfen\, den Grund-Charaktertyp Eurer Pferde zu bestimmen. Dabei erklärt sie auch den Zusammenhang zwischen einem bestimmten Verhalten und der entsprechenden Charaktereigenschaft. \nIhr erhaltet Tipps zum Thema „To do and not to do“ für die verschiedenen Persönlichkeitstypen. Damit könnt ihr eurem Pferd helfen\, gelassener und mental ausgeglichener zu werden. Ziel ist eine harmonische oder noch harmonischere Beziehung zu Eurem Pferd zu entwickeln. \nZur Person:\nHeike von Heymann hat mit Ihrer Tochter Mona vier Pferde mit drei verschiedenen Charakter-Typen. Sie beschäftigt sich seit Jahren intensiv mit diesem Thema „Parelli Horsenalities“\, studiert Parelli Natural Horsemanship im Level 3-4 und ist begeisterte Dressur- und Buschreiterin. Seit vielen Jahren ist sie freiberuflich als Trainerin für Natural Horsemanship tätig. Eine Bestimmung der Pferdepersönlichkeit ist stets die Grundlage ihrer Arbeit und es macht ihr große Freunde\, wenn Pferd und Mensch durch dieses Wissen gelassener und selbstbewußter werden. \nWir freuen uns auf interessante Stunden mit vielen spannenden Persönlichkeiten. \nLiebe Grüße \nHeike von Heymann und das Hof Ohana Team \nAnfahrt:\nHof Ohana – Bildung für Mensch & Pferd\nAlte Landstraße 111\n22941 Bargteheide \nPreise:\n25\,- € Vorkasse\n33\,- € Tageskasse \nAnmeldeformular:\nhttps://hofohana.de/download/2023AnmeldenOhnePferd.pdf \nOnline Anmeldung:\nhttps://hofohana.de/Anmeldeformular \nRückfragen an heike@vonheymann.net oder 0170-8990555
URL:https://hofohana.de/veranstaltung/erkennen-von-pferdepersoenlichkeitstypen-zur-optimierung-der-ausbildung-4
LOCATION:Hof Ohana – Bildung für Mensch & Pferd\, Alte Landstraße 111 (Großes rotes Tor)\, Bargteheide\, Schleswig-Holstein\, 22941\, Deutschland
CATEGORIES:Horsemanship,Theorie
ATTACH;FMTTYPE=image/jpeg:https://hofohana.de/wp-content/uploads/2023/05/15110_image_349604062_244599208218656_7314398422106329136_n.jpg
ORGANIZER;CN="Hof Ohana - Bildung f%C3%BCr Mensch & Pferd":MAILTO:team@hofohana.de
END:VEVENT
BEGIN:VEVENT
DTSTART;TZID=Europe/Berlin:20180614T210000
DTEND;TZID=Europe/Berlin:20180614T233000
DTSTAMP:20260421T211036
CREATED:20180314T130010Z
LAST-MODIFIED:20190516T171259Z
UID:10000607-1529010000-1529019000@hofohana.de
SUMMARY:Erkennen von Persönlichkeitstypen zur Optimierung der Ausbildung
DESCRIPTION:Erkennen von Persönlichkeitstypen zur Optimierung der Ausbildung \nLehrinhalt sind die vier verschiedenen Pferdepersönlichkeiten\, wie und woran man sie erkennt und wie man dieses Wissen nutzt\, um die Ausbildung von Pferden zu optimieren. \nDas klingt zugegebenermaßen recht trocken\, aber keine Sorge\, es ist genau das Gegenteil. Denn genau wie im Alltag werden wir auch an diesem Abend viel über die kleinen Un- und Eigenheiten unserer Lieblinge lachen. \nJedes Pferd ist einmalig und braucht eine der aktuellen Situation angepasste\, individuelle Umgangsweise.\nAber welcher Typ ist mein Pferd gerade?\nWoran erkenne ich das?\nWie kann ich mein Verhalten dem Typ anpassen\, um meinem Pferd zu helfen? \nNach diesem Abend wisst ihr mehr. Die Veranstaltung ist auf 20 Teilnehmer begrenzt\, denn ihr habt die Gelegenheit das gelernte Wissen gleich anzuwenden\, um den Charaktertyp Eures Pferdes zu bestimmen. Besonders wertvoll ist dieses Wissen auch\, wenn man sich ein Pferd kaufen möchte\, denn nicht jeder Pferdetyp passt zu jedem Menschentyp. \nAblauf des Abends:\nIm ersten Teil stellt Euch Heike von Heymann mit einem Powerpoint-Vortrag vier verschiedene Basis-Charaktertypen und ihre Mischformen vor. \nWas bedeutet was?\nAnhand von Fotos und kleinen Videos lernt ihr euer Auge für körperliche Merkmale wie Spiel der Ohren\, Stellung der Beine\, Reaktion der Nüstern\, Blinzeln/Starren\, Gähnen\, Anspannung/Entspannung\, Halshaltung u.v.m. zu schulen. \nWill es nicht oder kann es nicht?\nDas ist zum Beispiel die entscheidene Frage beim Verladen in einen Pferdeanhänger. Ein Pferd lesen zu können\, macht gerade Verladen wesentlich stressfreier für Mensch und Pferd. \nJedes Pferd ist einmalig und hat seine typische\, charakteristische Grundeigenschaften. Trotzdem kann es – wie bestimmt jeder schon erlebt hat – durch äußere Umstände in Sekunden in einen komplett anderen Typ wechseln. Wir betrachten beim Lernen stets einen aktuellen Moment. \nNach einer kleinen Pause wird Heike Euch helfen\, den Grund-Charaktertyp Eurer Pferde zu bestimmen. Dabei erklärt sie auch den Zusammenhang zwischen einem bestimmten Verhalten und der entsprechenden Charaktereigenschaft. \nIhr erhaltet Tipps zum Thema „To do and not to do“ für die verschiedenen Persönlichkeitstypen. Damit könnt ihr eurem Pferd helfen\, gelassener und mental ausgeglichener zu werden. Ziel ist eine harmonische oder noch harmonischere Beziehung zu Eurem Pferd zu entwickeln. \nZur Person:\nHeike von Heymann hat mit Ihrer Tochter Mona vier Pferde mit drei verschiedenen Charakter-Typen. Sie beschäftigt sich seit Jahren intensiv mit diesem Thema „Parelli Horsenalities“\, studiert Parelli Natural Horsemanship im Level 3-4 und ist begeisterte Dressur- und Buschreiterin. Seit vielen Jahren ist sie freiberuflich als Trainerin für Natural Horsemanship tätig. Eine Bestimmung der Pferdepersönlichkeit ist stets die Grundlage ihrer Arbeit und es macht ihr große Freunde\, wenn Pferd und Mensch durch dieses Wissen gelassener und selbstbewußter werden. \nWir freuen uns auf einen interessanten Abend mit vielen spannenden Persönlichkeiten. \nLiebe Grüße \nEuer Hof Ohana Team\n———————- \nHof Ohana\, Donnerstag\, den 14.06.2018 19:00 – 21:30 Uhr\n25\,- € Vorkasse\n29\,- € Abendkasse\n15\,- € Einsteller Hof Ohana \nHier klicken für das Anmeldeformular: 201806 Persoenlichkeiten Vortrag HvH \nBitte ausdrucken und faxen\, fotografieren und mailen oder mit der Post senden. \nWir freuen uns auf Euch!\nEuer Hof Ohana Team \nRückfragen an heike@hof-ohana.de oder 0170-8990555
URL:https://hofohana.de/veranstaltung/erkennen-von-persoenlichkeitstypen-zur-optimierung-der-ausbildung-2
LOCATION:Hof Ohana – Bildung für Mensch & Pferd\, Alte Landstraße 111 (Großes rotes Tor)\, Bargteheide\, Schleswig-Holstein\, 22941\, Deutschland
CATEGORIES:Horsemanship,Theorie
ATTACH;FMTTYPE=image/jpeg:https://hofohana.de/wp-content/uploads/2018/03/1918_image_29186221_1804419722941464_1838319635607322624_o.jpg
ORGANIZER;CN="Heike von Heymann":MAILTO:heike@hof-ohana.de
END:VEVENT
BEGIN:VEVENT
DTSTART;TZID=Europe/Berlin:20180315T200000
DTEND;TZID=Europe/Berlin:20180315T223000
DTSTAMP:20260421T211036
CREATED:20171115T135102Z
LAST-MODIFIED:20171220T223424Z
UID:10000566-1521144000-1521153000@hofohana.de
SUMMARY:Erkennen von Persönlichkeitstypen zur Optimierung der Ausbildung
DESCRIPTION:Erkennen von Persönlichkeitstypen zur Optimierung der Ausbildung\nLehrinhalt sind die vier verschiedenen Pferdepersönlichkeiten\, wie und woran man sie erkennt und wie man dieses Wissen nutzt\, um die Ausbildung von Pferden zu optimieren. \nDas klingt zugegebenermaßen recht trocken\, aber keine Sorge\, es ist genau das Gegenteil. Denn genau wie im Alltag werden wir auch an diesem Abend viel über die kleinen Un- und Eigenheiten unserer Lieblinge lachen. \nJedes Pferd ist einmalig und braucht eine der aktuellen Situation angepasste\, individuelle Umgangsweise.\nAber welcher Typ ist mein Pferd gerade?\nWoran erkenne ich das?\nWie kann ich mein Verhalten dem Typ anpassen\, um meinem Pferd zu helfen? \nNach diesem Abend wisst ihr mehr. Die Veranstaltung ist auf 20 Teilnehmer begrenzt\, denn ihr habt die Gelegenheit das gelernte Wissen gleich anzuwenden\, um den Charaktertyp Eures Pferdes zu bestimmen. Besonders wertvoll ist dieses Wissen auch\, wenn man sich ein Pferd kaufen möchte\, denn nicht jeder Pferdetyp passt zu jedem Menschentyp. \nAblauf des Abends:\nIm ersten Teil stellt Euch Heike von Heymann mit einem Powerpoint-Vortrag vier verschiedene Basis-Charaktertypen und ihre Mischformen vor. \nWas bedeutet was?\nAnhand von Fotos und kleinen Videos lernt ihr euer Auge für körperliche Merkmale wie Spiel der Ohren\, Stellung der Beine\, Reaktion der Nüstern\, Blinzeln/Starren\, Gähnen\, Anspannung/Entspannung\, Halshaltung u.v.m. zu schulen. \nWill es nicht oder kann es nicht?\nDas ist zum Beispiel die entscheidene Frage beim Verladen in einen Pferdeanhänger. Ein Pferd lesen zu können\, macht gerade Verladen wesentlich stressfreier für Mensch und Pferd. \nJedes Pferd ist einmalig und hat seine typische\, charakteristische Grundeigenschaften. Trotzdem kann es – wie bestimmt jeder schon erlebt hat – durch äußere Umstände in Sekunden in einen komplett anderen Typ wechseln. Wir betrachten beim Lernen stets einen aktuellen Moment. \nNach einer kleinen Pause wird Heike Euch helfen\, den Grund-Charaktertyp Eurer Pferde zu bestimmen. Dabei erklärt sie auch den Zusammenhang zwischen einem bestimmten Verhalten und der entsprechenden Charaktereigenschaft. \nIhr erhaltet Tipps zum Thema „To do and not to do“ für die verschiedenen Persönlichkeitstypen. Damit könnt ihr eurem Pferd helfen\, gelassener und mental ausgeglichener zu werden. Ziel ist eine harmonische oder noch harmonischere Beziehung zu Eurem Pferd zu entwickeln. \nZur Person:\nHeike von Heymann hat mit Ihrer Tochter Mona vier Pferde mit drei verschiedenen Charakter-Typen. Sie beschäftigt sich seit Jahren intensiv mit diesem Thema „Parelli Horsenalities“\, studiert Parelli Natural Horsemanship im Level 3-4 und ist begeisterte Dressur- und Buschreiterin. Seit vielen Jahren ist sie freiberuflich als Trainerin für Natural Horsemanship tätig. Eine Bestimmung der Pferdepersönlichkeit ist stets die Grundlage ihrer Arbeit und es macht ihr große Freunde\, wenn Pferd und Mensch durch dieses Wissen gelassener und selbstbewußter werden. \nWir freuen uns auf einen interessanten Abend mit vielen spannenden Persönlichkeiten. \nLiebe Grüße \nEuer Hof Ohana Team\n———————- \nHof Ohana\, Donnerstag\, den 15.03.2018 19:00 – 21:30 Uhr\n25\,- € Vorkasse\n29\,- € Abendkasse\n15\,- € Einsteller Hof Ohana \nDas Anmeldeformular bitte ausdrucken und faxen\, fotografieren und mailen oder mit der Post senden. \nWir freuen uns auf Euch!\nEuer Hof Ohana Team \nRückfragen an heike@hof-ohana.de oder 0170-8990555 \n 201803 Persoenlichkeiten Vortrag Heike \n 
URL:https://hofohana.de/veranstaltung/erkennen-von-persoenlichkeitstypen-zur-optimierung-der-ausbildung
LOCATION:Hof Ohana – Bildung für Mensch & Pferd\, Alte Landstraße 111 (Großes rotes Tor)\, Bargteheide\, Schleswig-Holstein\, 22941\, Deutschland
CATEGORIES:Horsemanship,Theorie
ATTACH;FMTTYPE=image/jpeg:https://hofohana.de/wp-content/uploads/2017/11/1643_image_23467446_1676373499079421_7837516635756314824_o.jpg
ORGANIZER;CN="Hof Ohana - Bildung f%C3%BCr Mensch & Pferd":MAILTO:team@hofohana.de
END:VEVENT
BEGIN:VEVENT
DTSTART;TZID=Europe/Berlin:20171111T100000
DTEND;TZID=Europe/Berlin:20171112T180000
DTSTAMP:20260421T211036
CREATED:20170923T185346Z
LAST-MODIFIED:20171018T183236Z
UID:10000530-1510394400-1510509600@hofohana.de
SUMMARY:Abgesagt von Berni: Parelli Kurs mit Berni Zambail
DESCRIPTION:Abgesagt am 16.10.2017 von Berni Zambail. \nLiebe Freunde vom Hof Ohana und Parelli Horsemanship\, \nWir haben in den letzten drei Jahren mehrere Kurse\, Vorträge und Live-Demos mit dem fünf Sterne Instruktor Berni Zambail veranstaltet. Sie waren stets sehr beliebt\, erfolgreich und ausgebucht.  \nVier Wochen vor Kursbeginn sind leider erst fünf von acht Kursplätzen a 250\,- €\, aber schon jetzt 20 Tickets a 25 € für den Horsenaltity-Vortrag verkauft. \nHerr Zambail hat uns nun am 16.10.17 – trotz vorheriger telefonischer Zusage auch für nur fünf Kursteilnehmer zu kommen – abgesagt. Er glaubt\, an diesem Termin in der Schweiz mehr Geld verdienen zu können.  \nEr dankt uns ganz herzlich für unsere Arbeit…..\n(Wer schon mal einen Kurs organisiert hat\, weiß wieviele Stunden da für Texte\, Anmeldeformulare\, Listen\, Telefonate und Mailverkehr zusammen kommen.)\n….. und unsere Liebe zu Natural Horsemanship.  \nBereits gezahlte Kurs- und Vortragsgebühren erstatten wir selbstverständlich zurück. \nFür den Freitag-Abend hoffen wir\, einen Ersatzvortrag über Pferdepersönlichkeiten anbieten zu können. \nLiebe Grüße\nEuer Hof Ohana Team  \n——————————- \nWir freuen uns sehr\, dass der ***** Parelli Instruktor und „Master Horse Development Specialist“ Berni Zambail am Samstag\, den 11.11.2017 und Sonntag\, den 12.11.2017 erneut  einen Kurs bei uns geben wird. \nDieser Kurs ist für Parelli-Studenten im Level 2-4 ausgeschrieben.  Zuschauer sind herzlich willkommen. \nBerni geht in seinem Unterricht individuell auf das Ausbildungsniveau von Mensch und Pferd ein. Mit jedem Level steigt bei Parelli der Anspruch an die Qualität nach dem Motto: „Good\, better\, best\, never let it rest.“.  \nDer Kurs ist deshalb sowohl für die Teilnehmer unseres Einstiegskurses als auch für wesentlich fortgeschrittene Teilnehmer geeignet. \nZuschauer\, die wissen wollen\, ob Parelli auch etwas für sie und ihr Pferd sein könnte sind herzlich willkommen.  \nBerni bildet Parelli-Studenten bis in die höchsten Level aus und freut sich trotzdem immer in Kursen auch Basiswissen über Pferdeverhalten\, Pferdepsychologie und Parelli Natural Horsemanship zu vermitteln.  \nDas Anmeldeformular findet ihr hier in der Veranstaltung unter „Ticket“ oder auf www.hofohana.de. \nAm Freitag\, den 10.11.2017 findet am Abend wieder der Vortrag über Horsenalities (Pferdepersönlichkeiten) mit anschließender Livedemo statt\, mit dem Berni bei uns schon 2015 und 2016 ein breites Publikum fasziniert und begeistert hat. \nWir freuen uns auf Euch!\nEuer Hof Ohana Team
URL:https://hofohana.de/veranstaltung/parelli-kurs-mit-instruktor-berni-zambail-auf-hof-ohana
LOCATION:Hof Ohana – Bildung für Mensch & Pferd\, Alte Landstraße 111 (Großes rotes Tor)\, Bargteheide\, Schleswig-Holstein\, 22941\, Deutschland
CATEGORIES:Horsemanship
ATTACH;FMTTYPE=image/jpeg:https://hofohana.de/wp-content/uploads/2017/09/1337_image_14608931_1270285939688181_4079194906905062693_o.jpg
ORGANIZER;CN="Hof Ohana - Bildung f%C3%BCr Mensch & Pferd":MAILTO:team@hofohana.de
END:VEVENT
BEGIN:VEVENT
DTSTART;TZID=Europe/Berlin:20171110T200000
DTEND;TZID=Europe/Berlin:20171110T223000
DTSTAMP:20260421T211036
CREATED:20170923T185344Z
LAST-MODIFIED:20171029T180546Z
UID:10000528-1510344000-1510353000@hofohana.de
SUMMARY:Erkennen von Persönlichkeitstypen zur Optimierung der Ausbildung
DESCRIPTION:Erkennen von Persönlichkeitstypen zur Optimierung der Ausbildung \nLehrinhalt sind die vier verschiedenen Pferdepersönlichkeiten\, wie und woran man sie erkennt und wie man dieses Wissen nutzt\, um die Ausbildung von Pferden zu optimieren. \nDas klingt zugegebenermaßen recht trocken\, aber keine Sorge\, es ist genau das Gegenteil. Denn genau wie im Alltag werden wir auch an diesem Abend viel über die kleinen Un- und Eigenheiten unserer Lieblinge lachen. \nJedes Pferd ist einmalig und braucht eine der aktuellen Situation angepasste\, individuelle Umgangsweise.\nAber welcher Typ ist mein Pferd gerade?\nWoran erkenne ich das?\nWie kann ich mein Verhalten dem Typ anpassen\, um meinem Pferd zu helfen? \nNach diesem Abend wisst ihr mehr. Die Veranstaltung ist auf 20 Teilnehmer begrenzt\, denn ihr habt die Gelegenheit das gelernte Wissen gleich anzuwenden\, um den Charaktertyp Eures Pferdes zu bestimmen. Besonders wertvoll ist dieses Wissen auch\, wenn man sich ein Pferd kaufen möchte\, denn nicht jeder Pferdetyp passt zu jedem Menschentyp. \nAblauf des Abends\nIm ersten Teil stellt Euch Heike von Heymann mit einem Powerpoint-Vortrag vier verschiedene Basis-Charaktertypen und ihre Mischformen vor. \nWas bedeutet was?\nAnhand von Fotos und kleinen Videos lernt ihr euer Auge für körperliche Merkmale wie Spiel der Ohren\, Stellung der Beine\, Reaktion der Nüstern\, Blinzeln/Starren\, Gähnen\, Anspannung/Entspannung\, Halshaltung u.v.m. zu schulen. \nWill es nicht oder kann es nicht?\nDas ist zum Beispiel die entscheidene Frage beim Verladen in einen Pferdeanhänger. Ein Pferd lesen zu können\, macht gerade Verladen wesentlich stressfreier für Mensch und Pferd. \nJedes Pferd ist einmalig und hat seine typische\, charakteristische Grundeigenschaften. Trotzdem kann es – wie bestimmt jeder schon erlebt hat – durch äußere Umstände in Sekunden in einen komplett anderen Typ wechseln. Wir betrachten beim Lernen stets einen aktuellen Moment. \nNach einer kleinen Pause wird Heike Euch helfen\, den Grund-Charaktertyp Eurer Pferde zu bestimmen. Dabei erklärt sie auch den Zusammenhang zwischen einem bestimmten Verhalten und der entsprechenden Charaktereigenschaft. \nIhr erhaltet Tipps zum Thema „To do and not to do“ für die verschiedenen Persönlichkeitstypen. Damit könnt ihr eurem Pferd helfen\, gelassener und mental ausgeglichener zu werden. Ziel ist eine harmonische oder noch harmonischere Beziehung zu Eurem Pferd zu entwickeln. \nZur Person\nHeike von Heymann hat mit Ihrer Tochter Mona vier Pferde mit drei verschiedenen Charakter-Typen. Sie beschäftigt sich seit Jahren intensiv mit diesem Thema „Parelli Horsenalities“\, studiert Parelli Natural Horsemanship im Level 3-4 und ist begeisterte Dressur- und Buschreiterin. Seit vielen Jahren ist sie freiberuflich als Trainerin für Natural Horsemanship tätig. Eine Bestimmung der Pferdepersönlichkeit ist stets die Grundlage ihrer Arbeit und es macht ihr große Freunde\, wenn Pferd und Mensch durch dieses Wissen gelassener und selbstbewußter werden. \nWir freuen uns auf einen interessanten Abend mit vielen spannenden Persönlichkeiten. \nLiebe Grüße \nEuer Hof Ohana Team \nPreise\n25\,- € Vorkasse bis 8.10.\n30\,- € Vorkasse bis 8.11.\n35\,- € Abendkasse\n15\,- € Einsteller Hof Ohana \nWir freuen uns auf Euch!\nEuer Hof Ohana Team \nRückfragen an heike@hof-ohana.de oder 0170-8990555 \nAnmeldeformular als PDF  \nBitte ausdrucken und faxen\, fotografieren und mailen oder mit der Post senden. \n \nHinweis:\nDieses Seminar ersetzt den abgesagten „Horsenality“-Vortrag mit Live-Demo von Berni Zambail.\nWer nicht umbuchen möchte\, erhält gezahlte Vortragsgebühren selbstverständlich zurück.
URL:https://hofohana.de/veranstaltung/persoenlichkeitstypen
LOCATION:Hof Ohana – Bildung für Mensch & Pferd\, Alte Landstraße 111 (Großes rotes Tor)\, Bargteheide\, Schleswig-Holstein\, 22941\, Deutschland
CATEGORIES:Theorie
ATTACH;FMTTYPE=image/jpeg:https://hofohana.de/wp-content/uploads/2017/09/1335_image_22769669_1656990574351047_7315546194793071158_o.jpg
ORGANIZER;CN="Hof Ohana - Bildung f%C3%BCr Mensch & Pferd":MAILTO:team@hofohana.de
END:VEVENT
END:VCALENDAR