BEGIN:VCALENDAR
VERSION:2.0
PRODID:-//Hof Ohana - ECPv6.15.20//NONSGML v1.0//EN
CALSCALE:GREGORIAN
METHOD:PUBLISH
X-WR-CALNAME:Hof Ohana
X-ORIGINAL-URL:https://hofohana.de
X-WR-CALDESC:Veranstaltungen für Hof Ohana
REFRESH-INTERVAL;VALUE=DURATION:PT1H
X-Robots-Tag:noindex
X-PUBLISHED-TTL:PT1H
BEGIN:VTIMEZONE
TZID:Europe/Berlin
BEGIN:DAYLIGHT
TZOFFSETFROM:+0100
TZOFFSETTO:+0200
TZNAME:CEST
DTSTART:20250330T010000
END:DAYLIGHT
BEGIN:STANDARD
TZOFFSETFROM:+0200
TZOFFSETTO:+0100
TZNAME:CET
DTSTART:20251026T010000
END:STANDARD
BEGIN:DAYLIGHT
TZOFFSETFROM:+0100
TZOFFSETTO:+0200
TZNAME:CEST
DTSTART:20260329T010000
END:DAYLIGHT
BEGIN:STANDARD
TZOFFSETFROM:+0200
TZOFFSETTO:+0100
TZNAME:CET
DTSTART:20261025T010000
END:STANDARD
BEGIN:DAYLIGHT
TZOFFSETFROM:+0100
TZOFFSETTO:+0200
TZNAME:CEST
DTSTART:20270328T010000
END:DAYLIGHT
BEGIN:STANDARD
TZOFFSETFROM:+0200
TZOFFSETTO:+0100
TZNAME:CET
DTSTART:20271031T010000
END:STANDARD
END:VTIMEZONE
BEGIN:VEVENT
DTSTART;TZID=Europe/Berlin:20260503T100000
DTEND;TZID=Europe/Berlin:20260503T150000
DTSTAMP:20260425T123000
CREATED:20260326T133827Z
LAST-MODIFIED:20260326T134141Z
UID:10000938-1777802400-1777820400@hofohana.de
SUMMARY:Cavaletti-Training mit Mona von Heymann
DESCRIPTION:Liebe Einsteller und Gastreiter\, \nan diesem Tag unterrichtet Mona von Heymann\n(Pferdewirtin und Betriebsleiterin vom Hof Ohana) Stangen- und Cavaletti-Training als Individualunterricht oder in passenden Zweiergruppen. \nFreut euch auf „Dressur mit ein paar Bodenstangen“. Alles geht ganz locker und ohne Druck zu. So eignet sich dieses Training auch für unerfahrene Reiter\, unerfahrene Pferde oder ganz einfach als Abwechslung zum Beispiel gegen den Winterblues. \nDer Unterricht findet in der gut isolierten 23×60 m Halle oder auf Wunsch auf dem herrlichen Außenplatz statt. Es gibt es Stangen\, Cavallettis oder wahlweise auch auf E bis A Niveau stehende Gymnastikreihen. Auch ein kleiner Parcours ist für Fortgeschrittene möglich . Die Stunden sind bei unseren Einstellern sehr beliebt\, aber auch Gastreiter sind herzlich willkommen. \nPreise inklusiv 19% MwSt. \n15\,- € pro Reiter in Zweier-Gruppen circa 45 Minuten\n25\,- € pro Reiter im Einzelunterricht circa 45 Minuten\nzzgl. 5\,- € Parcours-Nutzung\nzzgl. 5\,- € Anlagen-Nutzung \nIhr könnt 15 Minuten vor euer Einheit zum Warmreiten in die Halle oder auf den Platz kommen und mit entsprechender Rücksicht hinterher trocken reiten. Auf Wunsch könnt ihr gegen Gebühr auch das Solarium oder die Führanlage nutzen. \nFür Fragen ruft bitte Mona unter 015158507711 an (10:00-19:00 Uhr) oder schickt eine Nachricht z.B. per SMS. \nAnmeldung unter\nhttps://digistable.app/events/anmeldeformular.php?eid=95&start=03.05.2026&ende=03.05.2026 \nWir freuen uns auf auf Euch und eure Pferde.
URL:https://hofohana.de/veranstaltung/cavaletti-training-mit-mona-von-heymann-31
LOCATION:Hof Ohana
CATEGORIES:Springreiten
ATTACH;FMTTYPE=image/jpeg:https://hofohana.de/wp-content/uploads/2026/03/17009_image_659135148_1532548955517390_9213730192997396507_n.jpg
END:VEVENT
BEGIN:VEVENT
DTSTART;TZID=Europe/Berlin:20260510T093000
DTEND;TZID=Europe/Berlin:20260510T133000
DTSTAMP:20260425T123000
CREATED:20260226T113539Z
LAST-MODIFIED:20260306T193218Z
UID:10000936-1778405400-1778419800@hofohana.de
SUMMARY:Spiele-Tag für Mut und Selbstbewusstsein
DESCRIPTION:Gelassenheitstraining für Mut und Selbstbewusstsein\nmit Podest\, Plane\, Parelli-Greenball\, Bälle-Vorhang\, Rappelsack\, Regenschirm\, Wippe und co.. \nUnter fachkundiger Anleitung des Hof Ohana Teams kannst du dir mit deinem Pferd mehr Vertrauen und Harmonie „erspielen“. Dabei wollen wir unsere Pferde nicht abstumpfen (de-sensibilisieren)\, sondern ihnen viel Lob für jeden Versuch der positiven Auseinandersetzung mit einem der Objekte geben. Sie lernen (jedes in seinem Tempo) Probleme zu lösen\, indem sie sich entspannen statt ihrem natürlichen Fluchttrieb zu folgen. Alle Objekte können in verschiedenen Herausforderungsstufen gespielt werden\, so dass es auch bei mehrfachen Besuchen und für coole Pferde nicht langweilig wird. \nWir werden kleine Gruppen bilden und euch in der gut isolierten Reithalle von Station zu Station begleiten. Ganz ohne Druck und jeder so wie er kann oder mag. \nSicherheit:\nWir legen größten Wert auf Sicherheit und erklären euch Schritt für Schritt den Ablauf und den Umgang mit den Objekten. Eine Haftung für euer Tun können wir aber nicht übernehmen. Kommt es zu Problem-Situationen (z.B. ein Pferd\, das seinen Menschen ungeplant verlassen hat) ist den Anweisungen der Trainer sofort zu folgen. Dein Pferd muss in den letzten 12 Monaten gegen Influenza geimpft und mit einer Tierhalterhaftpflicht versichert sein. \nAusrüstung:\nWir empfehlen ein Halfter ohne Plüsch\, gerne ein gut sitzendes Knotenhalfter. Dazu einen etwas längeren Strick (2-3\,5\, Meter) mit einem Karabinerhaken. (Könnt ihr notfalls von uns leihen.)\nFür dich empfehlen wir festes Schuhwerk\, das die Achillessehne bedeckt\, ein paar rutschfeste Handschuhe und eine Mütze. \nZeit:\nEs gibt an diesem Tag zwei Gruppen a max. 6 Pferden und wir haben für jede Gruppe circa 90 Minuten eingeplant. Das ist erfahrungsgemäß genug Zeit\, um in Ruhe anzukommen\, viele kleine Abenteuer zu erleben\, aber die Pferde auch nicht zu überfordern. Bitte gib bei der Buchung an\, welche Startzeit dir am besten passt. 9:30 Uhr oder 12:00 Uhr? \nBuchung unter\nONLINE ANMELDUNG \nKosten: 39\,- Euro inklusive 19% MwSt. \nWir freuen uns auf dich und dein Pferd. \n  \nKommentare zum Spieletag:\n————————————————————-\nDer Spiel und Spaßtag auf dem Hof Ohana war wirklich ein Erlebnis. Die Buchung war super unkompliziert. Auch die Vorab- Kommunikation mit Anreise und Co. verlief persönlich und herzlich. Individuell auf das jeweilige Pferd-Mensch Team wurde am Spieltag dann\njeder dort abgeholt\, wo er stand und gemeinsam mit einem Trainer konnte an allen Stationen an selbst gesteckten Zielen gearbeitet werden. Alle vom Hof Ohana waren dabei kompetent und zugewandt. Es wurde viel Rücksicht auf die Kommunikation der Pferde gelegt\, so dass diese nur gefordert und nicht überfordert wurden.\nIch komme gerne wieder! \n————————————————————-\nIch wollte mich bei euch noch einmal recht herzlich für den heutigen Lehrgang bedanken!!!\nIch habe für mich und Woody sehr viel mitgenommen und es war für uns bestimmt nicht das letzte Mal\,\ndass wir bei euch auf dem Hof waren.\nEs war eine sehr nette Atmosphäre und total schön\,\ndass das Pferd auch die Möglichkeit hatte\,\nsich mit der neuen Situation (fremde Umgebung\,\nGeräusche usw.) auseinander zu setzen. Ich möchte sie so gerne unterstützen und mehr Selbstbewusstsein geben- das funktioniert aber nur\, wenn ich Unterstützung von Menschen wie euch bekomme.\nDafür vielen Dank und auf jeden Fall bis bald\,\nChristiane und Woody \n————————————————————-\nDer Spiel und Spaßtag auf dem Hof Ohana war wirklich ein Erlebnis. Die Buchung war super unkompliziert. Auch die Vorab- Kommunikation mit Anreise und Co. verlief persönlich und herzlich. Individuell auf das jeweilige Pferd-Mensch Team wurde am Spieltag dann\njeder dort abgeholt\, wo er stand und gemeinsam mit einem Trainer konnte an allen Stationen an selbst gesteckten Zielen gearbeitet werden. Alle vom Hof Ohana waren dabei kompetent und zugewandt. Es wurde viel Rücksicht auf die Kommunikation der Pferde gelegt\, so dass diese nur gefordert und nicht überfordert wurden.\nIch komme gerne wieder!
URL:https://hofohana.de/veranstaltung/spiele-tag-fuer-mut-und-selbstbewusstsein-13
LOCATION:Hof Ohana
CATEGORIES:Bodenarbeit,Horsemanship
ATTACH;FMTTYPE=image/jpeg:https://hofohana.de/wp-content/uploads/2026/02/16984_image_641268838_1507959634642989_7901412030625541650_n.jpg
END:VEVENT
END:VCALENDAR