BEGIN:VCALENDAR
VERSION:2.0
PRODID:-//Hof Ohana - ECPv6.15.20//NONSGML v1.0//EN
CALSCALE:GREGORIAN
METHOD:PUBLISH
X-WR-CALNAME:Hof Ohana
X-ORIGINAL-URL:https://hofohana.de
X-WR-CALDESC:Veranstaltungen für Hof Ohana
REFRESH-INTERVAL;VALUE=DURATION:PT1H
X-Robots-Tag:noindex
X-PUBLISHED-TTL:PT1H
BEGIN:VTIMEZONE
TZID:Europe/Berlin
BEGIN:DAYLIGHT
TZOFFSETFROM:+0100
TZOFFSETTO:+0200
TZNAME:CEST
DTSTART:20220327T010000
END:DAYLIGHT
BEGIN:STANDARD
TZOFFSETFROM:+0200
TZOFFSETTO:+0100
TZNAME:CET
DTSTART:20221030T010000
END:STANDARD
BEGIN:DAYLIGHT
TZOFFSETFROM:+0100
TZOFFSETTO:+0200
TZNAME:CEST
DTSTART:20230326T010000
END:DAYLIGHT
BEGIN:STANDARD
TZOFFSETFROM:+0200
TZOFFSETTO:+0100
TZNAME:CET
DTSTART:20231029T010000
END:STANDARD
BEGIN:DAYLIGHT
TZOFFSETFROM:+0100
TZOFFSETTO:+0200
TZNAME:CEST
DTSTART:20240331T010000
END:DAYLIGHT
BEGIN:STANDARD
TZOFFSETFROM:+0200
TZOFFSETTO:+0100
TZNAME:CET
DTSTART:20241027T010000
END:STANDARD
END:VTIMEZONE
BEGIN:VEVENT
DTSTART;TZID=Europe/Berlin:20231104T100000
DTEND;TZID=Europe/Berlin:20231104T190000
DTSTAMP:20260419T231153
CREATED:20220926T104752Z
LAST-MODIFIED:20230218T210029Z
UID:14247-1699092000-1699124400@hofohana.de
SUMMARY:Workshop Pferde-Osteopathie für Therapeuten
DESCRIPTION:Claudia und Alexander Sieh laden zu einem Weitblick ein\, wo Denken aufhört und Zuhören beginnt. \nDu hast bereits eine Ausbildung als Pferde-Physiotherapeut/in oder Pferde-Osteopath/in? \nMöchtest Du Dinge fühlen und begreifen\, die Du bisher nicht für möglich gehalten hast?\nHast Du den Wunsch\, Deine Kompetenzen zu erweitern und zu neuen Horizonten aufzubrechen? \nIn diesem Tagesworkshop erfährst du unter anderem wie du:\n– Gewebespannungen in Richtung Gesundheit beeinflusst\n– ein Pferd in die Selbstheilung bringst\n– Techniken aus der Humanosteopathie für die Pferde nutzt \nDu lernst an praktischen Beispielen von zertifizierten Pferde- und Human-Osteopathen. \nDer Tag startet um 10:00 Uhr in den Räumen der Humanpraxis Sieh in der Rathausstraße 13 in Bargteheide mit einem Power-Point Vortrag. Danach folgt die Praxis am Menschen. Du lernst das Fühlen verschiedener Gewebe\, Schichten und Rhytmen des Körpers im parietalen\, visceralen und cranio-sacralen System. So fängt das Verstehen und Begreifen an. \nNach einer gemeinsamen Mittagspause um 14:00 Uhr (Essen nicht im Preis enrhalten) fahren wir um 15:00 Uhr gemeinsam zur nahe gelegenen Reitanlage „Hof Ohana – Bildung für Mensch und Pferd“. Hier demonstrieren wir die zuvor am Menschen gezeigten Behandlungstechniken an verschiedenen Pferden. Unter Anleitung darfst Du selbst Hand auflegen und Neues gleich selbst erspüren. Deine Fragen werden gerne beantwortet. \nFür Fragen zum Workshop und für deine Anmeldung sind Claudia und Alexander vorab unter 0152-27453035 für dich da. \nDie Teilnehmerzahl ist auf 10 begrenzt. Die Plätze werden nach Zahlungseingang vergeben.   \nEs freuen sich auf einen lehrreichen Tag mit Dir \nDie Teams von Med-Equin und vom Hof Ohana \nZitat A.T.Still:\n„Wenn alle Systeme des Körpers wohl geordnet sind\, herrscht Gesundheit“ \nMedica-Praxis\, Rathausstrasse 13\, 22941 Bargteheide und Hof Ohana\, Alte Landstrasse 111\, 22941 Bargteheide
URL:https://hofohana.de/veranstaltung/workshop-pferde-osteopathie-fuer-therapeuten-2
LOCATION:Medica-Praxis\, Rathausstrasse 13\, 22941 Bargteheide und Hof Ohana\, Alte Landstrasse 111\, 22941 Bargteheide
CATEGORIES:Theorie
ATTACH;FMTTYPE=image/jpeg:https://hofohana.de/wp-content/uploads/2022/09/14247_image_309521500_5776001145783282_8925394819916056547_n.jpg
END:VEVENT
END:VCALENDAR