BEGIN:VCALENDAR
VERSION:2.0
PRODID:-//Hof Ohana - ECPv6.15.20//NONSGML v1.0//EN
CALSCALE:GREGORIAN
METHOD:PUBLISH
X-WR-CALNAME:Hof Ohana
X-ORIGINAL-URL:https://hofohana.de
X-WR-CALDESC:Veranstaltungen für Hof Ohana
REFRESH-INTERVAL;VALUE=DURATION:PT1H
X-Robots-Tag:noindex
X-PUBLISHED-TTL:PT1H
BEGIN:VTIMEZONE
TZID:Europe/Berlin
BEGIN:DAYLIGHT
TZOFFSETFROM:+0100
TZOFFSETTO:+0200
TZNAME:CEST
DTSTART:20220327T010000
END:DAYLIGHT
BEGIN:STANDARD
TZOFFSETFROM:+0200
TZOFFSETTO:+0100
TZNAME:CET
DTSTART:20221030T010000
END:STANDARD
BEGIN:DAYLIGHT
TZOFFSETFROM:+0100
TZOFFSETTO:+0200
TZNAME:CEST
DTSTART:20230326T010000
END:DAYLIGHT
BEGIN:STANDARD
TZOFFSETFROM:+0200
TZOFFSETTO:+0100
TZNAME:CET
DTSTART:20231029T010000
END:STANDARD
BEGIN:DAYLIGHT
TZOFFSETFROM:+0100
TZOFFSETTO:+0200
TZNAME:CEST
DTSTART:20240331T010000
END:DAYLIGHT
BEGIN:STANDARD
TZOFFSETFROM:+0200
TZOFFSETTO:+0100
TZNAME:CET
DTSTART:20241027T010000
END:STANDARD
END:VTIMEZONE
BEGIN:VEVENT
DTSTART;TZID=Europe/Berlin:20230629T180000
DTEND;TZID=Europe/Berlin:20230629T210000
DTSTAMP:20260419T204347
CREATED:20230512T102927Z
LAST-MODIFIED:20230626T225259Z
UID:15060-1688061600-1688072400@hofohana.de
SUMMARY:Wirkung von Zäumung & Gebissen
DESCRIPTION:Sehen – Fühlen- Messen\nPräsentiert von Sabine Leistiko. Sabine tritt die Nachfolge von Karl-Friedrich von Holleuffer an. Sie wurde persönlich intensiv von ihm ausgebildet und übernimmt auch seine riesige Ausrüstung an Gebissen\, Modellen und die kleine „Folterkammer“ 😉 mit der ihr selbst fühlen könnt\, was im Maul eines Pferdes wie wirkt. \nNEU: Ihr könnt ihr eure Gebisse\, Fotos sowie kleine Videos von euren Pferden (Maul\, Kopf\, Ganzkörper) auf einem USB Stick mitbringen. Sabine gibt euch gerne Tipps. 🙂 \n——————–\nFachvortrag zur Wirkung von Zäumungen und Gebissen mit Modellen\, Bildern und Folien. Auch gebisslose Varianten werden an diesem Abend von allen Seiten betrachtet. \nDie Theorie dauert circa drei Stunden. Natürlich gibt es auch eine kleine Pause und Zeit für Diskussion & Fragen. \nTrainer mit DSB Lizenz bekommen für diese Veranstaltung zwei Lerneinheiten. \nDer Vortrag wurde erarbeitet von Karl Friedrich von Holleuffer ist FN Ausbilder im Pferdesport\, Fahrlehrer VFD\, Inhaber der FN- Trainer-A Lizenz des DSB – Deutschen Sportbund\, Sachverständiger für Pferde/ für Zäumungen und Gebisse\, ehrenamtlicher Mitarbeiter im Pferdesportverband SH e.V.\, PM Delegierter der Deutschen Reiterlichen Vereinigung e.V. Warendorf\, FN- Prüfer Breitensport\, Leistungsklasse F 1. \nDer Lehrgang ist auf 30 Teilnehmer begrenzt. \nPreise\n25\,- € Vorkasse bei Überweisung bis 01.06.2023\n29\,- € Abendkasse \nVoranmeldung bitte per Email an team@hofohana.de. \nEs wird wahrscheinlich wieder voll. Also nicht Euch und Euren Freunden schnell einen Platz. \nHier ist das Anmeldeformular:\nhttps://hofohana.de/download/2023AnmeldenOhnePferd.pdf \nWir freuen uns auf Euch \nEuer Team vom Hof Ohana
URL:https://hofohana.de/veranstaltung/wirkung-von-zaeumung-gebissen
LOCATION:Hof Ohana – Bildung für Mensch & Pferd\, Alte Landstraße 111 (Großes rotes Tor)\, Bargteheide\, Schleswig-Holstein\, 22941\, Deutschland
CATEGORIES:Theorie
ATTACH;FMTTYPE=image/jpeg:https://hofohana.de/wp-content/uploads/2023/05/15060_image_346766689_6178983552191105_6434069850617812585_n.jpg
END:VEVENT
END:VCALENDAR