BEGIN:VCALENDAR
VERSION:2.0
PRODID:-//Hof Ohana - ECPv6.15.20//NONSGML v1.0//EN
CALSCALE:GREGORIAN
METHOD:PUBLISH
X-WR-CALNAME:Hof Ohana
X-ORIGINAL-URL:https://hofohana.de
X-WR-CALDESC:Veranstaltungen für Hof Ohana
REFRESH-INTERVAL;VALUE=DURATION:PT1H
X-Robots-Tag:noindex
X-PUBLISHED-TTL:PT1H
BEGIN:VTIMEZONE
TZID:Europe/Berlin
BEGIN:DAYLIGHT
TZOFFSETFROM:+0100
TZOFFSETTO:+0200
TZNAME:CEST
DTSTART:20220327T010000
END:DAYLIGHT
BEGIN:STANDARD
TZOFFSETFROM:+0200
TZOFFSETTO:+0100
TZNAME:CET
DTSTART:20221030T010000
END:STANDARD
BEGIN:DAYLIGHT
TZOFFSETFROM:+0100
TZOFFSETTO:+0200
TZNAME:CEST
DTSTART:20230326T010000
END:DAYLIGHT
BEGIN:STANDARD
TZOFFSETFROM:+0200
TZOFFSETTO:+0100
TZNAME:CET
DTSTART:20231029T010000
END:STANDARD
BEGIN:DAYLIGHT
TZOFFSETFROM:+0100
TZOFFSETTO:+0200
TZNAME:CEST
DTSTART:20240331T010000
END:DAYLIGHT
BEGIN:STANDARD
TZOFFSETFROM:+0200
TZOFFSETTO:+0100
TZNAME:CET
DTSTART:20241027T010000
END:STANDARD
END:VTIMEZONE
BEGIN:VEVENT
DTSTART;TZID=Europe/Berlin:20231203T090000
DTEND;TZID=Europe/Berlin:20231203T133000
DTSTAMP:20260425T172300
CREATED:20230914T161851Z
LAST-MODIFIED:20230918T132838Z
UID:15316-1701594000-1701610200@hofohana.de
SUMMARY:Unterricht von E bis Grand Prix mit Falk Stankus
DESCRIPTION:Für Pferd-Mensch-Paare von E bis Grand Prix\nFalk Stankus über sich:\n„Meine reiterliche Basis bis zu Grand-Prix-Erfolgen habe ich bei Franz-Martin Stankus gelernt\, sodass ich mit 15 Jahren erstmals in Dressuren der Klasse S ritt\, mit 18 Jahren meinen ersten Grand-Prix gewinnen konnte und zwei Jahre später das goldene Reitabzeichen verliehen bekam. Nach der Schule war ich ein Jahr in Warendorf bei der Sportfördergruppe und konnte in der Zeit die Voraussetzungen für die Aufnahme in den B2-Kader erzielen\, in dem ich drei Jahre Mitglied war. In dieser Zeit konnte ich mehrmals Landesmeister in S-H werden\, war mehrfach im Piaff-Förderpreisfinale platziert und habe zweimal an deutschen Meisterschaften teilgenommen.“ \nKlaus Balkenhol Über Falk Stankus:\n„Obwohl Herr Stankus zur ‚oberen Liga‘ gehört\, ist er aber auf dem Boden geblieben und widmet sich jeden Reiter und Pferd gleich\, egal auf welchem Niveau sie sich befinden und mit welcher Herausforderung sie zum Lehrgang erscheinen. Sein Motto lautet: ‚Jeder Reiter und jedes Pferd\, kann sich einen Schritt weiterentwickeln'“ \nVeranstalter: Falk Stankus. \nDie Plätze sind auf maximal 7 Teilnehmer pro Tag begrenzt und werden nach Zahlungseingang vergeben. \nAnmeldung an team@hofohana.apps-1and1.net oder auch gerne per WhatsApp unter 0151 58507711. Wir nehmen dich gerne in unsere Falk-Stankus-WhatAppgruppe auf\, damit du bei neuen Terminen schnellstmöglich buchen kannst. \nPreise: \nSamstag ODER Sonntag:\n66\,- € für 1 x 30 Minuten\n132\,- € für 1 x 60 Minuten\nzzgl. 10- € für 1 x Anlagennutzung\nzzgl. 15\,- für 1 x Organisation & Inkasso \nSamstag UND Sonntag:\n132\,- € für 2 x 30 Minuten\nzzgl. 20- € 2 x Anlagennutzung\nzzgl. 20\,- € für 1 x Organisation & Inkasso \n15\,- € pro Zuschauer und Tag\nwww.hofohana.apps-1and1.net/anmeldeformular
URL:https://hofohana.de/veranstaltung/unterricht-von-e-bis-grand-prix-mit-falk-stankus-8
LOCATION:Hof Ohana
CATEGORIES:Dressurreiten
ATTACH;FMTTYPE=image/jpeg:https://hofohana.de/wp-content/uploads/2023/09/15316_image_378998470_802369851868641_8556210894180848281_n.jpg
END:VEVENT
END:VCALENDAR