BEGIN:VCALENDAR
VERSION:2.0
PRODID:-//Hof Ohana - ECPv6.15.20//NONSGML v1.0//EN
CALSCALE:GREGORIAN
METHOD:PUBLISH
X-WR-CALNAME:Hof Ohana
X-ORIGINAL-URL:https://hofohana.de
X-WR-CALDESC:Veranstaltungen für Hof Ohana
REFRESH-INTERVAL;VALUE=DURATION:PT1H
X-Robots-Tag:noindex
X-PUBLISHED-TTL:PT1H
BEGIN:VTIMEZONE
TZID:Europe/Berlin
BEGIN:DAYLIGHT
TZOFFSETFROM:+0100
TZOFFSETTO:+0200
TZNAME:CEST
DTSTART:20230326T010000
END:DAYLIGHT
BEGIN:STANDARD
TZOFFSETFROM:+0200
TZOFFSETTO:+0100
TZNAME:CET
DTSTART:20231029T010000
END:STANDARD
BEGIN:DAYLIGHT
TZOFFSETFROM:+0100
TZOFFSETTO:+0200
TZNAME:CEST
DTSTART:20240331T010000
END:DAYLIGHT
BEGIN:STANDARD
TZOFFSETFROM:+0200
TZOFFSETTO:+0100
TZNAME:CET
DTSTART:20241027T010000
END:STANDARD
BEGIN:DAYLIGHT
TZOFFSETFROM:+0100
TZOFFSETTO:+0200
TZNAME:CEST
DTSTART:20250330T010000
END:DAYLIGHT
BEGIN:STANDARD
TZOFFSETFROM:+0200
TZOFFSETTO:+0100
TZNAME:CET
DTSTART:20251026T010000
END:STANDARD
END:VTIMEZONE
BEGIN:VEVENT
DTSTART;TZID=Europe/Berlin:20240726T180000
DTEND;TZID=Europe/Berlin:20240726T200000
DTSTAMP:20260419T231255
CREATED:20240704T173143Z
LAST-MODIFIED:20240722T100151Z
UID:16017-1722016800-1722024000@hofohana.de
SUMMARY:Theoretische Grundlagen zum erfolgreichen Dressurreiten
DESCRIPTION:Theorieabend zum Thema „Hufschlagfiguren und ihre Hilfengebung“ \nVorbereitung zu dem am Samstag und Sonntag stattfindenden Dressurlehrgang mit Wolfgang Egbers. Wolfgang ist es sehr wichtig\, dass die Teilnehmer des Lehrgangs an diesem Abend teilnehmen\, um optimal auf seinen Unterricht vorbereitet zu sein. \nAnmerkung: Dressurunterricht dient dazu\, ein Pferd dressurmäßig zu reiten. Das Ziel ist\, das Pferd biomechanisch richtig zu bewegen\, um es möglichst lange gesund zu erhalten.  Der Unterricht ist also nicht nur für Turnierpferde hilfreich und sinnvoll\, sondern für JEDES gerittene Pferd 😉 \nWir freuen uns mit Wolfgang Egbers ab 2024 einen weiteren Top-Trainer für unser Trainingsangebot auf Hof Ohana gewonnen zu haben. Wolfgang wird an mehreren Wochenenden erst einen Theorie-Abend und dann zwei Tage Intensivtraining für Dressurreiter von E bis Grand Prix anbieten. Traut Euch zu uns. Wir freuen uns über jede Pferderasse und jeden Reiter. Ob Turnier- oder Freizeitreiter. Es geht darum dazu zu lernen und nicht darum zu zeigen\, was man hat oder kann. \nWolfgang Egbers überzeugt mit seiner Fachkompetenz als Ausbilder und ist außerdem Richter bis zur Klasse S\, Vorstandsmitglied der FN Abteilung Sport\, Vorstandsmitglied des DOKRs für den Bereich Ausbildung und Wissenschaft und 2. Stellvertretender Präsident sowie Vorsitzender der Fachgruppe Dressur beim Deutschen Reiter- und Fahrerverband (DRFV e.V.). Neben all diesen Qualifikationen ist er außerdem ein total netter Kerl. \nWolfgang reist aus dem 312 km entfernten Vechtehof an und übernachtet zwei Tage in Bargteheide. Diese Kosten sind im Preis enthalten. (www.vechtehof-egbers.de) \nLeistung:\n– 2 Stunden Theorie-Abend von Wolfgang Egbers\n– Seminarraumnutzung & Organisation durch Hof Ohana \nOrt:\nDer gemütliche Seminarraum oder das Casino des Hof Ohanas. \nPreise inklusive 19% MwSt.:\n– 30\,- € für Teilnehmer des Abends\n– 20\,-  € für aktive Teilnehmer des Lehrgangs am Sa./So. \nAnmeldung: \nAnmeldeformular \n\nBitte ausfüllen. Wir melden uns bei Euch. \nFragen:\nteam@hofohana.de   oder  mobil  015158507711 \nBis bald auf Hof Ohana  🙂
URL:https://hofohana.de/veranstaltung/theoretische-grundlagen-zum-erfolgreichen-dressurreiten
LOCATION:Hof Ohana
CATEGORIES:Theorie
ATTACH;FMTTYPE=image/jpeg:https://hofohana.de/wp-content/uploads/2024/07/16017_image_449756821_1005667864872171_1159653983258828235_n.jpg
END:VEVENT
END:VCALENDAR