BEGIN:VCALENDAR
VERSION:2.0
PRODID:-//Hof Ohana - ECPv6.15.20//NONSGML v1.0//EN
CALSCALE:GREGORIAN
METHOD:PUBLISH
X-WR-CALNAME:Hof Ohana
X-ORIGINAL-URL:https://hofohana.de
X-WR-CALDESC:Veranstaltungen für Hof Ohana
REFRESH-INTERVAL;VALUE=DURATION:PT1H
X-Robots-Tag:noindex
X-PUBLISHED-TTL:PT1H
BEGIN:VTIMEZONE
TZID:Europe/Berlin
BEGIN:DAYLIGHT
TZOFFSETFROM:+0100
TZOFFSETTO:+0200
TZNAME:CEST
DTSTART:20220327T010000
END:DAYLIGHT
BEGIN:STANDARD
TZOFFSETFROM:+0200
TZOFFSETTO:+0100
TZNAME:CET
DTSTART:20221030T010000
END:STANDARD
BEGIN:DAYLIGHT
TZOFFSETFROM:+0100
TZOFFSETTO:+0200
TZNAME:CEST
DTSTART:20230326T010000
END:DAYLIGHT
BEGIN:STANDARD
TZOFFSETFROM:+0200
TZOFFSETTO:+0100
TZNAME:CET
DTSTART:20231029T010000
END:STANDARD
BEGIN:DAYLIGHT
TZOFFSETFROM:+0100
TZOFFSETTO:+0200
TZNAME:CEST
DTSTART:20240331T010000
END:DAYLIGHT
BEGIN:STANDARD
TZOFFSETFROM:+0200
TZOFFSETTO:+0100
TZNAME:CET
DTSTART:20241027T010000
END:STANDARD
END:VTIMEZONE
BEGIN:VEVENT
DTSTART;TZID=Europe/Berlin:20230219T100000
DTEND;TZID=Europe/Berlin:20230219T130000
DTSTAMP:20260424T102640
CREATED:20230214T143427Z
LAST-MODIFIED:20230215T225657Z
UID:14463-1676800800-1676811600@hofohana.de
SUMMARY:Spring-Training mit Imre Toth
DESCRIPTION:Liebe Einsteller und Gastreiter\,  \nan diesem Tag unterrichtet Imre Toth (Pferdewirt und erfolgreicher Vielseitigkeitsreiter bis zur Klasse S) Springunterricht von Stangenarbeit bis zum Parcoursspringen Klasse S als Individualunterricht (->einzeln). \nFreut euch auf Leichtigkeit und Harmonie als Vorbereitung fürs Turnier oder ganz einfach als Abwechslung gegen den Winterblues.  \nIn der Halle stehen je nach dem Ausbildungsstand von Pferd und Reiter Stangen\, Cavalettis\, Gymnastikreihen für Anfänger und junge Pferde. Und natürlich ist ein Parkours für Fortgeschrittene möglich. ihr entscheidet\, ob ihr einzeln oder in Gruppen reiten möchtet. Wenn ihr in 2-3er Gruppen reitet\, wird auf einen ähnlichen Ausbildungsstand geachtet.  \nPreise\n60\,- € für Imre Toth pro Stunde \nZuzüglich pro Pferd und Reiter\n10\,- € Parkour- und Anlagen-Nutzung \nDas sind dann insgesamt pro Pferd/Reiter \n40\,- Euro für 30 Minuten Einzelunterricht\n25\,- Euro für 30 Minuten zur zweit\n55\,- Euro für 45 Minuten Einzelunterricht\n40\,- Euro für 60 Minuten zur zweit\n30\,- Euro für 60 Minuten zur dritt\nu.s.w. \nIhr könnt 15 Minuten vor euer Einheit zum Warmreiten in die 23x60m große\, gut isolierte Halle kommen und mit entsprechender Rücksicht hinterher trocken reiten. Auf Anfrage steht euch unser Solarium oder die Führanlage zur Verfügung. \nFür Fragen und Anmeldungen ruft bitte Mona unter 0151 58507711 an (10:00-19:00 Uhr) oder schickt eine Nachricht z.B. per SMS. \nWir freuen uns auf auf Euch und eure Pferde.
URL:https://hofohana.de/veranstaltung/spring-training-mit-imre-toth
LOCATION:Hof Ohana – Bildung für Mensch & Pferd\, Alte Landstraße 111 (Großes rotes Tor)\, Bargteheide\, Schleswig-Holstein\, 22941\, Deutschland
CATEGORIES:Springreiten
ATTACH;FMTTYPE=image/jpeg:https://hofohana.de/wp-content/uploads/2023/02/14463_image_330967761_529582439290562_4201803921002702607_n.jpg
END:VEVENT
END:VCALENDAR