BEGIN:VCALENDAR
VERSION:2.0
PRODID:-//Hof Ohana - ECPv6.15.20//NONSGML v1.0//EN
CALSCALE:GREGORIAN
METHOD:PUBLISH
X-WR-CALNAME:Hof Ohana
X-ORIGINAL-URL:https://hofohana.de
X-WR-CALDESC:Veranstaltungen für Hof Ohana
REFRESH-INTERVAL;VALUE=DURATION:PT1H
X-Robots-Tag:noindex
X-PUBLISHED-TTL:PT1H
BEGIN:VTIMEZONE
TZID:Europe/Berlin
BEGIN:DAYLIGHT
TZOFFSETFROM:+0100
TZOFFSETTO:+0200
TZNAME:CEST
DTSTART:20250330T010000
END:DAYLIGHT
BEGIN:STANDARD
TZOFFSETFROM:+0200
TZOFFSETTO:+0100
TZNAME:CET
DTSTART:20251026T010000
END:STANDARD
BEGIN:DAYLIGHT
TZOFFSETFROM:+0100
TZOFFSETTO:+0200
TZNAME:CEST
DTSTART:20260329T010000
END:DAYLIGHT
BEGIN:STANDARD
TZOFFSETFROM:+0200
TZOFFSETTO:+0100
TZNAME:CET
DTSTART:20261025T010000
END:STANDARD
BEGIN:DAYLIGHT
TZOFFSETFROM:+0100
TZOFFSETTO:+0200
TZNAME:CEST
DTSTART:20270328T010000
END:DAYLIGHT
BEGIN:STANDARD
TZOFFSETFROM:+0200
TZOFFSETTO:+0100
TZNAME:CET
DTSTART:20271031T010000
END:STANDARD
END:VTIMEZONE
BEGIN:VEVENT
DTSTART;TZID=Europe/Berlin:20260221T110000
DTEND;TZID=Europe/Berlin:20260221T140000
DTSTAMP:20260421T194916
CREATED:20260106T162018Z
LAST-MODIFIED:20260106T162018Z
UID:16892-1771671600-1771682400@hofohana.de
SUMMARY:Spiele-Tag für Mut und Selbstbewusstsein
DESCRIPTION:Gelassenheitstraining für Mut und Selbstbewusstsein mit Podest\, Plane\, Parelli-Greenball\, Bälle-Vorhang\, Rappelsack\, Regenschirm\, Wippe und co.. \nUnter fachkundiger Anleitung des Hof Ohana Teams kannst du dir mit deinem Pferd mehr Vertrauen und Harmonie „erspielen“. Dabei wollen wir unsere Pferde nicht abstumpfen (de-sensibilisieren)\, sondern ihnen viel Lob für jeden Versuch der positiven Auseinandersetzung mit einem der Objekte geben. Sie lernen (jedes in seinem Tempo) Probleme zu lösen\, indem sie sich entspannen statt ihrem natürlichen Fluchttrieb zu folgen. Alle Objekte können in verschiedenen Herausforderungsstufen gespielt werden\, so dass es auch bei mehrfachen Besuchen und für coole Pferde nicht langweilig wird. \nWir werden kleine Gruppen bilden und euch in der gut isolierten Reithalle von Station zu Station begleiten. Ganz ohne Druck und jeder so wie er kann oder mag.  \nSicherheit:\nWir legen größten Wert auf Sicherheit und erklären euch Schritt für Schritt den Ablauf und den Umgang mit den Objekten. Eine Haftung für euer Tun können wir aber nicht übernehmen. Kommt es zu Problem-Situationen (z.B. ein Pferd\, das seinen Menschen ungeplant verlassen hat) ist den Anweisungen der Trainer sofort zu folgen. Dein Pferd muss in den letzten 12 Monaten gegen Influenza geimpft und mit einer Tierhalterhaftpflicht versichert sein.  \nAusrüstung:\nWir empfehlen ein Halfter ohne Plüsch\, gerne ein gut sitzendes Knotenhalfter. Dazu einen etwas längeren Strick (2-3\,5\, Meter) mit einem Karabinerhaken. (Könnt ihr notfalls von uns leihen.)\nFür dich empfehlen wir festes Schuhwerk\, das die Achillessehne bedeckt\, ein paar rutschfeste Handschuhe und eine Mütze.  \nZeit:\nEs gibt an diesem Tag zwei Gruppen a max. 6 Pferden und wir haben für jede Gruppe circa 90 Minuten eingeplant. Das ist erfahrungsgemäß genug Zeit\, um in Ruhe anzukommen\, viele kleine Abenteuer zu erleben\, aber die Pferde auch nicht zu überfordern. Bitte gib bei der Buchung an\, welche Startzeit dir am besten passt. \nMehr Informationen und Buchung unter\nhttps://digistable.app/events/anmeldeformular.php?eid=89&start=21.02.2026&ende=21.02.2026 \nKosten: 39\,- Euro inklusive 19% MwSt. \nWir freuen uns auf dich und dein Pferd. \nKommentare zum Spieletag:\n————————————————————-\nDer Spiel und Spaßtag auf dem Hof Ohana war wirklich ein Erlebnis. Die Buchung war super unkompliziert. Auch die Vorab- Kommunikation mit Anreise und Co. verlief persönlich und herzlich. Individuell auf das jeweilige Pferd-Mensch Team wurde am Spieltag dannjeder dort abgeholt\, wo er stand und gemeinsam mit einem Trainer konnte an allen Stationen an selbst gesteckten Zielen gearbeitet werden. Alle vom Hof Ohana waren dabei kompetent und zugewandt. Es wurde viel Rücksicht auf die Kommunikation der Pferde gelegt\, so dass diese nur gefordert und nicht überfordert wurden.\nIch komme gerne wieder! \n————————————————————-\nIch wollte mich bei euch noch einmal recht herzlich für den heutigen Lehrgang bedanken!!!\nIch habe für mich und Woody sehr viel mitgenommen und es war für uns bestimmt nicht das letzte Mal\,dass wir bei euch auf dem Hof waren.\nEs war eine sehr nette Atmosphäre und total schön\,dass das Pferd auch die Möglichkeit hatte\,sich mit der neuen Situation (fremde Umgebung\,Geräusche usw.) auseinander zu setzen. Ich möchte sie so gerne unterstützen und mehr Selbstbewusstsein geben- das funktioniert aber nur\, wenn ich Unterstützung von Menschen wie euch bekomme.Dafür vielen Dank und auf jeden Fall bis bald\,Christiane und Woody \n————————————————————-\nDer Spiel und Spaßtag auf dem Hof Ohana war wirklich ein Erlebnis. Die Buchung war super unkompliziert. Auch die Vorab- Kommunikation mit Anreise und Co. verlief persönlich und herzlich. Individuell auf das jeweilige Pferd-Mensch Team wurde am Spieltag dannjeder dort abgeholt\, wo er stand und gemeinsam mit einem Trainer konnte an allen Stationen an selbst gesteckten Zielen gearbeitet werden. Alle vom Hof Ohana waren dabei kompetent und zugewandt. Es wurde viel Rücksicht auf die Kommunikation der Pferde gelegt\, so dass diese nur gefordert und nicht überfordert wurden.\nIch komme gerne wieder!
URL:https://hofohana.de/veranstaltung/spiele-tag-fuer-mut-und-selbstbewusstsein-12
LOCATION:Hof Ohana
CATEGORIES:Bodenarbeit
ATTACH;FMTTYPE=image/jpeg:https://hofohana.de/wp-content/uploads/2026/01/16892_image_612199477_1462535749185378_6691038686763605607_n.jpg
END:VEVENT
END:VCALENDAR