BEGIN:VCALENDAR
VERSION:2.0
PRODID:-//Hof Ohana - ECPv6.15.20//NONSGML v1.0//EN
CALSCALE:GREGORIAN
METHOD:PUBLISH
X-WR-CALNAME:Hof Ohana
X-ORIGINAL-URL:https://hofohana.de
X-WR-CALDESC:Veranstaltungen für Hof Ohana
REFRESH-INTERVAL;VALUE=DURATION:PT1H
X-Robots-Tag:noindex
X-PUBLISHED-TTL:PT1H
BEGIN:VTIMEZONE
TZID:Europe/Berlin
BEGIN:DAYLIGHT
TZOFFSETFROM:+0100
TZOFFSETTO:+0200
TZNAME:CEST
DTSTART:20230326T010000
END:DAYLIGHT
BEGIN:STANDARD
TZOFFSETFROM:+0200
TZOFFSETTO:+0100
TZNAME:CET
DTSTART:20231029T010000
END:STANDARD
BEGIN:DAYLIGHT
TZOFFSETFROM:+0100
TZOFFSETTO:+0200
TZNAME:CEST
DTSTART:20240331T010000
END:DAYLIGHT
BEGIN:STANDARD
TZOFFSETFROM:+0200
TZOFFSETTO:+0100
TZNAME:CET
DTSTART:20241027T010000
END:STANDARD
BEGIN:DAYLIGHT
TZOFFSETFROM:+0100
TZOFFSETTO:+0200
TZNAME:CEST
DTSTART:20250330T010000
END:DAYLIGHT
BEGIN:STANDARD
TZOFFSETFROM:+0200
TZOFFSETTO:+0100
TZNAME:CET
DTSTART:20251026T010000
END:STANDARD
END:VTIMEZONE
BEGIN:VEVENT
DTSTART;TZID=Europe/Berlin:20240614T180000
DTEND;TZID=Europe/Berlin:20240614T203000
DTSTAMP:20260420T053025
CREATED:20240508T165546Z
LAST-MODIFIED:20240508T165546Z
UID:15819-1718388000-1718397000@hofohana.de
SUMMARY:Seitengänge | Vortrag von Wolfgang Egbers
DESCRIPTION:Theorieabend zum Thema „Seitengänge“ \nVorbereitung zu dem am Samstag und Sonntag stattfindenden Dressurlehrgang mit Wolfgang Egbers. Wolfgang ist es sehr wichtig\, dass die Teilnehmer des Lehrgangs an diesem Abend teilnehmen\, um optimal auf seinen Unterricht vorbereitet zu sein. \nAnmerkung: Dressurunterricht dient dazu\, ein Pferd dressurmäßig zu reiten. Das Ziel ist\, das Pferd biomechanisch richtig zu bewegen\, um es möglichst lange gesund zu erhalten.  Der Unterricht ist also nicht nur für Turnierpferde hilfreich und sinnvoll\, sondern für JEDES gerittene Pferd 😉 \nWir freuen uns mit Wolfgang Egbers ab 2024 einen weiteren Top-Trainer für unser Trainingsangebot auf Hof Ohana gewonnen zu haben. Wolfgang wird an mehreren Wochenenden erst einen Theorie-Abend und dann zwei Tage Intensivtraining für Dressurreiter von E bis Grand Prix anbieten. Traut Euch zu uns. Wir freuen uns über jede Pferderasse und jeden Reiter. Ob Turnier- oder Freizeitreiter. Es geht darum dazu zu lernen und nicht darum zu zeigen\, was man hat oder kann. \nWolfgang Egbers überzeugt mit seiner Fachkompetenz als Ausbilder und ist außerdem Richter bis zur Klasse S\, Vorstandsmitglied der FN Abteilung Sport\, Vorstandsmitglied des DOKRs für den Bereich Ausbildung und Wissenschaft und 2. Stellvertretender Präsident sowie Vorsitzender der Fachgruppe Dressur beim Deutschen Reiter- und Fahrerverband (DRFV e.V.). Neben all diesen Qualifikationen ist er außerdem ein total netter Kerl. \nWolfgang reist aus dem 312 km entfernten Vechtehof an und übernachtet zwei Tage in Bargteheide. Diese Kosten sind im Preis enthalten. (www.vechtehof-egbers.de) \nLeistung:\n– 2 Stunden Theorie-Abend von Wolfgang Egbers\n– Seminarraumnutzung & Organisation durch Hof Ohana \nOrt:\nDer gemütliche Seminarraum oder das Casino des Hof Ohanas. \nPreise inklusive 19% MwSt.:\n– 30\,- € für Teilnehmer des Abends\n– 20\,-  € für aktive Teilnehmer des Lehrgangs am Sa./So. \nAnmeldung: \nAnmeldeformular \n\nBitte ausfüllen. Wir melden uns bei Euch. \nFragen:\nteam@hofohana.de   oder  mobil  015158507711 \nBis bald auf Hof Ohana  🙂
URL:https://hofohana.de/veranstaltung/seitengaenge-vortrag-von-wolfgang-egbers
LOCATION:Hof Ohana
CATEGORIES:Dressurreiten
ATTACH;FMTTYPE=image/jpeg:https://hofohana.de/wp-content/uploads/2024/05/15819_image_438159625_964303342341957_6888508013389851311_n.jpg
END:VEVENT
END:VCALENDAR