BEGIN:VCALENDAR
VERSION:2.0
PRODID:-//Hof Ohana - ECPv6.15.20//NONSGML v1.0//EN
CALSCALE:GREGORIAN
METHOD:PUBLISH
X-WR-CALNAME:Hof Ohana
X-ORIGINAL-URL:https://hofohana.de
X-WR-CALDESC:Veranstaltungen für Hof Ohana
REFRESH-INTERVAL;VALUE=DURATION:PT1H
X-Robots-Tag:noindex
X-PUBLISHED-TTL:PT1H
BEGIN:VTIMEZONE
TZID:Europe/Berlin
BEGIN:DAYLIGHT
TZOFFSETFROM:+0100
TZOFFSETTO:+0200
TZNAME:CEST
DTSTART:20220327T010000
END:DAYLIGHT
BEGIN:STANDARD
TZOFFSETFROM:+0200
TZOFFSETTO:+0100
TZNAME:CET
DTSTART:20221030T010000
END:STANDARD
BEGIN:DAYLIGHT
TZOFFSETFROM:+0100
TZOFFSETTO:+0200
TZNAME:CEST
DTSTART:20230326T010000
END:DAYLIGHT
BEGIN:STANDARD
TZOFFSETFROM:+0200
TZOFFSETTO:+0100
TZNAME:CET
DTSTART:20231029T010000
END:STANDARD
BEGIN:DAYLIGHT
TZOFFSETFROM:+0100
TZOFFSETTO:+0200
TZNAME:CEST
DTSTART:20240331T010000
END:DAYLIGHT
BEGIN:STANDARD
TZOFFSETFROM:+0200
TZOFFSETTO:+0100
TZNAME:CET
DTSTART:20241027T010000
END:STANDARD
END:VTIMEZONE
BEGIN:VEVENT
DTSTART;TZID=Europe/Berlin:20230910T100000
DTEND;TZID=Europe/Berlin:20230910T133000
DTSTAMP:20260420T053030
CREATED:20230814T185415Z
LAST-MODIFIED:20230817T222611Z
UID:15271-1694340000-1694352600@hofohana.de
SUMMARY:Sattelkunde mit Ilka Stehn
DESCRIPTION:Wir starten unseren spannenden Sonntag zum Thema Sattelkunde mit einem PowerPoint- Theorieteil in unserem modernen Seminarraum. \nNach der Theorie geht es in den Stall und Ilka zeigt uns an  Lehrpferden des Hof Ohanas verschiedene Sättel und Sattelbäume. \nPreis pro Person mit Voranmeldung\n35\,- Euro \nPreis pro Person Abendkasse (ohne Garantie)\n42\,- Euro \nAnmeldeformular:\nhttps://hofohana.de/download/2023AnmeldenOhnePferd.pdf\noder \nAnmeldeformular \n \nMehr Informationen unter 0151 58507711 bei Mona \nWir freuen uns auf dich und einen informativen Mittag. \nIlka Stehn und das Hof Ohana Team
URL:https://hofohana.de/veranstaltung/sattelkunde-mit-ilka-stehn
LOCATION:Hof Ohana
CATEGORIES:Theorie
ATTACH;FMTTYPE=image/jpeg:https://hofohana.de/wp-content/uploads/2023/08/15271_image_367490311_780918374013789_290327501345094850_n.jpg
END:VEVENT
END:VCALENDAR