BEGIN:VCALENDAR
VERSION:2.0
PRODID:-//Hof Ohana - ECPv6.15.20//NONSGML v1.0//EN
CALSCALE:GREGORIAN
METHOD:PUBLISH
X-WR-CALNAME:Hof Ohana
X-ORIGINAL-URL:https://hofohana.de
X-WR-CALDESC:Veranstaltungen für Hof Ohana
REFRESH-INTERVAL;VALUE=DURATION:PT1H
X-Robots-Tag:noindex
X-PUBLISHED-TTL:PT1H
BEGIN:VTIMEZONE
TZID:Europe/Berlin
BEGIN:DAYLIGHT
TZOFFSETFROM:+0100
TZOFFSETTO:+0200
TZNAME:CEST
DTSTART:20230326T010000
END:DAYLIGHT
BEGIN:STANDARD
TZOFFSETFROM:+0200
TZOFFSETTO:+0100
TZNAME:CET
DTSTART:20231029T010000
END:STANDARD
BEGIN:DAYLIGHT
TZOFFSETFROM:+0100
TZOFFSETTO:+0200
TZNAME:CEST
DTSTART:20240331T010000
END:DAYLIGHT
BEGIN:STANDARD
TZOFFSETFROM:+0200
TZOFFSETTO:+0100
TZNAME:CET
DTSTART:20241027T010000
END:STANDARD
BEGIN:DAYLIGHT
TZOFFSETFROM:+0100
TZOFFSETTO:+0200
TZNAME:CEST
DTSTART:20250330T010000
END:DAYLIGHT
BEGIN:STANDARD
TZOFFSETFROM:+0200
TZOFFSETTO:+0100
TZNAME:CET
DTSTART:20251026T010000
END:STANDARD
END:VTIMEZONE
BEGIN:VEVENT
DTSTART;TZID=Europe/Berlin:20240601T100000
DTEND;TZID=Europe/Berlin:20240601T160000
DTSTAMP:20260420T034348
CREATED:20240502T084842Z
LAST-MODIFIED:20240515T112133Z
UID:15798-1717236000-1717257600@hofohana.de
SUMMARY:Physio-Griffe für Einsteiger mit Maike Schwerdtfeger
DESCRIPTION:Physio-Griffe für Einsteiger mit Maike Schwerdtfeger\nMaike Schwerdtfeger arbeitet seit vielen Jahren als Osteo- und Physiotherapeutin. Ihre Vision sind vitale\, glückliche und motivierte Pferde. Sie betreut erfolgreiche Turnierpferde und Freizeitpferde\, Rentner- und Rehapferde sowie die vermeintlich „unreitbaren“ Problemfälle. Alle werden mit viel Kompetenz und Hingabe von ihr behandelt und unterstützt. Jede Rasse\, jedes Alter ist herzlich willkommen. \nIn ihrem Workshop „Physiogriffe für Einsteiger“ nimmt Maike Schwerdtfeger Reiter und Besitzer mit zu einem spannenden Einblick in die Welt einer Therapeutin. Im Theorieteil werden Grundlagen der Anatomie anschaulich und verständlich erklärt. Ergänzt wird dieser Teil mit interessanten Beispielen aus der Praxis. Im anschließenden Praxisteil werden Physiogriffe am Pferd erklärt und in kleinen Gruppen geübt. Reiter\, Besitzer und ihre Pferde profitieren von diesem Workshop\, weil mit den erarbeiteten Physiogriffen einfache Verspannungen selber gelöst werden können und zusätzlich die Vitalität und das Wohlbefinden des Pferdes gesteigert werden. \n„Ich sehe mich als Beraterin für Pferde und ihre Besitzer und Reiter. Osteopathie und Physiotherapie sind zentrale Stellschrauben im Gesamtmanagement eines Pferdes. Dazu kommen Fütterung\, Haltung\, Training\, Equipment und oftmals auch die Psychologie. Alle diese Faktoren berücksichtige ich individuell und umfassend.“ \nMaike ist Dipl. Agraringenieurin und Pferdewirtschaftsmeisterin. Sie hat Ihre Pferdeosteopathie- und Pferdephysiotherapie-Ausbildung bei der DIPO absolviert. Maike ist selber aktive Reiterin und trainiert ihre beiden Dressurpferde abwechslungsreich und vielfältig. „Nur was ich selber ausprobiert und gefühlt habe\, kann ich reell weitergeben und empfehlen.“ Als aktive Schülerin von Falk Stankus ist ihr Fokus ganz klar die faire\, pferdegerechte Ausbildung bis in die schwere Klasse. \nTeilnehmer\nMin. 5 bis max. 15 \nPreise\n80\,- Euro für Maike\nzzgl. 20\,- € für Hof Ohana für Organisation\, Inkasso\, Bereitstellung von Seminarraum und Pferden\ninkl. Tee\, Kaffee und Süßigkeiten \n= 100\,- € pro Teilnehmer inkl. 19% MwSt. \nDas Seminar startet um 10 Uhr und geht bis ca. 16 Uhr.\nMittagessen könnt ihr gemeinsam mit Maike im nahegelegene Restaurant und sie auch währenddessen mit Fragen löchern. \nIn Absprache mit Maike kannst du ggf. dein eigenes Pferd mitbringen. Bitte buche dann auch eine Gastbox. (Kein Paddock). \nAnmeldung bitte unter folgendem Link: \nAnmeldeformular\nWir freuen uns auf dich. \nMaike und das Hof Ohana Team
URL:https://hofohana.de/veranstaltung/physio-griffe-fuer-einsteiger-mit-maike-schwerdtfeger
LOCATION:Hof Ohana
CATEGORIES:Theorie
ATTACH;FMTTYPE=image/jpeg:https://hofohana.de/wp-content/uploads/2024/05/15798_image_438109697_960756346029990_696585216837998777_n.jpg
END:VEVENT
END:VCALENDAR