BEGIN:VCALENDAR
VERSION:2.0
PRODID:-//Hof Ohana - ECPv6.15.20//NONSGML v1.0//EN
CALSCALE:GREGORIAN
METHOD:PUBLISH
X-WR-CALNAME:Hof Ohana
X-ORIGINAL-URL:https://hofohana.de
X-WR-CALDESC:Veranstaltungen für Hof Ohana
REFRESH-INTERVAL;VALUE=DURATION:PT1H
X-Robots-Tag:noindex
X-PUBLISHED-TTL:PT1H
BEGIN:VTIMEZONE
TZID:Europe/Berlin
BEGIN:DAYLIGHT
TZOFFSETFROM:+0100
TZOFFSETTO:+0200
TZNAME:CEST
DTSTART:20230326T010000
END:DAYLIGHT
BEGIN:STANDARD
TZOFFSETFROM:+0200
TZOFFSETTO:+0100
TZNAME:CET
DTSTART:20231029T010000
END:STANDARD
BEGIN:DAYLIGHT
TZOFFSETFROM:+0100
TZOFFSETTO:+0200
TZNAME:CEST
DTSTART:20240331T010000
END:DAYLIGHT
BEGIN:STANDARD
TZOFFSETFROM:+0200
TZOFFSETTO:+0100
TZNAME:CET
DTSTART:20241027T010000
END:STANDARD
BEGIN:DAYLIGHT
TZOFFSETFROM:+0100
TZOFFSETTO:+0200
TZNAME:CEST
DTSTART:20250330T010000
END:DAYLIGHT
BEGIN:STANDARD
TZOFFSETFROM:+0200
TZOFFSETTO:+0100
TZNAME:CET
DTSTART:20251026T010000
END:STANDARD
END:VTIMEZONE
BEGIN:VEVENT
DTSTART;TZID=Europe/Berlin:20240421T153000
DTEND;TZID=Europe/Berlin:20240421T163000
DTSTAMP:20260420T071455
CREATED:20231018T111531Z
LAST-MODIFIED:20231228T221401Z
UID:15363-1713713400-1713717000@hofohana.de
SUMMARY:Pferdewaage für Einsteller und Gastpferde
DESCRIPTION:Die mobile Pferdewaage von Petra Kiltz kommt auf den Hof Ohana. \nEinstellerpferde und Gastpferde können gewogen und auf Wunsch vermessen werden. \nWir bitten um Voranmeldung unter\nteam@hofohana.de\noder\nWhatsApp 0151-58507711
URL:https://hofohana.de/veranstaltung/pferdewaage-fuer-einsteller-und-gastpferde-4
LOCATION:Hof Ohana
CATEGORIES:Theorie
ATTACH;FMTTYPE=image/jpeg:https://hofohana.de/wp-content/uploads/2023/10/15363_image_393466336_826518142787145_6924805586355748027_n.jpg
END:VEVENT
END:VCALENDAR