BEGIN:VCALENDAR
VERSION:2.0
PRODID:-//Hof Ohana - ECPv6.15.20//NONSGML v1.0//EN
CALSCALE:GREGORIAN
METHOD:PUBLISH
X-WR-CALNAME:Hof Ohana
X-ORIGINAL-URL:https://hofohana.de
X-WR-CALDESC:Veranstaltungen für Hof Ohana
REFRESH-INTERVAL;VALUE=DURATION:PT1H
X-Robots-Tag:noindex
X-PUBLISHED-TTL:PT1H
BEGIN:VTIMEZONE
TZID:Europe/Berlin
BEGIN:DAYLIGHT
TZOFFSETFROM:+0100
TZOFFSETTO:+0200
TZNAME:CEST
DTSTART:20230326T010000
END:DAYLIGHT
BEGIN:STANDARD
TZOFFSETFROM:+0200
TZOFFSETTO:+0100
TZNAME:CET
DTSTART:20231029T010000
END:STANDARD
BEGIN:DAYLIGHT
TZOFFSETFROM:+0100
TZOFFSETTO:+0200
TZNAME:CEST
DTSTART:20240331T010000
END:DAYLIGHT
BEGIN:STANDARD
TZOFFSETFROM:+0200
TZOFFSETTO:+0100
TZNAME:CET
DTSTART:20241027T010000
END:STANDARD
BEGIN:DAYLIGHT
TZOFFSETFROM:+0100
TZOFFSETTO:+0200
TZNAME:CEST
DTSTART:20250330T010000
END:DAYLIGHT
BEGIN:STANDARD
TZOFFSETFROM:+0200
TZOFFSETTO:+0100
TZNAME:CET
DTSTART:20251026T010000
END:STANDARD
END:VTIMEZONE
BEGIN:VEVENT
DTSTART;TZID=Europe/Berlin:20240316T100000
DTEND;TZID=Europe/Berlin:20240317T170000
DTSTAMP:20260420T013521
CREATED:20240111T171823Z
LAST-MODIFIED:20240312T151944Z
UID:15602-1710583200-1710694800@hofohana.de
SUMMARY:Pferdekommunikation im Roundpen mit Markus Eschbach
DESCRIPTION:Wir freuen uns mit Markus Eschbach ab 2024 einen weiterer Top-Trainer und erfolgreichen Buchautor auf Hof Ohana gewonnen zu haben. \nPferdekommunikation im Round Pen  » Modul 1 \nBei der freien Arbeit im Round Pen wird in einer runden eingezäunten Arena gearbeitet. Mensch und Pferd befinden sich zusammen in einer Art Klassenzimmer: Sie üben sich darin\, immer besser zu kommunizieren und sich gegenseitig zu verstehen. Andrea und Markus Eschbach haben seit dem Jahr 2000 die Grundlagen des Relationship-Trainings von GaWaNi Pony Boy übernommen und seine Übungen weiterentwickelt.  \nDas Pferd bewegt sich frei und wird nur durch bewusst eingesetzte Körpersprache und Ausdruck geleitet. Du erfährst\, wie pferdetypische Kommunikation abläuft\, wie Pferde lernen und welche Signale wir Menschen oft unwissentlich senden. Durch die Augen eines Pferdes sehen lernen\, hilft uns\, es besser zu verstehen und mit ihm zu kommunizieren. So können wir uns immer besser pferdeverständlich ausdrücken und dem Pferd unsere Wünsche mitteilen. Ist gegenseitiges Verstehen leichter\, wird es möglich als Basis für alle weitere Arbeit oder Training mit dem Pferd eine stabile und vertrauensvolle Beziehung aufzubauen. \nVertrauen und Respekt sind Bausteine zu erfolgreicher Pferdearbeit. Funktionierende Kommunikation macht eine Partnerschaft lebendig\, harmonisch und den Umgang mit den großen Tieren wesentlich sicherer. \nPferde verdienen unsere 100-prozentige Aufmerksamkeit\nIn diesem Kurs lernst du\, dich in kurzen Einheiten aufs Pferd zu konzentrieren. Dieser Kurs hilft dir auch\, ein besseres Gefühl fürs Pferd zu bekommen\, wenn du reitest. \nFreiarbeit ist vor allem eines: Gute Kommunikation. \n„Die Essenz guter Freiarbeit ist eine pferdegerechte Kommunikation\, die zu einem achtsamen und respektvollen Miteinander von Mensch und Pferd führt. Hierbei spielen die Grundatmosphäre\, die Körpersprache und die Bereitschaft\, einander zuzuhören und der Versuch\, einander zu verstehen\, eine entscheidende Rolle.“ sagt Babette Teschen\, die seit vielen Jahren auf Hof Ohana unterrichtet. \nZiele/Nutzen \n    Perfekter Einstieg in die Welt der Pferde\n    Verstehen der Pferdesprache\n    Verbessern der eigenen Körperwahrnehmung\n    Üben der Kommunikation mit Pferden\n    Erarbeiten einer stabilen Beziehung zwischen Pferd und Mensch\n    Klären von Führungsproblemen \nVorbereitung:\nKeine erforderlich. Auch für Anfänger geeignet. \nDer Kurs findet mit mind. 6 und max. 8 aktiven Teilnehmern mit Pferd statt.  \nKursort:\nHof Ohana\nAlte Landstraße 111\n22941 Bargteheide\nwww.hofohana.de \nPreise:\n1) 240\,- Euro\nDiese Gebühr bekommt Markus Eschbach pro aktivem Teilnehmer. Der Preis gemäß dem Schweizer Steuergesetz ohne Mehrwertsteuer. Markus reist aus der Schweiz an und übernachtet zwei Tage in Bargteheide. Diese Kosten sind im Preis enthalten. Der Betrag wird vom Hof Ohana kassiert und nach dem Kurs an Markus weitergeleitet. \nDazu kommen folgende Gebühren inklusive 19% Mehrwertsteuer an den Hof Ohana: \n2) 30\,- € Anlagennutzung & Organisation an den Hof Ohana \n3)  Auf Wunsch eine shöne 4x5m Gastbox mit Fenster\n     a) zzgl. 30- € – PRO TAG inkl. Heu/Stroh/Misten\n     oder b) zzgl. 20\,-€ – TAGSÜBER inkl. Heu/Stroh/Misten\n     c) Spänebox oder Gastbox von Fr. bis So./Mo. auf Anfrage.\n     (Gastboxen sind begrenzt.) \nBeispiel:\nEine Teilnahme mit Pferd und einer Übernachtung in einer Gastbox mit Stroh kostet also 240\,- € + 30\,- €  + 60\,- € = 330\,- € \nAnmeldung/Fragen:\nteam@hofohana.de   oder  mobil  015158507711 \nhttps://hofohana.de/download/2023AllgAnmeldgMitPferd.jpg \nZuschauerpreise pro Person (inkl. 19% MwSt.)\n50\,- Euro am Samstag\n40\,- Euro am Sonntag\n80\,- Euro für Samstag und Sonntag \nGerne könnt ihr auch unser Formular online ausfüllen und wir melden uns bei euch. \nAnmeldeformular \n \nBei Fragen zum Kursinhalt kontaktiere bitte direkt den Veranstalter  unter: +41(0)5653698 56 \nFragen zur Anmeldung und zum Aufenthalt:\nteam@hofohana.de   oder  Mona unter  015158507711 \nAnmeldeformular \n\nGerne könnt ihr auch unser Formular online ausfüllen und wir melden uns.  \nhttps://hofohana.de/download/2023AllgAnmeldgMitPferd.jpg \nBis bald auf Hof Ohana
URL:https://hofohana.de/veranstaltung/pferdekommunikation-im-roundpen-mit-markus-eschbach
LOCATION:Hof Ohana
CATEGORIES:Bodenarbeit
ATTACH;FMTTYPE=image/jpeg:https://hofohana.de/wp-content/uploads/2024/01/15602_image_418734772_883349837103975_17962698652393856_n.jpg
END:VEVENT
END:VCALENDAR