BEGIN:VCALENDAR
VERSION:2.0
PRODID:-//Hof Ohana - ECPv6.15.20//NONSGML v1.0//EN
CALSCALE:GREGORIAN
METHOD:PUBLISH
X-WR-CALNAME:Hof Ohana
X-ORIGINAL-URL:https://hofohana.de
X-WR-CALDESC:Veranstaltungen für Hof Ohana
REFRESH-INTERVAL;VALUE=DURATION:PT1H
X-Robots-Tag:noindex
X-PUBLISHED-TTL:PT1H
BEGIN:VTIMEZONE
TZID:Europe/Berlin
BEGIN:DAYLIGHT
TZOFFSETFROM:+0100
TZOFFSETTO:+0200
TZNAME:CEST
DTSTART:20220327T010000
END:DAYLIGHT
BEGIN:STANDARD
TZOFFSETFROM:+0200
TZOFFSETTO:+0100
TZNAME:CET
DTSTART:20221030T010000
END:STANDARD
BEGIN:DAYLIGHT
TZOFFSETFROM:+0100
TZOFFSETTO:+0200
TZNAME:CEST
DTSTART:20230326T010000
END:DAYLIGHT
BEGIN:STANDARD
TZOFFSETFROM:+0200
TZOFFSETTO:+0100
TZNAME:CET
DTSTART:20231029T010000
END:STANDARD
BEGIN:DAYLIGHT
TZOFFSETFROM:+0100
TZOFFSETTO:+0200
TZNAME:CEST
DTSTART:20240331T010000
END:DAYLIGHT
BEGIN:STANDARD
TZOFFSETFROM:+0200
TZOFFSETTO:+0100
TZNAME:CET
DTSTART:20241027T010000
END:STANDARD
END:VTIMEZONE
BEGIN:VEVENT
DTSTART;TZID=Europe/Berlin:20230422T100000
DTEND;TZID=Europe/Berlin:20230422T173000
DTSTAMP:20260425T172936
CREATED:20220519T171248Z
LAST-MODIFIED:20220804T180337Z
UID:13994-1682157600-1682184600@hofohana.de
SUMMARY:Conny Röhm live Seminar "Pferdefütterung"
DESCRIPTION:Bekannt durch Ihre herrlichen Bücher\n„Purzel speckt ab!“\n„Rashid hat Kotwasser“ und\n„Rashid und Purzel’s 31 Goldene Regeln zum glücklich Füttern“\nkommt Constanze Röhm für ein Tagesseminar  zum Thema Pferdefütterung zu uns in den Norden auf Hof Ohana. \n„Um eine gute Futterberatung anzubieten\, bedarf es einer ganzheitlichen wissenschaftlichen Ausbildung auf Universitätsniveau.“ Constanze Röhm ist Pferdewissenschaftlerin und vermittelt seit Jahren professionelles Wissen. \n„Dazu benötigt man neben praktischer Erfahrung mit vielen Pferden ein geschultes Auge in Sachen Pferdehaltung und Verhalten\, Sach- und Fachkenntnis in angrenzenden Bereichen wie Biochemie und Botanik und natürlich auch ein Gespür für die Bedürfnisse des Kunden.“ \nConny Röhm spricht in dem Seminar über folgende Themen: \nSeminar Pferdefütterung 1:\nIn diesem Kurs geht es um\n– das Fressverhalten\n– die verschiedenen Pferdetypen\n– die Genetische Varianz der Rassen (ein Shetty ist kein Spanier – oder doch?)\n– die Grundlagen der Anatomie\n– Futtermittelkunde\n-Bedarfsermittlung: Was braucht unser Purzel zum glücklich Sein?\n– Daraus resultierend: eine Rationserstellung \n…weitere Infos zu Conny gibt es hier:  \nHome \n \n——————————————– \nDieser Kurs wird von 10:00- ca. 17:30 Uhr (inkl. Pausen) in unserem modernen Seminarraum stattfinden.  \nMittags gehen wir alle gemeinsam zu einem nahe gelegenen Italiener (nicht im Preis enthalten).\nDie Kosten:\n109\,-€  \nhttp://hofohana.apps-1and1.net/download/2022ConnyRoehmAnmeldeformular.pdf \nAnmeldungen bitte an: team@hofohana.apps-1and1.net\nBei Fragen: Mona von Heymann 015158507711\n——————————————– \nWir auf Hof Ohana freuen uns besonders auf dieses Seminar\, da wir besonderen Wert auf gutes Futter legen und uns nicht scheuen\, Pferdemenschen und unseren Einstellern das richtige Wissen zu zeigen.
URL:https://hofohana.de/veranstaltung/pferdefuetterung-mit-conny-roehm-2
LOCATION:Hof Ohana – Bildung für Mensch & Pferd\, Alte Landstraße 111 (Großes rotes Tor)\, Bargteheide\, Schleswig-Holstein\, 22941\, Deutschland
CATEGORIES:Theorie
ATTACH;FMTTYPE=image/jpeg:https://hofohana.de/wp-content/uploads/2022/05/13994_image_289558596_5501829583200441_171950745849973135_n.jpg
END:VEVENT
END:VCALENDAR