BEGIN:VCALENDAR
VERSION:2.0
PRODID:-//Hof Ohana - ECPv6.15.20//NONSGML v1.0//EN
CALSCALE:GREGORIAN
METHOD:PUBLISH
X-WR-CALNAME:Hof Ohana
X-ORIGINAL-URL:https://hofohana.de
X-WR-CALDESC:Veranstaltungen für Hof Ohana
REFRESH-INTERVAL;VALUE=DURATION:PT1H
X-Robots-Tag:noindex
X-PUBLISHED-TTL:PT1H
BEGIN:VTIMEZONE
TZID:Europe/Berlin
BEGIN:DAYLIGHT
TZOFFSETFROM:+0100
TZOFFSETTO:+0200
TZNAME:CEST
DTSTART:20230326T010000
END:DAYLIGHT
BEGIN:STANDARD
TZOFFSETFROM:+0200
TZOFFSETTO:+0100
TZNAME:CET
DTSTART:20231029T010000
END:STANDARD
BEGIN:DAYLIGHT
TZOFFSETFROM:+0100
TZOFFSETTO:+0200
TZNAME:CEST
DTSTART:20240331T010000
END:DAYLIGHT
BEGIN:STANDARD
TZOFFSETFROM:+0200
TZOFFSETTO:+0100
TZNAME:CET
DTSTART:20241027T010000
END:STANDARD
BEGIN:DAYLIGHT
TZOFFSETFROM:+0100
TZOFFSETTO:+0200
TZNAME:CEST
DTSTART:20250330T010000
END:DAYLIGHT
BEGIN:STANDARD
TZOFFSETFROM:+0200
TZOFFSETTO:+0100
TZNAME:CET
DTSTART:20251026T010000
END:STANDARD
END:VTIMEZONE
BEGIN:VEVENT
DTSTART;TZID=Europe/Berlin:20240503T090000
DTEND;TZID=Europe/Berlin:20240505T170000
DTSTAMP:20260422T162933
CREATED:20240314T192856Z
LAST-MODIFIED:20240314T192856Z
UID:15670-1714726800-1714928400@hofohana.de
SUMMARY:Osteopathische Medizin vom Menschen zum Pferd - Teil 1
DESCRIPTION:Osteopathische Medizin vom Mensch zum Pferd \nDieser Kurs ist exklusiv für Therapeuten. \nSie sind Pferdeosteopath/in oder/und Humanphysiotherapeut/in?\nSie kommen bei Ihren Behandlungen an Grenzen und suchen nach neuen Wegen und neuen Inspirationen?\nSie möchten anders arbeiten als andere? \nDann sind Sie bei uns richtig. Wir bieten Ihnen in unserem 9-tägigen Kurs „Ganzheitliche Osteopathische Medizin“ völlig neue visionäre\, philosophische Ansätze zur Behandlung von Mensch und Pferd. Es werden vielfältige Techniken und Möglichkeiten aufgezeigt zur Diagnostik/Befundung und Behandlung. Hier gibt es keine Denkverbote. Nach Wiederholung der Anatomie wird alles zuerst am Menschen gezeigt und geübt\, dann angepasst am Pferd. \n Natürlich können die meisten Techniken nur vorgestellt und kurz geübt werden\, es geht hier aber vor allem darum\, den eigenen Horizont auf die Ganzheitlichkeit zu erweitern. Bis das osteopathische Fühlen perfektioniert ist\, dauert es Jahre. \nVorgestellt werden u.a. Listening- Techniken\, BLT\, GOT\, Release-Techniken\, direkte und indirekte Behandlungsmöglichkeiten\, um wirklich jede Struktur erreichen und behandeln zu können. Visceral\, parietal\, fascial\, nerval\, fluidal\, cranial und noch mehr. TCM und energetische Aspekte fließen ebenso mit ein. Es wird ein so hohes Portfolio an Techniken und Gedankengut vermittelt\, dass ein/e Therapeut/in das ganze Berufsleben damit auszufüllen vermag. \n Osteopathie für Pferde – hier wird Pionierarbeit geleistet\, seien Sie dabei. \n9 Tage inkl. Skript und Verpflegung (Snacks\, Getränke)\n3 Tage davon finden auf dem Hof Ohana statt. \nKosten: 2490\,00 € \nVeranstalter und Ansprechpartner ist: Claudia Sieh\nMed-Equin – Pferdeosteopathie\nRathausstraße 13\n22941 Bargteheide\nTelefon: 04532 – 22316\nMobil 0152 – 27453035\nE-Mail: info@med-equin.de\nwww.Med-Equin.de \nAnmeldeformular:\nhttps://med-equin.de/wp-content/uploads/2022/10/Anmeldung-zum-Kurs-ueber-Website-PDF.pdf \nMehr Informationen im Video:\nhttps://www.youtube.com/channel/UCwU1XMhGEwidrq1qyJFJwLg
URL:https://hofohana.de/veranstaltung/osteopathische-medizin-vom-menschen-zum-pferd-teil-1
LOCATION:Hof Ohana
CATEGORIES:Theorie
ATTACH;FMTTYPE=image/jpeg:https://hofohana.de/wp-content/uploads/2024/03/15670_image_379332572_802377728534520_2556422327601071832_n.jpg
END:VEVENT
END:VCALENDAR