BEGIN:VCALENDAR
VERSION:2.0
PRODID:-//Hof Ohana - ECPv6.15.20//NONSGML v1.0//EN
CALSCALE:GREGORIAN
METHOD:PUBLISH
X-WR-CALNAME:Hof Ohana
X-ORIGINAL-URL:https://hofohana.de
X-WR-CALDESC:Veranstaltungen für Hof Ohana
REFRESH-INTERVAL;VALUE=DURATION:PT1H
X-Robots-Tag:noindex
X-PUBLISHED-TTL:PT1H
BEGIN:VTIMEZONE
TZID:Europe/Berlin
BEGIN:DAYLIGHT
TZOFFSETFROM:+0100
TZOFFSETTO:+0200
TZNAME:CEST
DTSTART:20220327T010000
END:DAYLIGHT
BEGIN:STANDARD
TZOFFSETFROM:+0200
TZOFFSETTO:+0100
TZNAME:CET
DTSTART:20221030T010000
END:STANDARD
BEGIN:DAYLIGHT
TZOFFSETFROM:+0100
TZOFFSETTO:+0200
TZNAME:CEST
DTSTART:20230326T010000
END:DAYLIGHT
BEGIN:STANDARD
TZOFFSETFROM:+0200
TZOFFSETTO:+0100
TZNAME:CET
DTSTART:20231029T010000
END:STANDARD
BEGIN:DAYLIGHT
TZOFFSETFROM:+0100
TZOFFSETTO:+0200
TZNAME:CEST
DTSTART:20240331T010000
END:DAYLIGHT
BEGIN:STANDARD
TZOFFSETFROM:+0200
TZOFFSETTO:+0100
TZNAME:CET
DTSTART:20241027T010000
END:STANDARD
END:VTIMEZONE
BEGIN:VEVENT
DTSTART;TZID=Europe/Berlin:20230622T170000
DTEND;TZID=Europe/Berlin:20230622T200000
DTSTAMP:20260419T191653
CREATED:20230401T220259Z
LAST-MODIFIED:20230401T220259Z
UID:14892-1687453200-1687464000@hofohana.de
SUMMARY:Mit Herz und Hirn - Neurowissenschaftliche Erkenntnisse zum Pferd
DESCRIPTION:Neurowissenschaftliche Erkenntnisse zur liebevollen Ausbildung von Pferden \nPferde gibt es seit 56.000.000 Jahren. Aber lediglich 5500 Jahre leben Menschen und Pferde in einer Gemeinschaft. Eine Gemeinschaft von leckerem Fluchttier und dem ultimativen Raubtier dieser Erde. Kein Wunder\, dass dies – bei aller guter Absicht und Liebe des Raubtiers – zu Missverständnissen in der Beziehung führt. \nDieser Vortrag wagt den Versuch allen Menschen\, die Pferde lieben\, besitzen\, reiten oder ausbilden die Welt aus der Sicht der Pferde näher zu bringen. Dabei kommen viele Beispiele in Bild und Film zum Einsatz. Ziel ist es\, mehr Klarheit und damit mehr Verständnis für die Verhaltensweisen unserer Fellnasen zu bringen. Ganz wichtig ist die Andersartigkeit der Sinnesorgane zu verstehen. Wir sind auf Jagen\, unsere Einhufer hingegen auf Flucht und Sicherheit optimiert. Aber hauptsächlich geht es um Genetik und aktuelle\, neurowissenschaftliche Erkenntnisse aus der Gehirnforschung.  \nWer in der Lage ist\, sich in die Welt eines Equiden zu versetzen\, dessen Genetik ihm das Überleben durch eine bemerkenswert gut funktionierende Sozialgemeinschaft über Millionen von Jahren gesichert hat\, wird so manche pferdische Verhaltensweise verstehen. Verhalten\, welches aus Sicht eines  Menschen zu oft als „albern“\, „Verarsche“\, „unberechenbar“\, „unlogisch“\, „faul“\, „zickig“ … empfunden wird. Oder uns Menschen trotz guter Absicht einfach zur Verzweiflung bringt.  \nVersteht man aber\, das „Warum“ hinter dem Verhalten eines Pferdes\, werden auch die Lösungswege verständlich. Dann wissen wir\, wie man einem Pferd mit einem Problem helfen kann\, sich in der Welt der Menshen zurecht zu finden. Einer Welt\, die so ganz anders ist\, als die für die seine Genetik optimiert ist und die es sich nicht ausgesucht hat. \nKeine Sorge. Alles ist leicht verständlich verpackt. Man braucht also kein Medizinstudium\, sondern nur gute Laune mitzubringen. \nDieser Termin ist nur ein Platzhalter. Den richtigen Termin gibt es in Kürze hier. \nPreis:\n25\,- Euro pro Person
URL:https://hofohana.de/veranstaltung/mit-herz-und-hirn-neurowissenschaftliche-erkenntnisse-zum-pferd
LOCATION:Hof Ohana – Bildung für Mensch & Pferd\, Alte Landstraße 111 (Großes rotes Tor)\, Bargteheide\, Schleswig-Holstein\, 22941\, Deutschland
CATEGORIES:Theorie
ATTACH;FMTTYPE=image/jpeg:https://hofohana.de/wp-content/uploads/2023/04/14892_image_339011612_261428516214845_3148288894074918926_n.jpg
END:VEVENT
END:VCALENDAR