BEGIN:VCALENDAR
VERSION:2.0
PRODID:-//Hof Ohana - ECPv6.15.20//NONSGML v1.0//EN
CALSCALE:GREGORIAN
METHOD:PUBLISH
X-WR-CALNAME:Hof Ohana
X-ORIGINAL-URL:https://hofohana.de
X-WR-CALDESC:Veranstaltungen für Hof Ohana
REFRESH-INTERVAL;VALUE=DURATION:PT1H
X-Robots-Tag:noindex
X-PUBLISHED-TTL:PT1H
BEGIN:VTIMEZONE
TZID:Europe/Berlin
BEGIN:DAYLIGHT
TZOFFSETFROM:+0100
TZOFFSETTO:+0200
TZNAME:CEST
DTSTART:20240331T010000
END:DAYLIGHT
BEGIN:STANDARD
TZOFFSETFROM:+0200
TZOFFSETTO:+0100
TZNAME:CET
DTSTART:20241027T010000
END:STANDARD
BEGIN:DAYLIGHT
TZOFFSETFROM:+0100
TZOFFSETTO:+0200
TZNAME:CEST
DTSTART:20250330T010000
END:DAYLIGHT
BEGIN:STANDARD
TZOFFSETFROM:+0200
TZOFFSETTO:+0100
TZNAME:CET
DTSTART:20251026T010000
END:STANDARD
BEGIN:DAYLIGHT
TZOFFSETFROM:+0100
TZOFFSETTO:+0200
TZNAME:CEST
DTSTART:20260329T010000
END:DAYLIGHT
BEGIN:STANDARD
TZOFFSETFROM:+0200
TZOFFSETTO:+0100
TZNAME:CET
DTSTART:20261025T010000
END:STANDARD
END:VTIMEZONE
BEGIN:VEVENT
DTSTART;TZID=Europe/Berlin:20251127T180000
DTEND;TZID=Europe/Berlin:20251128T180000
DTSTAMP:20260425T171819
CREATED:20251017T173003Z
LAST-MODIFIED:20251017T175024Z
UID:16806-1764266400-1764352800@hofohana.de
SUMMARY:Mirjam Wittmann | Working Equitation Kurs mit Info-Abend
DESCRIPTION:Working Equitation: Spaß und Motivation – Dressur einmal anders! \nWir freuen uns mit der Doppelweltmeisterin der Working Equitation und Pferdewirtschaftsmeister Klassische Reitausbildung Mirjam Wittmann einen weiteren Top-Trainer für unser Bildungsangebot auf Hof Ohana gewonnen zu haben. Mirjam wird am Donnerstagabend einen Info-Abend zum Kennenlernen dieser vielseitigen Reitweise anbieten. Dann geht es am Freitag mit Einzelunterricht weiter. Zuschauer sind herzlich willkommen. \nMirjams Philosophie:\n„Für mich gelten klare Prinzipien: Gesunderhaltung\, Freude\, Feinfühligkeit und Dynamik. Nur dann beginnt ein Pferd aus dem Inneren zu strahlen und über sein Vermögen hinaus zu wachsen. Ich schaue dabei über den Tellerrand hinaus und mache mir die verschiedenen Elemente unterschiedlicher Ausbildungsrichtungen zu Nutze.“ https://mirjam-wittmann.de \nBitte traut Euch zu uns!\nEs ist egal\, ob ihr ganz einfach mal reinschnuppern möchtet oder schon sehr erfahren im Working Equitation seid. Es ist auch jede Pferderasse willkommen\, denn der Spaß für Mensch und Pferd steht an der ersten Stelle. \nWir freuen uns ganz besonders\, dass Beatrice Baumann uns ihren sehr professionellen Working Equitation Parcours von DS Equiworld zur Verfügung stellt. Es erwarten euch: \nStier\nTor\nTonnen\nBrücke\nPferch\nGarrocha\nTisch mit Krug\nSlalom-Hütchen \nMirjam reist mit dem Flugzeug aus Bayern an und übernachtet auf Hof Ohana. Diese Kosten sind im Preis enthalten. \nAlle Preise (inklusive 19% MwSt.) \nDonnerstag\, 27.11.2025 18:00 bis circa 20:00 Uhr\n——————————————————\nMirjam Wittmann | Info-Abend zum Thema Working Equitation\nWir beginnen den Abend im gemütlichen Seminarraum des Hof Ohanas. Mirjam stellt uns circa eine Stunde lang die Besonderheiten ihres Sports vor. Dann geht es in die Reithalle und wir bauen gemeinsam den Parcours für den nächsten Tag auf. Dabei lernen wir die einzelnen Elemente und ihre Herausforderungen kennen. So können wir am nächsten Tag die Zeit auf dem Pferd sinnvoll mit der praktischen Umsetzung nutzen. \nPreise Info-Abend\n20\,- Euro pro Person  \nFreitag\, 28.11.2025 – Circa 9:00 bis 18:00 Uhr\n—————————————————— \n1) 30 Minuten pro Tag  \n70 \,- € für Mirjam Wittmann Parcours \n10 \,- € für Beatrice Baumanns 	 \nzzgl. 15\,- € Anlagennutzung\, Inkasso\, Organisation Hof Ohana \n2) 45 Minuten pro Tag  \n105 \,- € für Mirjam Wittmann \n15 \,- € für Beatrice Baumanns Parcours \nzzgl. 15\,- € Anlagennutzung\, Inkasso\, Organisation Hof Ohana \n3)60 Minuten pro Tag  \n 140\,- € für Mirjam Wittmann \n 20\,- € für Beatrice Baumanns Parcours \n zzgl. 15\,- € Anlagennutzung\, Inkasso\, Organisation Hof Ohana \n4)Auf Wunsch als Gastbox eine 4x5m Fensterbox \n a) zzgl. 30- € – pro Tag inkl. Heu/Stroh/Misten \n b) zzgl. 20\,-€ – tagsüber inkl. Heu/Stroh/Misten \n c) Spänebox oder Gastbox von Do. bis Sa. auf Anfrage.  \n (Gastboxen sind begrenzt.) \n5)Zuschauer 20\,- € pro Tag \nFragen: team@hofohana.apps-1and1.net odermobil015158507711 \nZur Anmeldung füllt bitte unser Online-Formular aus.\nWir melden uns dann schnellst möglich bei euch. \nhttps://digistable.app/events/anmeldeformular.php?eid=78&start=27.11.2025&ende=28.11.2025 \nWir freuen auf Euch und Eure Pferde. \nMirjam Wittmann\, Beatrice Baumann und das Hof OhanaTeam \n————-\nDas Portraitfoto von Mirjam ist von Silvia Stoib.
URL:https://hofohana.de/veranstaltung/mirjam-wittmann-working-equitation-kurs-mit-info-abend
LOCATION:Hof Ohana
CATEGORIES:Dressurreiten
ATTACH;FMTTYPE=image/jpeg:https://hofohana.de/wp-content/uploads/2025/10/16806_image_564664084_1392549106184043_7391160698676637378_n.jpg
END:VEVENT
END:VCALENDAR