BEGIN:VCALENDAR
VERSION:2.0
PRODID:-//Hof Ohana - ECPv6.15.20//NONSGML v1.0//EN
CALSCALE:GREGORIAN
METHOD:PUBLISH
X-WR-CALNAME:Hof Ohana
X-ORIGINAL-URL:https://hofohana.de
X-WR-CALDESC:Veranstaltungen für Hof Ohana
REFRESH-INTERVAL;VALUE=DURATION:PT1H
X-Robots-Tag:noindex
X-PUBLISHED-TTL:PT1H
BEGIN:VTIMEZONE
TZID:Europe/Berlin
BEGIN:DAYLIGHT
TZOFFSETFROM:+0100
TZOFFSETTO:+0200
TZNAME:CEST
DTSTART:20170326T010000
END:DAYLIGHT
BEGIN:STANDARD
TZOFFSETFROM:+0200
TZOFFSETTO:+0100
TZNAME:CET
DTSTART:20171029T010000
END:STANDARD
BEGIN:DAYLIGHT
TZOFFSETFROM:+0100
TZOFFSETTO:+0200
TZNAME:CEST
DTSTART:20180325T010000
END:DAYLIGHT
BEGIN:STANDARD
TZOFFSETFROM:+0200
TZOFFSETTO:+0100
TZNAME:CET
DTSTART:20181028T010000
END:STANDARD
BEGIN:DAYLIGHT
TZOFFSETFROM:+0100
TZOFFSETTO:+0200
TZNAME:CEST
DTSTART:20190331T010000
END:DAYLIGHT
BEGIN:STANDARD
TZOFFSETFROM:+0200
TZOFFSETTO:+0100
TZNAME:CET
DTSTART:20191027T010000
END:STANDARD
END:VTIMEZONE
BEGIN:VEVENT
DTSTART;TZID=Europe/Berlin:20180322T200000
DTEND;TZID=Europe/Berlin:20180322T220000
DTSTAMP:20260425T154004
CREATED:20180205T132600Z
LAST-MODIFIED:20180205T132714Z
UID:1873-1521748800-1521756000@hofohana.de
SUMMARY:Magenerkrankungen beim Pferd mit Dr. vet. Svenja Thiede
DESCRIPTION:Der siebte Teil unserer Hof Ohana Seminarreihe zur Pferdegesundheit mit Tierärztin Dr. med. vet. Svenja Thiede. \nHäufiges Leid\, oft übersehen: \nMagenerkrankungen beim Pferd/EGUS \nAnmeldeformular unter Tickets oder hier:\nhttp://hofohana.apps-1and1.net/wp-content/uploads/2017/09/2017-Seminare-Doc-Thiede.pdf \nWir freuen uns auf Euch! \n————————————————————————————-\nDr. med. vet. Svenja Thiede ist Tierärztin für Homöopathie und Fachtierärztin für Mikrobiologie. Während ihrer Forschungstätigkeit wurde schon offensichtlich\, dass viele Tiere aufgrund der Haltungsbedingungen erkranken. In der Praxis wurde dies immer deutlicher. „Wohlstandserkrankungen“ sind beim Pferd leider modern geworden und müssen rechtzeitig erkannt werden. Deshalb betreibt Svenja Thiede eine Praxis für ganzheitliche Therapie\, vor allem Klassische Homöopathie\, bei der Beratungen zu Fütterung und Haltung in den Vordergrund gerückt sind. Ihr Anliegen ist vor allem die Prävention – Haltungsbedingungen so optimieren\, dass Krankheiten möglichst gar nicht erst entstehen. Svenja Thiede möchte über Fakten rund ums Pferd aufklären\, Stoffwechselerkrankungen verständlich erklären\, Maßnahmen an die Hand geben\, damit Pferdebesitzer selbstverantwortlich handeln können. \nSvenja Thiede besitzt selber ein Islandpferd\, das als „Projekt“ kam und als Herzenspferd bleibt. Sie kennt somit die Sorgen und Nöte der Pferdebesitzer gut und weiß\, dass Pferdehaltung in der Umsetzung nicht immer einfach ist. \nPreise:\n24\,- Euro pro Person bei Vorkasse\n29\,- Euro Abendkasse \nAnmeldung bitte per Anmeldeformular (Siehe Ticketinformationen) an mona@hof-ohana.de oder unter Tel. 0151-58507711
URL:https://hofohana.de/veranstaltung/magenerkrankungen-beim-pferd-mit-dr-vet-svenja-thiede
LOCATION:Hof Ohana – Bildung für Mensch & Pferd\, Alte Landstraße 111 (Großes rotes Tor)\, Bargteheide\, Schleswig-Holstein\, 22941\, Deutschland
CATEGORIES:Theorie
ATTACH;FMTTYPE=image/jpeg:https://hofohana.de/wp-content/uploads/2018/02/1873_image_27503600_1764242490292521_5850512790896537215_o.jpg
END:VEVENT
END:VCALENDAR