BEGIN:VCALENDAR
VERSION:2.0
PRODID:-//Hof Ohana - ECPv6.15.20//NONSGML v1.0//EN
CALSCALE:GREGORIAN
METHOD:PUBLISH
X-WR-CALNAME:Hof Ohana
X-ORIGINAL-URL:https://hofohana.de
X-WR-CALDESC:Veranstaltungen für Hof Ohana
REFRESH-INTERVAL;VALUE=DURATION:PT1H
X-Robots-Tag:noindex
X-PUBLISHED-TTL:PT1H
BEGIN:VTIMEZONE
TZID:Europe/Berlin
BEGIN:DAYLIGHT
TZOFFSETFROM:+0100
TZOFFSETTO:+0200
TZNAME:CEST
DTSTART:20210328T010000
END:DAYLIGHT
BEGIN:STANDARD
TZOFFSETFROM:+0200
TZOFFSETTO:+0100
TZNAME:CET
DTSTART:20211031T010000
END:STANDARD
BEGIN:DAYLIGHT
TZOFFSETFROM:+0100
TZOFFSETTO:+0200
TZNAME:CEST
DTSTART:20220327T010000
END:DAYLIGHT
BEGIN:STANDARD
TZOFFSETFROM:+0200
TZOFFSETTO:+0100
TZNAME:CET
DTSTART:20221030T010000
END:STANDARD
BEGIN:DAYLIGHT
TZOFFSETFROM:+0100
TZOFFSETTO:+0200
TZNAME:CEST
DTSTART:20230326T010000
END:DAYLIGHT
BEGIN:STANDARD
TZOFFSETFROM:+0200
TZOFFSETTO:+0100
TZNAME:CET
DTSTART:20231029T010000
END:STANDARD
END:VTIMEZONE
BEGIN:VEVENT
DTSTART;TZID=Europe/Berlin:20220521T090000
DTEND;TZID=Europe/Berlin:20220522T160000
DTSTAMP:20260421T170853
CREATED:20220228T153425Z
LAST-MODIFIED:20220305T161409Z
UID:13468-1653123600-1653235200@hofohana.de
SUMMARY:Longenkurs mit Babette Teschen auf Hof Ohana
DESCRIPTION:Longenkurs mit Babette Teschen auf Hof Ohana \nBabette Teschen gibt seit Jahren Seminare und Kurse zum Thema Longieren nach den Grundsätzen der Biomechanik des Pferdes. Dabei fließen vor allem ihre Kenntnisse als Tierheilpraktikerin in die Trainingsmethoden mit ein. Als umfassende Lektüre zum Trainingskonzept brachte Sie 2008 den ersten „Longenkurs“ als PDF Selbst-Lern-Anleitung heraus.  \nSo beschreibt Babette\, was sie Ihnen bieten kann:\n————-\nBei meinen Trainingstagen setze ich vor allem zwei Schwerpunkte: \n • in einem effektiven und gesundheitsfördernden Training am Boden\, vor allem durch das Longieren \n • sowie einen gewaltfreien und wunderschönen Weg zu einem harmonischen Miteinander mit dem Pferd. \nUnabhängig davon\, ob Sie Anfänger in Sachen Bodenarbeit und Longieren sind oder ob Sie bereits länger mit dem Selbstlernkurs arbeiten\, kann ich Sie mit praktischen Trainingstagen in Ihrer Arbeit mit Ihrem Pferd unterstützen.  \nIn meiner Arbeit gehe ich individuell auf die jeweiligen Bedürfnisse und Herausforderungen Ihres Pferdes ein und schule Sie darin\, mit Ihrem Pferd noch effektiver und auch harmonischer zu arbeiten.\n———– \nDer Lehrgang ist auf maximal 6 Teilnehmer begrenzt.\nZuschauer sind herzlich willkommen. \nUnsere 23 x 60 m Halle mit neuem Hallenboden ist gegen Kälte und Wärme isoliert. \nAm Donnerstag vor dem Wochenende gibt es den Theorieteil live über Zoom auf eurem Computer. Keine Angst\, dass geht wirklich sehr einfach und ihr könnt die ganze Zeit Fragen stellen etc.. Samstag und Sonntag gehen Aktiven und Zuschauer zusammen Mittagessen. Aufwärmen\, lecker essen (auch Vegan) und sich austauschen. Wir freuen uns schon. \nDonnerstag\,     Theorie 18:00 bis ca. 22:00 Uhr (Online vom Sofa aus über über Zoom)\nSamstag:  Praxis:  9:00 bis 13:30 und 14:30 – 18:00 Uhr\nSonntag:   Praxis:  9:00 bis 13:00 und 14:00 – 16:00 Uhr \nEin Anmeldeformular findet ihr hier oder unter Tickets: \nhttps://hofohana.de/download/202205-Babette-Teschen-Anmeldeformular.pdf \nWir freuen uns auf Euch \nEuer Team vom Hof Ohana \nPs.: Bei Fragen rund um unsere Kurse\, ruft uns gerne an:\n0151 58507711
URL:https://hofohana.de/veranstaltung/longenkurs-mit-babette-teschen-auf-hof-ohana-10
LOCATION:Hof Ohana – Bildung für Mensch & Pferd\, Alte Landstraße 111 (Großes rotes Tor)\, Bargteheide\, Schleswig-Holstein\, 22941\, Deutschland
CATEGORIES:Bodenarbeit
ATTACH;FMTTYPE=image/jpeg:https://hofohana.de/wp-content/uploads/2022/02/13468_image_274684226_5176778209038915_3825221644742411444_n.jpg
END:VEVENT
END:VCALENDAR