BEGIN:VCALENDAR
VERSION:2.0
PRODID:-//Hof Ohana - ECPv6.15.20//NONSGML v1.0//EN
CALSCALE:GREGORIAN
METHOD:PUBLISH
X-WR-CALNAME:Hof Ohana
X-ORIGINAL-URL:https://hofohana.de
X-WR-CALDESC:Veranstaltungen für Hof Ohana
REFRESH-INTERVAL;VALUE=DURATION:PT1H
X-Robots-Tag:noindex
X-PUBLISHED-TTL:PT1H
BEGIN:VTIMEZONE
TZID:Europe/Berlin
BEGIN:DAYLIGHT
TZOFFSETFROM:+0100
TZOFFSETTO:+0200
TZNAME:CEST
DTSTART:20200329T010000
END:DAYLIGHT
BEGIN:STANDARD
TZOFFSETFROM:+0200
TZOFFSETTO:+0100
TZNAME:CET
DTSTART:20201025T010000
END:STANDARD
BEGIN:DAYLIGHT
TZOFFSETFROM:+0100
TZOFFSETTO:+0200
TZNAME:CEST
DTSTART:20210328T010000
END:DAYLIGHT
BEGIN:STANDARD
TZOFFSETFROM:+0200
TZOFFSETTO:+0100
TZNAME:CET
DTSTART:20211031T010000
END:STANDARD
BEGIN:DAYLIGHT
TZOFFSETFROM:+0100
TZOFFSETTO:+0200
TZNAME:CEST
DTSTART:20220327T010000
END:DAYLIGHT
BEGIN:STANDARD
TZOFFSETFROM:+0200
TZOFFSETTO:+0100
TZNAME:CET
DTSTART:20221030T010000
END:STANDARD
END:VTIMEZONE
BEGIN:VEVENT
DTSTART;TZID=Europe/Berlin:20210306T090000
DTEND;TZID=Europe/Berlin:20210307T160000
DTSTAMP:20260425T135807
CREATED:20210301T121301Z
LAST-MODIFIED:20210301T121301Z
UID:11295-1615021200-1615132800@hofohana.de
SUMMARY:Longenkurs mit B. Teschen als Einzelunterricht
DESCRIPTION:Longenunterricht mit Babette Teschen auf Hof Ohana \nBabette Teschen gibt seit Jahren Seminare und Kurse zum Thema Longieren nach den Grundsätzen der Biomechanik des Pferdes. Dabei fließen vor allem ihre Kenntnisse als Tierheilpraktikerin in die Trainingsmethoden mit ein. Als umfassende Lektüre zum Trainingskonzept brachte Sie 2008 den ersten „Longenkurs“ als PDF Selbst-Lern-Anleitung heraus.  \nSo beschreibt Babette\, was sie euch bieten kann:\n————-\nBei meinen Trainingstagen setze ich vor allem zwei Schwerpunkte: \n • in einem effektiven und gesundheitsfördernden Training am Boden\, vor allem durch das Longieren \n • sowie einen gewaltfreien und wunderschönen Weg zu einem harmonischen Miteinander mit dem Pferd. \nUnabhängig davon\, ob Sie Anfänger in Sachen Bodenarbeit und Longieren sind oder ob Sie bereits länger mit dem Selbstlernkurs arbeiten\, kann ich Sie mit praktischen Trainingstagen in Ihrer Arbeit mit Ihrem Pferd unterstützen.  \nIn meiner Arbeit gehe ich individuell auf die jeweiligen Bedürfnisse und Herausforderungen Ihres Pferdes ein und schule Sie darin\, mit Ihrem Pferd noch effektiver und auch harmonischer zu arbeiten.\n———– \nWICHTIGE ÄNDERUNGEN\nAufgrund der Corona Pandemie muss der Theorievortrag  am Freitagabend entfallen.\nDer Unterricht findet nur als Einzelunterricht statt und ist auf maximal 6 Teilnehmer begrenzt.\nZuschauer sind leider nicht erlaubt und auch das gemeinsame Mittagessen muss diesmal ausfallen.  \nUnsere 23 x 60 m Halle ist gegen Kälte und Wärme isoliert. \nSamstag:\n9:00 bis 13:30 & 14:30 – 18:00 Uhr\nSonntag:\n9:00 bis 13:00 & 14:00 – 16:00 Uhr \nEin Anmeldeformular findet ihr hier oder unter Tickets: \nhttp://hofohana.apps-1and1.net/202103-ez-babette-teschen \nWir freuen uns auf Euch \nEuer Team vom Hof Ohana \nPs.: Bei Fragen rund um unsere Kurse\, ruft uns gerne an:\n0151 58507711
URL:https://hofohana.de/veranstaltung/longenkurs-mit-b-teschen-als-einzelunterricht
LOCATION:Hof Ohana – Bildung für Mensch & Pferd\, Alte Landstraße 111 (Großes rotes Tor)\, Bargteheide\, Schleswig-Holstein\, 22941\, Deutschland
CATEGORIES:Bodenarbeit
ATTACH;FMTTYPE=image/jpeg:https://hofohana.de/wp-content/uploads/2021/03/11295_image_156109244_4032683290115085_3413253420226572092_n.jpg
END:VEVENT
END:VCALENDAR