BEGIN:VCALENDAR
VERSION:2.0
PRODID:-//Hof Ohana - ECPv6.15.20//NONSGML v1.0//EN
CALSCALE:GREGORIAN
METHOD:PUBLISH
X-WR-CALNAME:Hof Ohana
X-ORIGINAL-URL:https://hofohana.de
X-WR-CALDESC:Veranstaltungen für Hof Ohana
REFRESH-INTERVAL;VALUE=DURATION:PT1H
X-Robots-Tag:noindex
X-PUBLISHED-TTL:PT1H
BEGIN:VTIMEZONE
TZID:Europe/Berlin
BEGIN:DAYLIGHT
TZOFFSETFROM:+0100
TZOFFSETTO:+0200
TZNAME:CEST
DTSTART:20220327T010000
END:DAYLIGHT
BEGIN:STANDARD
TZOFFSETFROM:+0200
TZOFFSETTO:+0100
TZNAME:CET
DTSTART:20221030T010000
END:STANDARD
BEGIN:DAYLIGHT
TZOFFSETFROM:+0100
TZOFFSETTO:+0200
TZNAME:CEST
DTSTART:20230326T010000
END:DAYLIGHT
BEGIN:STANDARD
TZOFFSETFROM:+0200
TZOFFSETTO:+0100
TZNAME:CET
DTSTART:20231029T010000
END:STANDARD
BEGIN:DAYLIGHT
TZOFFSETFROM:+0100
TZOFFSETTO:+0200
TZNAME:CEST
DTSTART:20240331T010000
END:DAYLIGHT
BEGIN:STANDARD
TZOFFSETFROM:+0200
TZOFFSETTO:+0100
TZNAME:CET
DTSTART:20241027T010000
END:STANDARD
END:VTIMEZONE
BEGIN:VEVENT
DTSTART;TZID=Europe/Berlin:20230513T090000
DTEND;TZID=Europe/Berlin:20230513T163000
DTSTAMP:20260421T133622
CREATED:20230215T132610Z
LAST-MODIFIED:20230215T132610Z
UID:14498-1683968400-1683995400@hofohana.de
SUMMARY:Handarbeit oder Reiten | Klassisch-Barock mit Irene Raab-Hinrichs
DESCRIPTION:Handarbeit oder klassisch-barocke Reiterei mit Irene Raab-Hinrichs \nDieser Kurs richtet sich nicht nur an die Freunde der klassischen Reiterei\, sondern an Besitzer von Pferden aller Rassen und Ausbildungsstände\, die sich zum Beispiel Piaffe und Passage mit ihrem Pferd vom Boden erarbeiten möchten. Auch die Arbeit an der Doppellonge kann unter Irenes kompetenter Anleitung erlernt werden. Und selbstverständlich kann auch das Reiten verfeinert werden. Jeder so wie er es wünscht. \nIrene Raab-Hinrichs ist lizenzierte Trainerin A klassisch-barocke Reiterei\, anerkannt vom Bundesverband für klassisch-barocke Reiterei Deutschland e.V. (BfkbR) und der Deutschen Reiterlichen Vereinigung (FN) \nEs gibt kein Mindestniveau und willkommen ist jede Rasse.  \nDie Harmonie zwischen Pferd und Reiter ist die wichtigste Voraussetzung für die Freude am Umgang mit dem Partner Pferd. Kommunikation auf Augenhöhe – die Arbeit an der Hand. \nIrenes Unterricht wendet sich an alle\, die ihr Pferd klassisch-barock ausbilden oder mit ihrem Pferd vom Boden aus kommunizieren möchten. Egal ob Anfänger oder Fortgeschrittener.\nDie ergänzennde Arbeit an der Hand bietet ein breites Spektrum an Möglichkeiten: Abwechslung in der Ausbildung\, Aufwärmtraining für Pferd und Reiter\, junges Pferd an die gemeinsame Arbeit unter dem Sattel vorbereiten\, ältere Pferde fit halten\, neue Aufgaben im Alltag vermitteln\, gegenseitiges kennen und verstehen lernen. Teilnahme erfolgt mit dem eigenem Pferd. \nIrene Raab-Hinrichs ist Trainer A klassisch-barock (FN) und bildet Pferde und Reiter in der klassischen Dressur aus. Ziel beim Unterrichten ist die Freude am Umgang mit dem Partner Pferd\, egal ob vom Boden oder unter dem Sattel.\nwww.klassisch-barock-trainer.de \nDieses anschauliche Video wurde von ReiterInfo.de auf Hof Ohana gedreht:  https://www.youtube.com/watch?v=naVn0IDAxck \nDer Lehrgang ist auf 8 Teilnehmer mit Pferd begrenzt.  \nAm Samstag gibt es von ca. 9:00 Uhr bis 17:30 Uhr jeweils vormittags und nachmittags 30 Minuten individuellen Unterricht für jedes Pferd-Reiter-Paar. Auch nur eine Einheit ist möglich.  \nIn der Mittagpause gehen wir alle zusammen italienisch Essen.\n(Nicht im Preis enthalten.) \nZuschauer sind herzlich willkommen.  \nUnsere schöne 23 x 60 m Halle ist gut isoliert. Bringt Euch bitte trotzdem Decken und Kissen mit. Sollte es Euch mal zu kühl werden\, gibt es heißes Wasser und Tee und ein gut geheiztes\, gemütliches Casino. \nAlle Termine von Irene\nwww.hofohana.de/events \nAnmeldeformular und Preise:\nhttps://hofohana.de/download/2021AnmeldungRaab-Hinrichs.pdf \nZuschauer sind herzlich willkommen & zahlen vor Ort: 20\,- € pro Person. \nWir freuen uns auf dich \nDein Team vom Hof Ohana
URL:https://hofohana.de/veranstaltung/handarbeit-oder-reiten-klassisch-barock-mit-irene-raab-hinrichs-6
LOCATION:Hof Ohana – Bildung für Mensch & Pferd\, Alte Landstraße 111 (Großes rotes Tor)\, Bargteheide\, Schleswig-Holstein\, 22941\, Deutschland
CATEGORIES:Dressurreiten
ATTACH;FMTTYPE=image/jpeg:https://hofohana.de/wp-content/uploads/2023/02/14498_image_331417476_1563341114165554_7293163505566379794_n.jpg
END:VEVENT
END:VCALENDAR