BEGIN:VCALENDAR
VERSION:2.0
PRODID:-//Hof Ohana - ECPv6.15.20//NONSGML v1.0//EN
CALSCALE:GREGORIAN
METHOD:PUBLISH
X-WR-CALNAME:Hof Ohana
X-ORIGINAL-URL:https://hofohana.de
X-WR-CALDESC:Veranstaltungen für Hof Ohana
REFRESH-INTERVAL;VALUE=DURATION:PT1H
X-Robots-Tag:noindex
X-PUBLISHED-TTL:PT1H
BEGIN:VTIMEZONE
TZID:Europe/Berlin
BEGIN:DAYLIGHT
TZOFFSETFROM:+0100
TZOFFSETTO:+0200
TZNAME:CEST
DTSTART:20220327T010000
END:DAYLIGHT
BEGIN:STANDARD
TZOFFSETFROM:+0200
TZOFFSETTO:+0100
TZNAME:CET
DTSTART:20221030T010000
END:STANDARD
BEGIN:DAYLIGHT
TZOFFSETFROM:+0100
TZOFFSETTO:+0200
TZNAME:CEST
DTSTART:20230326T010000
END:DAYLIGHT
BEGIN:STANDARD
TZOFFSETFROM:+0200
TZOFFSETTO:+0100
TZNAME:CET
DTSTART:20231029T010000
END:STANDARD
BEGIN:DAYLIGHT
TZOFFSETFROM:+0100
TZOFFSETTO:+0200
TZNAME:CEST
DTSTART:20240331T010000
END:DAYLIGHT
BEGIN:STANDARD
TZOFFSETFROM:+0200
TZOFFSETTO:+0100
TZNAME:CET
DTSTART:20241027T010000
END:STANDARD
END:VTIMEZONE
BEGIN:VEVENT
DTSTART;TZID=Europe/Berlin:20230610T130000
DTEND;TZID=Europe/Berlin:20230610T160000
DTSTAMP:20260425T123205
CREATED:20230525T221715Z
LAST-MODIFIED:20230528T103020Z
UID:15110-1686402000-1686412800@hofohana.de
SUMMARY:Erkennen von Pferdepersönlichkeitstypen zur Optimierung der Ausbildung
DESCRIPTION:Erkennen von Persönlichkeitstypen zur Optimierung der Ausbildung \nLehrinhalt sind vier verschiedene Pferdepersönlichkeitstypen\, wie und woran man sie erkennt und wie man dieses Wissen nutzt\, um die Ausbildung von Pferden zu optimieren. \nDas klingt zugegebenermaßen recht trocken\, aber keine Sorge\, es ist genau das Gegenteil. Denn genau wie im Alltag werden wir auch an diesem Abend viel über die kleinen Un- und Eigenheiten unserer Lieblinge lachen. Jedes Pferd ist einmalig und braucht eine der aktuellen Situation angepasste\, individuelle Umgangsweise. \nohanaAber welcher Typ ist mein Pferd gerade?\nWoran erkenne ich das?\nWie kann ich mein Verhalten dem Typ anpassen\, um meinem Pferd zu helfen? \nNach diesem Tag wisst ihr mehr. Die Veranstaltung ist auf 15 Teilnehmer begrenzt\, denn ihr habt die Gelegenheit das gelernte Wissen gleich anzuwenden\, um den Charaktertyp Eures Pferdes zu bestimmen. Besonders wertvoll ist dieses Wissen auch\, wenn man sich ein Pferd kaufen möchte\, denn nicht jeder Pferdetyp passt zu jedem Menschentyp. \nAblauf:\nIm ersten Teil stellt Euch Heike mit einem Powerpoint-Vortrag vier verschiedene Basis-Charaktertypen und ihre Mischformen vor. \nWas bedeutet was?\nAnhand von Fotos und kleinen Videos lernt ihr euer Auge für körperliche Merkmale wie Spiel der Ohren\, Stellung der Beine\, Reaktion der Nüstern\, Blinzeln/Starren\, Gähnen\, Anspannung/Entspannung\, Halshaltung u.v.m. zu schulen. \nWill es nicht oder kann es nicht?\nDas ist zum Beispiel die entscheidene Frage beim Verladen in einen Pferdeanhänger. Ein Pferd lesen zu können\, macht gerade Verladen wesentlich stressfreier für Mensch und Pferd. \nJedes Pferd ist einmalig und hat seine typische\, charakteristische Grundeigenschaften. Trotzdem kann es – wie bestimmt jeder schon erlebt hat – durch äußere Umstände in Sekunden in einen komplett anderen Typ wechseln. Wir betrachten beim Lernen stets einen aktuellen Moment. \nNach einer kleinen Pause wird Heike Euch helfen\, den Grund-Charaktertyp Eurer Pferde zu bestimmen. Dabei erklärt sie auch den Zusammenhang zwischen einem bestimmten Verhalten und der entsprechenden Charaktereigenschaft. \nIhr erhaltet Tipps zum Thema „To do and not to do“ für die verschiedenen Persönlichkeitstypen. Damit könnt ihr eurem Pferd helfen\, gelassener und mental ausgeglichener zu werden. Ziel ist eine harmonische oder noch harmonischere Beziehung zu Eurem Pferd zu entwickeln. \nZur Person:\nHeike von Heymann hat mit Ihrer Tochter Mona vier Pferde mit drei verschiedenen Charakter-Typen. Sie beschäftigt sich seit Jahren intensiv mit diesem Thema „Parelli Horsenalities“\, studiert Parelli Natural Horsemanship im Level 3-4 und ist begeisterte Dressur- und Buschreiterin. Seit vielen Jahren ist sie freiberuflich als Trainerin für Natural Horsemanship tätig. Eine Bestimmung der Pferdepersönlichkeit ist stets die Grundlage ihrer Arbeit und es macht ihr große Freunde\, wenn Pferd und Mensch durch dieses Wissen gelassener und selbstbewußter werden. \nWir freuen uns auf interessante Stunden mit vielen spannenden Persönlichkeiten. \nLiebe Grüße \nHeike von Heymann und das Hof Ohana Team \nAnfahrt:\nHof Ohana – Bildung für Mensch & Pferd\nAlte Landstraße 111\n22941 Bargteheide \nPreise:\n25\,- € Vorkasse\n33\,- € Tageskasse \nAnmeldeformular:\nhttp://hofohana.apps-1and1.net/download/2023AnmeldenOhnePferd.pdf \nOnline Anmeldung:\nhttp://hofohana.apps-1and1.net/Anmeldeformular \nRückfragen an heike@vonheymann.net oder 0170-8990555
URL:https://hofohana.de/veranstaltung/erkennen-von-pferdepersoenlichkeitstypen-zur-optimierung-der-ausbildung-4
LOCATION:Hof Ohana – Bildung für Mensch & Pferd\, Alte Landstraße 111 (Großes rotes Tor)\, Bargteheide\, Schleswig-Holstein\, 22941\, Deutschland
CATEGORIES:Horsemanship,Theorie
ATTACH;FMTTYPE=image/jpeg:https://hofohana.de/wp-content/uploads/2023/05/15110_image_349604062_244599208218656_7314398422106329136_n.jpg
ORGANIZER;CN="Hof Ohana - Bildung f%C3%BCr Mensch & Pferd":MAILTO:team@hofohana.apps-1and1.net
END:VEVENT
END:VCALENDAR