BEGIN:VCALENDAR
VERSION:2.0
PRODID:-//Hof Ohana - ECPv6.15.20//NONSGML v1.0//EN
CALSCALE:GREGORIAN
METHOD:PUBLISH
X-WR-CALNAME:Hof Ohana
X-ORIGINAL-URL:https://hofohana.de
X-WR-CALDESC:Veranstaltungen für Hof Ohana
REFRESH-INTERVAL;VALUE=DURATION:PT1H
X-Robots-Tag:noindex
X-PUBLISHED-TTL:PT1H
BEGIN:VTIMEZONE
TZID:Europe/Berlin
BEGIN:DAYLIGHT
TZOFFSETFROM:+0100
TZOFFSETTO:+0200
TZNAME:CEST
DTSTART:20200329T010000
END:DAYLIGHT
BEGIN:STANDARD
TZOFFSETFROM:+0200
TZOFFSETTO:+0100
TZNAME:CET
DTSTART:20201025T010000
END:STANDARD
BEGIN:DAYLIGHT
TZOFFSETFROM:+0100
TZOFFSETTO:+0200
TZNAME:CEST
DTSTART:20210328T010000
END:DAYLIGHT
BEGIN:STANDARD
TZOFFSETFROM:+0200
TZOFFSETTO:+0100
TZNAME:CET
DTSTART:20211031T010000
END:STANDARD
BEGIN:DAYLIGHT
TZOFFSETFROM:+0100
TZOFFSETTO:+0200
TZNAME:CEST
DTSTART:20220327T010000
END:DAYLIGHT
BEGIN:STANDARD
TZOFFSETFROM:+0200
TZOFFSETTO:+0100
TZNAME:CET
DTSTART:20221030T010000
END:STANDARD
END:VTIMEZONE
BEGIN:VEVENT
DTSTART;TZID=Europe/Berlin:20210725T090000
DTEND;TZID=Europe/Berlin:20210725T170000
DTSTAMP:20260419T173559
CREATED:20210704T220857Z
LAST-MODIFIED:20210705T133845Z
UID:11525-1627203600-1627232400@hofohana.de
SUMMARY:Einzelunterricht: Grundausbildung & Förderung auf Basis der H.Dv.12
DESCRIPTION:Einzelunterricht mit Lotta Katrina Hinz \nIn der Pferdeausbildung bemühen wir uns um eine pferdegerechte Ausbildung und Gymnastizierung nach klassischen Hintergründen und beziehen uns dabei auf die Richtlinien der H.Dv.12 (Heeres-Dienstvorschrift für die Grundausbildung der Pferde und Reiter des Militärs von 1912). Diese bilden den Ursprung unserer heutigen Richtlinien der FN und beinhalten eine Zusammenfassung der alten Reitmeister\, die uns diese wunderbare Reitlehre (die H.Dv.12) mit ihrer vertiefenden Sekundärliteratur (besonders geprägt von Gustav v. Steinbrechts Gymnasium des Pferdes) hinterlassen haben. \nAktive Teilnehmer:\nMin. 8 bis max. 10 Reiter \nDauer einer Einheit:\nMin. 45 bis max. 60 Minuten\nDas Ziel ist ein für Pferd und Reiter gutes Ende. Über die individuelle Dauer der Einheit entscheidet Frau Hinz.  \nPreis:\n50\,- Euro Unterricht an Lotta Katrina Hinz\n15\,- Euro Organisation & Inkasso\n10\,- Euro Anlagennutzung für Externe \n#hofohana  #hdv12  #dressur  #pferde  #unterricht
URL:https://hofohana.de/veranstaltung/einzelunterricht-grundausbildung-foerderung-auf-basis-der-h-dv-12
LOCATION:Hof Ohana – Bildung für Mensch & Pferd\, Alte Landstraße 111 (Großes rotes Tor)\, Bargteheide\, Schleswig-Holstein\, 22941\, Deutschland
CATEGORIES:Dressurreiten
END:VEVENT
END:VCALENDAR