BEGIN:VCALENDAR
VERSION:2.0
PRODID:-//Hof Ohana - ECPv6.15.20//NONSGML v1.0//EN
CALSCALE:GREGORIAN
METHOD:PUBLISH
X-WR-CALNAME:Hof Ohana
X-ORIGINAL-URL:https://hofohana.de
X-WR-CALDESC:Veranstaltungen für Hof Ohana
REFRESH-INTERVAL;VALUE=DURATION:PT1H
X-Robots-Tag:noindex
X-PUBLISHED-TTL:PT1H
BEGIN:VTIMEZONE
TZID:Europe/Berlin
BEGIN:DAYLIGHT
TZOFFSETFROM:+0100
TZOFFSETTO:+0200
TZNAME:CEST
DTSTART:20230326T010000
END:DAYLIGHT
BEGIN:STANDARD
TZOFFSETFROM:+0200
TZOFFSETTO:+0100
TZNAME:CET
DTSTART:20231029T010000
END:STANDARD
BEGIN:DAYLIGHT
TZOFFSETFROM:+0100
TZOFFSETTO:+0200
TZNAME:CEST
DTSTART:20240331T010000
END:DAYLIGHT
BEGIN:STANDARD
TZOFFSETFROM:+0200
TZOFFSETTO:+0100
TZNAME:CET
DTSTART:20241027T010000
END:STANDARD
BEGIN:DAYLIGHT
TZOFFSETFROM:+0100
TZOFFSETTO:+0200
TZNAME:CEST
DTSTART:20250330T010000
END:DAYLIGHT
BEGIN:STANDARD
TZOFFSETFROM:+0200
TZOFFSETTO:+0100
TZNAME:CET
DTSTART:20251026T010000
END:STANDARD
END:VTIMEZONE
BEGIN:VEVENT
DTSTART;TZID=Europe/Berlin:20240704T180000
DTEND;TZID=Europe/Berlin:20240704T200000
DTSTAMP:20260420T034328
CREATED:20240611T142856Z
LAST-MODIFIED:20240623T181944Z
UID:15963-1720116000-1720123200@hofohana.de
SUMMARY:Einführung in das Parelli Natural Horsemanship-System
DESCRIPTION:Einführung in das Parelli Natural Horsemanship-System \nAm 6. und 7. September 2024 kommt Pat Parelli persönlich auf den Hof Ohana und unterrichtet jeweils 10 Teilnehmer vor circa 100 Zuschauern. Das ist für alle Freunde einer harmonischen Zusammenarbeit mit Pferden ein ganz besonderer Tag.  \nWir vom Hof Ohana bieten euch mit hiermit die Gelegenheit\, an diesem Abend etwas über die Grundlagen dieses weltweit erfolgreichen Ausbildungssystems zu erfahren.  Die Zielgruppe dieser Veranstaltung sind Pferdefreunde\, die ganz allgemein etwas über Horsemanship erfahren möchten. Und natürlich alle\, die sich als Zuschauer für „Erlebe Pat Parelli live“ am 6. und 7. September 2024 angemeldet haben ohne sich bereits viel mit diesem Thema beschäftigt zu haben. \nAblauf:\nIm ersten Teil stellt euch Heike vom Hof Ohana Team mit einem PowerPoint-Vortrag die Grundlagen vor. \nWas ist Horsemanship? \nUnd was ist denn Natural Horsemanship? \nWas sind die sieben Spiele? \nWas sind die Phasen der Bestimmtheit? \nWill es nicht\, kann es nicht oder versteht es mich nicht? \nWas lernt man ungefähr in Level 1 bis 4? \nWas sind Horsenalities und was kann ich damit anfangen? \nIm zweiten Teil demonstrieren wir die sieben Spiele am Pferd und stehen gerne für Fragen zur Verfügung. \nZur Person:\nHeike von Heymann lebt ihrer Familie\, einigen Freunden und Mitarbeitern auf Hof Ohana in Bargteheide. Ihre Tochter Mona ist die Betriebsleiterin. Zusammen haben sie vier Pferde mit drei verschiedenen Charakter-Typen. Heike studiert Parelli Natural Horsemanship im Level 3-4 und ist begeisterte Dressur- und Buschreiterin. Seit vielen Jahren ist sie freiberuflich als Trainerin für Natural Horsemanship tätig und unterrichtet die Deutsche Reitlehre. \nWir freuen uns auf interessante Stunden mit Euch. \nLiebe Grüße \nHeike von Heymann und das Hof Ohana Team\n———————-\nAnfahrt:\nHof Ohana – Bildung für Mensch & Pferd\nAlte Landstraße 111\n22941 Bargteheide \nPreise:\n20\,- € inklusiv 19% MwSt. \nBitte meldet online an. Es gibt keine Abendkasse. \nAnmeldeformular \n \nRückfragen an team@hofohana.de oder 0170-8990555 \nBis bald \nEuer Hof Ohana Team
URL:https://hofohana.de/veranstaltung/einfuehrung-in-das-parelli-natural-horsemanship-system-2
LOCATION:Hof Ohana
CATEGORIES:Theorie
ATTACH;FMTTYPE=image/jpeg:https://hofohana.de/wp-content/uploads/2024/06/15963_image_448278605_990620743043550_3804600856619893918_n.jpg
END:VEVENT
END:VCALENDAR