BEGIN:VCALENDAR
VERSION:2.0
PRODID:-//Hof Ohana - ECPv6.15.20//NONSGML v1.0//EN
CALSCALE:GREGORIAN
METHOD:PUBLISH
X-WR-CALNAME:Hof Ohana
X-ORIGINAL-URL:https://hofohana.de
X-WR-CALDESC:Veranstaltungen für Hof Ohana
REFRESH-INTERVAL;VALUE=DURATION:PT1H
X-Robots-Tag:noindex
X-PUBLISHED-TTL:PT1H
BEGIN:VTIMEZONE
TZID:Europe/Berlin
BEGIN:DAYLIGHT
TZOFFSETFROM:+0100
TZOFFSETTO:+0200
TZNAME:CEST
DTSTART:20230326T010000
END:DAYLIGHT
BEGIN:STANDARD
TZOFFSETFROM:+0200
TZOFFSETTO:+0100
TZNAME:CET
DTSTART:20231029T010000
END:STANDARD
BEGIN:DAYLIGHT
TZOFFSETFROM:+0100
TZOFFSETTO:+0200
TZNAME:CEST
DTSTART:20240331T010000
END:DAYLIGHT
BEGIN:STANDARD
TZOFFSETFROM:+0200
TZOFFSETTO:+0100
TZNAME:CET
DTSTART:20241027T010000
END:STANDARD
BEGIN:DAYLIGHT
TZOFFSETFROM:+0100
TZOFFSETTO:+0200
TZNAME:CEST
DTSTART:20250330T010000
END:DAYLIGHT
BEGIN:STANDARD
TZOFFSETFROM:+0200
TZOFFSETTO:+0100
TZNAME:CET
DTSTART:20251026T010000
END:STANDARD
END:VTIMEZONE
BEGIN:VEVENT
DTSTART;TZID=Europe/Berlin:20240405T180000
DTEND;TZID=Europe/Berlin:20240405T180000
DTSTAMP:20260420T053227
CREATED:20231228T222059Z
LAST-MODIFIED:20240221T144013Z
UID:15481-1712340000-1712340000@hofohana.de
SUMMARY:Dressur-Wochenende mit Wolfgang Egbers
DESCRIPTION:Wir freuen uns mit Wolfgang Egbers ab 2024 einen weiteren Top-Trainer für unser Trainingsangebot auf Hof Ohana gewonnen zu haben. Wolfgang wird an mehreren Wochenenden erst einen Theorie-Abend und dann zwei Tage Intensivtraining für Dressurreiter von E bis Grand Prix anbieten. Traut Euch zu uns. Wir freuen uns über jede Pferderasse und jeden Reiter. Ob Turnier- oder Freizeitreiter. Es geht darum dazu zu lernen und nicht darum zu zeigen\, was man hat oder kann. \nWolfgang Egbers überzeugt mit seiner Fachkompetenz als Ausbilder und ist außerdem Richter bis zur Klasse S\, Vorstandsmitglied der FN Abteilung Sport\, Vorstandsmitglied des DOKRs für den Bereich Ausbildung und Wissenschaft und 2. Stellvertretender Präsident sowie Vorsitzender der Fachgruppe Dressur beim Deutschen Reiter- und Fahrerverband (DRFV e.V.). Neben all diesen Qualifikationen ist er außerdem ein total netter Kerl. 😉 \nwww.vechtehof-egbers.de \nWolfgang reist aus dem 312 km entfernten Vechtehof an und übernachtet zwei Tage in Bargteheide. Diese Kosten sind im Preis enthalten. \nAlle Preise (inklusive 19% MwSt.) \n1) 2 Stunden Theorie-Abend auf Hof Ohana\n    20 \,- € für Reiter von Wolfgang Egbers\n    30 \,- € für Zuschauer bei Wolfgang Egbers\n    inklusive Seminarraumnutzung & Organisation durch Hof Ohana \n2) 30 Minuten pro Tag\n    70 \,- € für Wolfgang Egbers\n    zzgl. 15\,- € Anlagennutzung & Organisation Hof Ohana \n3)  45 Minuten pro Tag\n     100\,- € für Wolfgang Egbers\n     zzgl. 15\,- € Anlagennutzung & Organisation Hof Ohana \n4)  60 Minuten pro Tag\n     130\,- € für Wolfgang Egbers\n     zzgl. 15\,- € Anlagennutzung & Organisation Hof Ohana \n5)  Auf Wunsch als Gastbox eine 4x5m Fensterbox\n     a) zzgl. 30- € – pro Tag inkl. Heu/Stroh/Misten\n     b) zzgl. 20\,-€ – tagsüber inkl. Heu/Stroh/Misten\n     c) Spänebox oder Gastbox von Fr. bis So./Mo. auf Anfrage.\n     (Gastboxen sind begrenzt.) \n6)  Zuschauer 15\,-€ pro Tag \nAnmeldung/Fragen: \nteam@hofohana.de   oder  mobil  015158507711 \nAnmeldeformular \n\nGerne könnt ihr auch unser Formular online ausfüllen und wir melden uns.  \nhttps://hofohana.de/download/2023AllgAnmeldgMitPferd.jpg \nBis bald auf Hof Ohana  🙂
URL:https://hofohana.de/veranstaltung/dressur-wochenende-mit-wolfgang-egbers-2
LOCATION:Hof Ohana
CATEGORIES:Dressurreiten
ATTACH;FMTTYPE=image/jpeg:https://hofohana.de/wp-content/uploads/2023/12/15481_image_414756093_873959204709705_1882335115613456361_n.jpg
END:VEVENT
END:VCALENDAR