BEGIN:VCALENDAR
VERSION:2.0
PRODID:-//Hof Ohana - ECPv6.15.20//NONSGML v1.0//EN
CALSCALE:GREGORIAN
METHOD:PUBLISH
X-WR-CALNAME:Hof Ohana
X-ORIGINAL-URL:https://hofohana.de
X-WR-CALDESC:Veranstaltungen für Hof Ohana
REFRESH-INTERVAL;VALUE=DURATION:PT1H
X-Robots-Tag:noindex
X-PUBLISHED-TTL:PT1H
BEGIN:VTIMEZONE
TZID:Europe/Berlin
BEGIN:DAYLIGHT
TZOFFSETFROM:+0100
TZOFFSETTO:+0200
TZNAME:CEST
DTSTART:20200329T010000
END:DAYLIGHT
BEGIN:STANDARD
TZOFFSETFROM:+0200
TZOFFSETTO:+0100
TZNAME:CET
DTSTART:20201025T010000
END:STANDARD
BEGIN:DAYLIGHT
TZOFFSETFROM:+0100
TZOFFSETTO:+0200
TZNAME:CEST
DTSTART:20210328T010000
END:DAYLIGHT
BEGIN:STANDARD
TZOFFSETFROM:+0200
TZOFFSETTO:+0100
TZNAME:CET
DTSTART:20211031T010000
END:STANDARD
BEGIN:DAYLIGHT
TZOFFSETFROM:+0100
TZOFFSETTO:+0200
TZNAME:CEST
DTSTART:20220327T010000
END:DAYLIGHT
BEGIN:STANDARD
TZOFFSETFROM:+0200
TZOFFSETTO:+0100
TZNAME:CET
DTSTART:20221030T010000
END:STANDARD
END:VTIMEZONE
BEGIN:VEVENT
DTSTART;TZID=Europe/Berlin:20210116T180000
DTEND;TZID=Europe/Berlin:20210117T180000
DTSTAMP:20260419T173149
CREATED:20200103T142114Z
LAST-MODIFIED:20200630T173442Z
UID:8706-1610820000-1610906400@hofohana.de
SUMMARY:2021 Zirkuslektionen clickern mit Babette Teschen
DESCRIPTION:KURS NACH 2021 VERSCHOBEN! Im Januar 2021 wird es endlich einen Clicker-Kurs für Zirkuslektionen mit der beliebten Trainerin Babette Teschen („Wege zum Pferd“) geben. 2020 waren wir zu spontan\, uns fehlten zwei Aktive und wir mussten auf den nächsten freien Termin verschieben. Passiert uns ja zum Glück selten…  \nBeim Clickern geht es insbesondere um die Technik des Clickerns\, um mit seinem Pferd zum Beispiel Zirkuslektionen wir Kompliment\, Spanischer Schritt\, Spanischer Gruß\, Ablegen u.v.m. zu erarbeiten. \nDer Kurs findet an einem Freitag Abend und dem darauf folgenden Samstag statt. \nAm Freitag gibt es erst etwas Theorie im gemütlichen  Seminarraum und nach einer kurzen Pause gibt es eine Live-Demo in der Reithalle. Dabei wird sie mit einem jungen Pferd arbeiten\, dass Clickern bislang noch nicht kennt. \nAm Samstag könnt ihr das Gelernte mit euren eigenen oder einem unserer Schulpferde in der Praxis anwenden. \nAn beiden Tagen sind Zuschauer herzlich willkommen. \nAlle Preise und Leistungen findet ihr auf unserem Anmeldeformular: \nDas Anmeldeformular findet ihr unter folgendem Link: \nhttps://hofohana.de/wp-content/uploads/2020/01/202001-Babette-Teschen-Clicker-Training.jpg \nKursinhalte:\nBeim Clickertraining handelt es sich um ein Markertraining auf den Grundlagen der positiven Verstärkung. Ihr Pferd wird auf einen Marker konditioniert (Clicker\, alternativ Zungenclick oder einem Markerwort). Mit Hilfe dieses erlernten Markers ist es möglich\, gewünschtes Verhalten Ihres Pferdes punktgenau positiv zu verstärken und ihm somit zu vermitteln\, dass er in exakt dem Moment etwas Richtiges getan hat. Das Clickertraining ist eine wundervolle Kommunikationsform\, welche zu motivierten\, begeisterten Pferden auf freiwilliger Basis führt. \nKursinhalt: – Konditionierung auf den Clicker – Höflichkeit und Futtererziehung – Schulung des korrekten Timings – Targetarbeit – Spaß und Spiel – Anti-Scheu-Training – gymnastizierende Bodenübungen \nDa es sich um Einzelunterricht handelt\, können die Wünsche der Kursteilnehmer größten Teils berücksichtigt werden. So können auch Themen wie z.B. Longieren oder Reiten mit dem Clicker behandelt werden. \nAblauf: für jeden Aktiven Teilnehmer gibt es mehrere kurze Einheiten. Es werden immer 2 aktive Teilnehmer in der Halle sein\, und die werden in der Einheit abwechselnd „clickern“. \nWir freuen uns auf Euch \nEuer Hof Ohana Team
URL:https://hofohana.de/veranstaltung/clicker-training-mit-babette-teschen
LOCATION:Hof Ohana – Bildung für Mensch & Pferd\, Alte Landstraße 111 (Großes rotes Tor)\, Bargteheide\, Schleswig-Holstein\, 22941\, Deutschland
CATEGORIES:Bodenarbeit
END:VEVENT
END:VCALENDAR