BEGIN:VCALENDAR
VERSION:2.0
PRODID:-//Hof Ohana - ECPv6.15.20//NONSGML v1.0//EN
CALSCALE:GREGORIAN
METHOD:PUBLISH
X-WR-CALNAME:Hof Ohana
X-ORIGINAL-URL:https://hofohana.de
X-WR-CALDESC:Veranstaltungen für Hof Ohana
REFRESH-INTERVAL;VALUE=DURATION:PT1H
X-Robots-Tag:noindex
X-PUBLISHED-TTL:PT1H
BEGIN:VTIMEZONE
TZID:Europe/Berlin
BEGIN:DAYLIGHT
TZOFFSETFROM:+0100
TZOFFSETTO:+0200
TZNAME:CEST
DTSTART:20220327T010000
END:DAYLIGHT
BEGIN:STANDARD
TZOFFSETFROM:+0200
TZOFFSETTO:+0100
TZNAME:CET
DTSTART:20221030T010000
END:STANDARD
BEGIN:DAYLIGHT
TZOFFSETFROM:+0100
TZOFFSETTO:+0200
TZNAME:CEST
DTSTART:20230326T010000
END:DAYLIGHT
BEGIN:STANDARD
TZOFFSETFROM:+0200
TZOFFSETTO:+0100
TZNAME:CET
DTSTART:20231029T010000
END:STANDARD
BEGIN:DAYLIGHT
TZOFFSETFROM:+0100
TZOFFSETTO:+0200
TZNAME:CEST
DTSTART:20240331T010000
END:DAYLIGHT
BEGIN:STANDARD
TZOFFSETFROM:+0200
TZOFFSETTO:+0100
TZNAME:CET
DTSTART:20241027T010000
END:STANDARD
END:VTIMEZONE
BEGIN:VEVENT
DTSTART;TZID=Europe/Berlin:20230611T140000
DTEND;TZID=Europe/Berlin:20230611T160000
DTSTAMP:20260419T231454
CREATED:20230524T120540Z
LAST-MODIFIED:20230626T225809Z
UID:15088-1686492000-1686499200@hofohana.de
SUMMARY:Cavaletti-Training mit Mona von Heymann
DESCRIPTION:Liebe Einsteller und Gastreiter\, \nan diesem Tag unterrichtet Mona von Heymann (Pferdewirtin und Betriebsleiterin vom Hof Ohana) Stangen- und Cavaletti-Arbeit als Individualunterricht (->einzeln). \nFreut euch auf „Dressur mit ein paar Bodenstangen“. Alles geht ganz locker und ohne Druck zu. So eignet sich dieses Training auch für unerfahrende Reiter\, unerfahrene Pferde oder ganz einfach als Abwechslung zum Beispiel gegen den Winterblues. \nDer Unterricht findet in der gut isolierten 23×60 m Halle statt. Hier friert es nie und auch im Hochsommer sind es nie mehr als 24 Grad. Es gibt es Stangen\, Cavalettis oder wahlweise auch auf E bis A Niveau stehende Gymnastikreihen. Auch ein kleiner Parkour ist für Fortgeschrittene möglich . Die Stunden sind bei unseren Einstellern sehr beliebt\, aber auch Gastreiter sind herzlich willkommen. \nPreise für circa 30 Minuten\n15\,- € pro Reiter\nzzgl. 5\,- € Parkour-Nutzung\nzzgl. 5\,- € Anlagen-Nutzung \nIhr könnt 15 Minuten vor euer Einheit zum Warmreiten in die Halle kommen und mit entsprechender Rücksicht hinterher trocken reiten. Auf Wunsch könnt ihr auch das Solarium oder die Führanlage nutzen. \nFür Fragen und Anmeldungen ruft bitte Mona unter 0151 58507711 an (10:00-19:00 Uhr) oder schickt eine Nachricht z.B. per SMS. \nWir freuen uns auf auf Euch und eure Pferde.
URL:https://hofohana.de/veranstaltung/cavaletti-training-mit-mona-von-heymann-14
LOCATION:Hof Ohana
CATEGORIES:Springreiten
ATTACH;FMTTYPE=image/jpeg:https://hofohana.de/wp-content/uploads/2023/05/15088_image_348964995_776049274122246_3785958004784077495_n.jpg
ORGANIZER;CN="Hof Ohana - Bildung f%C3%BCr Mensch & Pferd":MAILTO:team@hofohana.de
END:VEVENT
END:VCALENDAR