BEGIN:VCALENDAR
VERSION:2.0
PRODID:-//Hof Ohana - ECPv6.15.20//NONSGML v1.0//EN
CALSCALE:GREGORIAN
METHOD:PUBLISH
X-WR-CALNAME:Hof Ohana
X-ORIGINAL-URL:https://hofohana.de
X-WR-CALDESC:Veranstaltungen für Hof Ohana
REFRESH-INTERVAL;VALUE=DURATION:PT1H
X-Robots-Tag:noindex
X-PUBLISHED-TTL:PT1H
BEGIN:VTIMEZONE
TZID:Europe/Berlin
BEGIN:DAYLIGHT
TZOFFSETFROM:+0100
TZOFFSETTO:+0200
TZNAME:CEST
DTSTART:20250330T010000
END:DAYLIGHT
BEGIN:STANDARD
TZOFFSETFROM:+0200
TZOFFSETTO:+0100
TZNAME:CET
DTSTART:20251026T010000
END:STANDARD
BEGIN:DAYLIGHT
TZOFFSETFROM:+0100
TZOFFSETTO:+0200
TZNAME:CEST
DTSTART:20260329T010000
END:DAYLIGHT
BEGIN:STANDARD
TZOFFSETFROM:+0200
TZOFFSETTO:+0100
TZNAME:CET
DTSTART:20261025T010000
END:STANDARD
BEGIN:DAYLIGHT
TZOFFSETFROM:+0100
TZOFFSETTO:+0200
TZNAME:CEST
DTSTART:20270328T010000
END:DAYLIGHT
BEGIN:STANDARD
TZOFFSETFROM:+0200
TZOFFSETTO:+0100
TZNAME:CET
DTSTART:20271031T010000
END:STANDARD
END:VTIMEZONE
BEGIN:VEVENT
DTSTART;TZID=Europe/Berlin:20260425T090000
DTEND;TZID=Europe/Berlin:20260426T180000
DTSTAMP:20260421T151532
CREATED:20251029T162211Z
LAST-MODIFIED:20251029T162211Z
UID:16823-1777107600-1777226400@hofohana.de
SUMMARY:Anne Schmatelka | Reite dein Pferd gesund!
DESCRIPTION:Du möchtet Dein Pferd gesund erhalten? Das lernst Du in diesem Wochenendlehrgang von Anne Schmatelka im Norden Hamburgs. \nDu hast viele Fragen zu richtig und falsch zur Ausbildung Deines Pferdes? Das diskutieren wir während unseres Theorieabend – auch für Teilnehmer\, die nicht mitreiten können oder möchten.\nDazu gehört es zu erkennen\, was die richtigen Lektionen für das jeweilige Pferd sind\, welche Übungen zum Muskelaufbau helfen und wie man sie einbindet. \nMax. 9 Reiter-Pferde-Paare haben die Möglichkeit an zwei Tagen jeweils ca. 50 Minuten mit Anne zu trainieren. In diesen Unterrichtseinheiten stimmen wir die Inhalte auf den Ausbildungsstand von Reiter und Pferd ab. Eure Ausbildungsziele und Wünsche spielen in diese Ausrichtung mit hinein. \nAm Samstag Abend haben wir einen 3-stündigen Theorieteil geplant. Die Teilnehmer des Lehrgangs haben die Möglichkeit ihre inhaltlichen Wünsche und Fragen für die Theorie vorab per Mail an Anne zu schicken. Mit diesen Informationen wird Anne alle Wunschthemen in den Theorieabend einbinden. \nNatürlich freuen wir uns auch über Zuschauer an beiden Tagen. Jeder – auch wer nicht am Reiten teilnehmen kann oder möchte – kann sich für den Theorieabend anmelden. \n—————————–\nÜber Anne Schmatelka\nAnne ist Pferdesachbuchautorin und Dressurausbilderin. Sie beschäftigt sich mit klassischer Reitkunst und der Gesunderhaltung von Pferden. Unter anderem damit\, wie man sein Pferd trotz Kissing Spine schmerzfrei und reitbar halten kann. Sie hat mehrere Bücher und Artikel in nationalen und internationalen Pferdefachmagazinen veröffentlicht. Ihr wichtigster Lehrer ist Paul Stecken.\nAnne istvielen durch ihre immer lehrreichen und oft kritischen Internet-Beiträge zum Thema „Pferde gesund reiten“ bekannt. Sie enden stets mit der Aufforderung: Gebt euren Pferden ein Möhre von mir. \n—————————–\nÜber Hof Ohana\nSeit über 10 Jahren bietet das Team vom Hof Ohana hochklassige Bildungsangebote für Mensch & Pferd unter optimalen Trainingsbedingungen an. Sie freuen sich über Reiter in jedem Ausbildungsstand und Pferde jeder Rasse. \n—————————–\nPREISE\nAnne reist mit dem Flugzeug aus der Schweiz an und übernachtet auf Hof Ohana. Diese Kosten sind im Preis enthalten. \nDer Kurs beinhaltet zwei Trainingseinheiten a ca. 50 Minuten inklusiv einem Theorie-Teil am Samstag Abend. Der Gesamtpreis setzt sich aus einem Teil für Anne Schmatelka und einem Teil für den Hof Ohana zusammen. \nDie Kosten für 2xUnterricht und Theorieabend zahlt ihr direkt an Anne in die Schweiz. \n270\,- CH (Das waren am 29.10.25 290 Euro.) \nREITER\nDie Kosten der Reiter für Organisation\, Anlagennutzung\, Kaffee und Snacks zahlt ihr an den Hof Ohana. \n50\,- Euro inklusive 19 % MwSt. \nAuf Wunsch als Gastbox eine 4x5m Fensterbox \n a) zzgl. 30- € – pro Tag inkl. Heu/Stroh/Misten \n b) zzgl. 20\,- € – tagsüber inkl. Heu/Stroh/Misten \n c) Spänebox oder Gastbox von Fr. bis So. auf Anfrage.  \n (Gastboxen sind begrenzt.) \nZUSCHAUER\nGäste ohne Pferd zahlen ihre Gebühr inkl. 19 % MwSt. an den Hof Ohana.\n60\,- Euro Theorieabend 3 Stunden Sa. 26.04. 18:00 – 21:00 Uhr\n40\,- Euro Zuschauer Unterricht pro Tag\n120\,- Euro Zuschauer Sa/So sowie Theorieabend \nFragen: team@hofohana.de odermobil015158507711 \nZur Anmeldung füllt bitte unser Online-Formular aus.\nWir melden uns dann schnellst möglich bei euch. \nhttps://digistable.app/events/anmeldeformular.php?eid=79&start=25.04.2026&ende=26.04.2026 \nWir freuen auf Euch und Eure Pferde. \nAnne Schmatelka und das Hof OhanaTeam
URL:https://hofohana.de/veranstaltung/anne-schmatelka-reite-dein-pferd-gesund
LOCATION:Hof Ohana
CATEGORIES:Dressurreiten
ATTACH;FMTTYPE=image/jpeg:https://hofohana.de/wp-content/uploads/2025/10/16823_image_572995022_1404317695007184_4095914249730115113_n.jpg
END:VEVENT
END:VCALENDAR