BEGIN:VCALENDAR
VERSION:2.0
PRODID:-//Hof Ohana - ECPv6.15.20//NONSGML v1.0//EN
CALSCALE:GREGORIAN
METHOD:PUBLISH
X-ORIGINAL-URL:https://hofohana.de
X-WR-CALDESC:Veranstaltungen für Hof Ohana
REFRESH-INTERVAL;VALUE=DURATION:PT1H
X-Robots-Tag:noindex
X-PUBLISHED-TTL:PT1H
BEGIN:VTIMEZONE
TZID:Europe/Berlin
BEGIN:DAYLIGHT
TZOFFSETFROM:+0100
TZOFFSETTO:+0200
TZNAME:CEST
DTSTART:20170326T010000
END:DAYLIGHT
BEGIN:STANDARD
TZOFFSETFROM:+0200
TZOFFSETTO:+0100
TZNAME:CET
DTSTART:20171029T010000
END:STANDARD
BEGIN:DAYLIGHT
TZOFFSETFROM:+0100
TZOFFSETTO:+0200
TZNAME:CEST
DTSTART:20180325T010000
END:DAYLIGHT
BEGIN:STANDARD
TZOFFSETFROM:+0200
TZOFFSETTO:+0100
TZNAME:CET
DTSTART:20181028T010000
END:STANDARD
BEGIN:DAYLIGHT
TZOFFSETFROM:+0100
TZOFFSETTO:+0200
TZNAME:CEST
DTSTART:20190331T010000
END:DAYLIGHT
BEGIN:STANDARD
TZOFFSETFROM:+0200
TZOFFSETTO:+0100
TZNAME:CET
DTSTART:20191027T010000
END:STANDARD
BEGIN:DAYLIGHT
TZOFFSETFROM:+0100
TZOFFSETTO:+0200
TZNAME:CEST
DTSTART:20200329T010000
END:DAYLIGHT
BEGIN:STANDARD
TZOFFSETFROM:+0200
TZOFFSETTO:+0100
TZNAME:CET
DTSTART:20201025T010000
END:STANDARD
BEGIN:DAYLIGHT
TZOFFSETFROM:+0100
TZOFFSETTO:+0200
TZNAME:CEST
DTSTART:20210328T010000
END:DAYLIGHT
BEGIN:STANDARD
TZOFFSETFROM:+0200
TZOFFSETTO:+0100
TZNAME:CET
DTSTART:20211031T010000
END:STANDARD
BEGIN:DAYLIGHT
TZOFFSETFROM:+0100
TZOFFSETTO:+0200
TZNAME:CEST
DTSTART:20220327T010000
END:DAYLIGHT
BEGIN:STANDARD
TZOFFSETFROM:+0200
TZOFFSETTO:+0100
TZNAME:CET
DTSTART:20221030T010000
END:STANDARD
BEGIN:DAYLIGHT
TZOFFSETFROM:+0100
TZOFFSETTO:+0200
TZNAME:CEST
DTSTART:20230326T010000
END:DAYLIGHT
BEGIN:STANDARD
TZOFFSETFROM:+0200
TZOFFSETTO:+0100
TZNAME:CET
DTSTART:20231029T010000
END:STANDARD
BEGIN:DAYLIGHT
TZOFFSETFROM:+0100
TZOFFSETTO:+0200
TZNAME:CEST
DTSTART:20240331T010000
END:DAYLIGHT
BEGIN:STANDARD
TZOFFSETFROM:+0200
TZOFFSETTO:+0100
TZNAME:CET
DTSTART:20241027T010000
END:STANDARD
BEGIN:DAYLIGHT
TZOFFSETFROM:+0100
TZOFFSETTO:+0200
TZNAME:CEST
DTSTART:20250330T010000
END:DAYLIGHT
BEGIN:STANDARD
TZOFFSETFROM:+0200
TZOFFSETTO:+0100
TZNAME:CET
DTSTART:20251026T010000
END:STANDARD
END:VTIMEZONE
BEGIN:VEVENT
DTSTART;TZID=Europe/Berlin:20240525T083000
DTEND;TZID=Europe/Berlin:20240525T153000
DTSTAMP:20260421T181910
CREATED:20240508T161308Z
LAST-MODIFIED:20240508T162029Z
UID:10000842-1716625800-1716651000@hofohana.de
SUMMARY:Unterricht von E bis Grand Prix mit Falk Stankus
DESCRIPTION:Für Pferd-Mensch-Paare von E bis Grand Prix \nDiese Veranstaltung ist fast immer innerhalb kürzester Zeit ausgebucht. Wenn du dabei sein möchtest\, melde dich bitte trotzdem online an. Du kommst dann zwar erst einmal auf eine Warteliste\, aber wir versuchen\, dich dann bei einer der nächsten Termine zu berücksichtigen. In der Zwischenzeit empfehlen wir dir als Zuschauer vorbei zu kommen. Dein Unterricht bei Falk wird dann viel effizienter sein. Und nette Leute triffst du auch noch. \nFalk Stankus über sich:\n„Meine reiterliche Basis bis zu Grand-Prix-Erfolgen habe ich bei Franz-Martin Stankus gelernt\, sodass ich mit 15 Jahren erstmals in Dressuren der Klasse S ritt\, mit 18 Jahren meinen ersten Grand-Prix gewinnen konnte und zwei Jahre später das goldene Reitabzeichen verliehen bekam. Nach der Schule war ich ein Jahr in Warendorf bei der Sportfördergruppe und konnte in der Zeit die Voraussetzungen für die Aufnahme in den B2-Kader erzielen\, in dem ich drei Jahre Mitglied war. In dieser Zeit konnte ich mehrmals Landesmeister in S-H werden\, war mehrfach im Piaff-Förderpreisfinale platziert und habe zweimal an deutschen Meisterschaften teilgenommen.“ \nKlaus Balkenhol Über Falk Stankus:\n„Obwohl Herr Stankus zur ‚oberen Liga‘ gehört\, ist er aber auf dem Boden geblieben und widmet sich jeden Reiter und Pferd gleich\, egal auf welchem Niveau sie sich befinden und mit welcher Herausforderung sie zum Lehrgang erscheinen. Sein Motto lautet: ‚Jeder Reiter und jedes Pferd\, kann sich einen Schritt weiterentwickeln'“ \nVeranstalter: Falk Stankus. \nDie Plätze sind auf maximal 8 Teilnehmer pro Tag begrenzt und werden nach Zahlungseingang vergeben. \nWir nehmen dich gerne in unsere Falk-Stankus-WhatsApp-Gruppe auf\, damit du bei neuen Terminen schnellstmöglich buchen kannst: Mona 0151 58507711 \nPREISE:\n45 min. Einzelunterricht:\n96\,- € für Falk\n+ 10- € Anlagennutzung\n+ 10\,-€ Organisation für Hof Ohana\n= 116\,-€ \nZuschauer:\n15\,- € pro Person und Tag \nAlle Preise sind inklusive 19% Mehrwertsteuer. \nANMELDUNG:\nBitte online ausfüllen. Wir melden uns schnellst möglich bei dir. \nwww.hofohana.de/anmeldeformular
URL:https://hofohana.de/veranstaltung/unterricht-von-e-bis-grand-prix-mit-falk-stankus-9
LOCATION:Hof Ohana
CATEGORIES:Dressurreiten
ATTACH;FMTTYPE=image/jpeg:https://hofohana.de/wp-content/uploads/2024/05/15811_image_440778480_964221049016853_1222686138376838232_n.jpg
END:VEVENT
BEGIN:VEVENT
DTSTART;TZID=Europe/Berlin:20180318T100000
DTEND;TZID=Europe/Berlin:20180318T140000
DTSTAMP:20260421T181910
CREATED:20180308T134045Z
LAST-MODIFIED:20180308T134208Z
UID:10000605-1521367200-1521381600@hofohana.de
SUMMARY:Unterricht von E bis Grand Prix mit Falk Stankus
DESCRIPTION:Für Pferd-Mensch-Paare von E bis Grand Prix \nFalk Stankus über sich:\n„Meine reiterliche Basis bis zu Grand-Prix-Erfolgen habe ich bei Franz-Martin Stankus gelernt\, sodass ich mit 15 Jahren erstmals in Dressuren der Klasse S ritt\, mit 18 Jahren meinen ersten Grand-Prix gewinnen konnte und zwei Jahre später das goldene Reitabzeichen verliehen bekam. Nach der Schule war ich ein Jahr in Warendorf bei der Sportfördergruppe und konnte in der Zeit die Voraussetzungen für die Aufnahme in den B2-Kader erzielen\, in dem ich drei Jahre Mitglied war. In dieser Zeit konnte ich mehrmals Landesmeister in S-H werden\, war mehrfach im Piaff-Förderpreisfinale platziert und habe zweimal an deutschen Meisterschaften teilgenommen.“ \nKlaus Balkenhol Über Falk Stankus:\n„Obwohl Herr Stankus zur ‚oberen Liga‘ gehört\, ist er aber auf dem Boden geblieben und widmet sich jeden Reiter und Pferd gleich\, egal auf welchem Niveau sie sich befinden und mit welcher Herausforderung sie zum Lehrgang erscheinen. Sein Motto lautet: ‚Jeder Reiter und jedes Pferd\, kann sich einen Schritt weiterentwickeln'“ \nVeranstalter Falk Stankus. \nDas Anmeldeformular findet ihr unter Eintrittskarte.\nAnmeldung auch gerne per Sms/ WhatsApp unter:\n0151 58507711 \nPreise:\n50\,- € für 30 Minuten\n80\,- € für 45 Minuten\nzzgl. 15\,- € Anlagennutzung & Organisationsgebühr\n(Entfällt für Einsteller des Hof Ohana) \n10\,- € pro Zuschauer inkl. Kaffee & Tee
URL:https://hofohana.de/veranstaltung/unterricht-von-e-bis-grand-prix-mit-falk-stankus
LOCATION:Hof Ohana – Bildung für Mensch & Pferd\, Alte Landstraße 111 (Großes rotes Tor)\, Bargteheide\, Schleswig-Holstein\, 22941\, Deutschland
CATEGORIES:Dressurreiten
ATTACH;FMTTYPE=image/jpeg:https://hofohana.de/wp-content/uploads/2018/03/1912_image_28616545_1797671016949668_772054629290641567_o.jpg
END:VEVENT
BEGIN:VEVENT
DTSTART;TZID=Europe/Berlin:20180204T100000
DTEND;TZID=Europe/Berlin:20180204T140000
DTSTAMP:20260421T181910
CREATED:20180118T203850Z
LAST-MODIFIED:20180118T204948Z
UID:10000591-1517738400-1517752800@hofohana.de
SUMMARY:Individueller Unterricht von E bis Grand Prix mit Falk Stankus
DESCRIPTION:Für Pferd-Mensch-Paare von E bis Grand Prix \nFalk Stankus über sich:\n„Meine reiterliche Basis bis zu Grand-Prix-Erfolgen habe ich bei Franz-Martin Stankus gelernt\, sodass ich mit 15 Jahren erstmals in Dressuren der Klasse S ritt\, mit 18 Jahren meinen ersten Grand-Prix gewinnen konnte und zwei Jahre später das goldene Reitabzeichen verliehen bekam. Nach der Schule war ich ein Jahr in Warendorf bei der Sportfördergruppe und konnte in der Zeit die Voraussetzungen für die Aufnahme in den B2-Kader erzielen\, in dem ich drei Jahre Mitglied war. In dieser Zeit konnte ich mehrmals Landesmeister in S-H werden\, war mehrfach im Piaff-Förderpreisfinale platziert und habe zweimal an deutschen Meisterschaften teilgenommen.“ \nKlaus Balkenhol Über Falk Stankus:\n„Obwohl Herr Stankus zur ‚oberen Liga‘ gehört\, ist er aber auf dem Boden geblieben und widmet sich jeden Reiter und Pferd gleich\, egal auf welchem Niveau sie sich befinden und mit welcher Herausforderung sie zum Lehrgang erscheinen. Sein Motto lautet: ‚Jeder Reiter und jedes Pferd\, kann sich einen Schritt weiterentwickeln'“ \nVeranstalter Falk Stankus. \nDas Anmeldeformular findet ihr unter Eintrittskarte.\nAnmeldung auch gerne per Sms/ WhatsApp unter:\n0151 58507711 \nPreise:\n50\,- € für 30 Minuten\n80\,- € für 45 Minuten\nzzgl. 15\,- € Anlagennutzung & Organisationsgebühr\n(Entfällt für Einsteller des Hof Ohana) \n10\,- € pro Zuschauer inkl. Kaffee & Tee
URL:https://hofohana.de/veranstaltung/individueller-unterricht-von-e-bis-grand-prix-mit-falk-stankus-2
LOCATION:Hof Ohana – Bildung für Mensch & Pferd\, Alte Landstraße 111 (Großes rotes Tor)\, Bargteheide\, Schleswig-Holstein\, 22941\, Deutschland
CATEGORIES:Dressurreiten
ATTACH;FMTTYPE=image/jpeg:https://hofohana.de/wp-content/uploads/2018/01/1822_image_26841012_1745528898830547_8788988358157998903_o.jpg
END:VEVENT
END:VCALENDAR